BEGIN:VCALENDAR
VERSION:2.0
PRODID:-//Stayinmcallen - ECPv6.15.20//NONSGML v1.0//EN
CALSCALE:GREGORIAN
METHOD:PUBLISH
X-ORIGINAL-URL:https://stayinmcallen.com
X-WR-CALDESC:Events for Stayinmcallen
REFRESH-INTERVAL;VALUE=DURATION:PT1H
X-Robots-Tag:noindex
X-PUBLISHED-TTL:PT1H
BEGIN:VTIMEZONE
TZID:America/Chicago
BEGIN:DAYLIGHT
TZOFFSETFROM:-0600
TZOFFSETTO:-0500
TZNAME:CDT
DTSTART:20230312T080000
END:DAYLIGHT
BEGIN:STANDARD
TZOFFSETFROM:-0500
TZOFFSETTO:-0600
TZNAME:CST
DTSTART:20231105T070000
END:STANDARD
BEGIN:DAYLIGHT
TZOFFSETFROM:-0600
TZOFFSETTO:-0500
TZNAME:CDT
DTSTART:20240310T080000
END:DAYLIGHT
BEGIN:STANDARD
TZOFFSETFROM:-0500
TZOFFSETTO:-0600
TZNAME:CST
DTSTART:20241103T070000
END:STANDARD
BEGIN:DAYLIGHT
TZOFFSETFROM:-0600
TZOFFSETTO:-0500
TZNAME:CDT
DTSTART:20250309T080000
END:DAYLIGHT
BEGIN:STANDARD
TZOFFSETFROM:-0500
TZOFFSETTO:-0600
TZNAME:CST
DTSTART:20251102T070000
END:STANDARD
END:VTIMEZONE
BEGIN:VEVENT
DTSTART;VALUE=DATE:20241009
DTEND;VALUE=DATE:20241014
DTSTAMP:20260425T190632
CREATED:20240830T140825Z
LAST-MODIFIED:20241004T155113Z
UID:10001122-1728500400-1728845999@stayinmcallen.com
SUMMARY:UTRGV Women's Tennis vs ITA Texas Regional
DESCRIPTION:UTRGV Women’s Tennis vs ITA Texas Regional
URL:https://stayinmcallen.com/events/utrgv-womens-tennis-vs-ita-texas-regional/
LOCATION:Fort Worth\, TX
CATEGORIES:UTRGV Athletics
END:VEVENT
BEGIN:VEVENT
DTSTART;TZID=America/Chicago:20241013T120000
DTEND;TZID=America/Chicago:20241013T140000
DTSTAMP:20260425T190632
CREATED:20240719T123836Z
LAST-MODIFIED:20241011T160528Z
UID:10000831-1728820800-1728828000@stayinmcallen.com
SUMMARY:UTRGV Men's Soccer vs Air Force
DESCRIPTION:UTRGV Men’s Soccer vs Air Force\nTV: ESPN+ (USA) | WAC International\nStreaming Video: http://plus.espn.com/\nTickets: https://www.showpass.com/2024-2025-soccer-season-pass/
URL:https://stayinmcallen.com/events/utrgv-mens-soccer-vs-air-force/
LOCATION:Edinburg\, TX\, UTRGV Soccer and Track & Field Complex
CATEGORIES:UTRGV Athletics
END:VEVENT
END:VCALENDAR