BEGIN:VCALENDAR
VERSION:2.0
PRODID:-//Stayinmcallen - ECPv6.15.20//NONSGML v1.0//EN
CALSCALE:GREGORIAN
METHOD:PUBLISH
X-ORIGINAL-URL:https://stayinmcallen.com
X-WR-CALDESC:Events for Stayinmcallen
REFRESH-INTERVAL;VALUE=DURATION:PT1H
X-Robots-Tag:noindex
X-PUBLISHED-TTL:PT1H
BEGIN:VTIMEZONE
TZID:America/Chicago
BEGIN:DAYLIGHT
TZOFFSETFROM:-0600
TZOFFSETTO:-0500
TZNAME:CDT
DTSTART:20230312T080000
END:DAYLIGHT
BEGIN:STANDARD
TZOFFSETFROM:-0500
TZOFFSETTO:-0600
TZNAME:CST
DTSTART:20231105T070000
END:STANDARD
BEGIN:DAYLIGHT
TZOFFSETFROM:-0600
TZOFFSETTO:-0500
TZNAME:CDT
DTSTART:20240310T080000
END:DAYLIGHT
BEGIN:STANDARD
TZOFFSETFROM:-0500
TZOFFSETTO:-0600
TZNAME:CST
DTSTART:20241103T070000
END:STANDARD
BEGIN:DAYLIGHT
TZOFFSETFROM:-0600
TZOFFSETTO:-0500
TZNAME:CDT
DTSTART:20250309T080000
END:DAYLIGHT
BEGIN:STANDARD
TZOFFSETFROM:-0500
TZOFFSETTO:-0600
TZNAME:CST
DTSTART:20251102T070000
END:STANDARD
END:VTIMEZONE
BEGIN:VEVENT
DTSTART;TZID=America/Chicago:20241024T120000
DTEND;TZID=America/Chicago:20241024T140000
DTSTAMP:20260425T190529
CREATED:20240712T122259Z
LAST-MODIFIED:20241018T162052Z
UID:10000761-1729771200-1729778400@stayinmcallen.com
SUMMARY:UTRGV Volleyball vs McNeese - School Day\, presented by Whataburger
DESCRIPTION:UTRGV Volleyball vs McNeese – School Day\, presented by Whataburger TV: ESPN+ (USA) | Southland International Streaming Video: http://plus.espn.com/ Tickets: https://www.showpass.com/2024-2025-volleyball-season-tickets/
URL:https://stayinmcallen.com/events/utrgv-volleyball-vs-mcneese/
LOCATION:Edinburg\, TX\, UTRGV Fieldhouse
CATEGORIES:UTRGV Athletics
END:VEVENT
BEGIN:VEVENT
DTSTART;TZID=America/Chicago:20241024T183000
DTEND;TZID=America/Chicago:20241024T203000
DTSTAMP:20260425T190529
CREATED:20240719T123915Z
LAST-MODIFIED:20241018T162105Z
UID:10000834-1729794600-1729801800@stayinmcallen.com
SUMMARY:UTRGV Men's Soccer vs San Diego State
DESCRIPTION:UTRGV Men’s Soccer vs San Diego State\nTV: ESPN+ (USA) | WAC International\nStreaming Video: http://plus.espn.com/\nTickets: https://www.showpass.com/2024-2025-soccer-season-pass/
URL:https://stayinmcallen.com/events/utrgv-mens-soccer-vs-san-diego-state/
LOCATION:Edinburg\, TX\, UTRGV Soccer and Track & Field Complex
CATEGORIES:UTRGV Athletics
END:VEVENT
BEGIN:VEVENT
DTSTART;VALUE=DATE:20241024
DTEND;VALUE=DATE:20241026
DTSTAMP:20260425T190529
CREATED:20240802T131000Z
LAST-MODIFIED:20241025T165510Z
UID:10000997-1729796400-1729882799@stayinmcallen.com
SUMMARY:UTRGV Men's Golf  Monterrey Collegiate Classic
DESCRIPTION:UTRGV Men’s Golf  Monterrey Collegiate Classic
URL:https://stayinmcallen.com/events/utrgv-mens-golf-monterrey-collegiate-classic/
LOCATION:Monterrey\, Mexico
CATEGORIES:UTRGV Athletics
END:VEVENT
BEGIN:VEVENT
DTSTART;VALUE=DATE:20241024
DTEND;VALUE=DATE:20241026
DTSTAMP:20260425T190529
CREATED:20240802T131006Z
LAST-MODIFIED:20240802T131006Z
UID:10000998-1729796400-1729882799@stayinmcallen.com
SUMMARY:UTRGV Women's Golf  Texas A&M-Corpus Christi Match Play
DESCRIPTION:UTRGV Women’s Golf  Texas A&M-Corpus Christi Match Play\n https://goutrgv.com/calendar.aspx?game_id=27597&sport_id=9
URL:https://stayinmcallen.com/events/utrgv-womens-golf-texas-am-corpus-christi-match-play-4/
LOCATION:Corpus Christi\, TX
CATEGORIES:UTRGV Athletics
END:VEVENT
BEGIN:VEVENT
DTSTART;VALUE=DATE:20241024
DTEND;VALUE=DATE:20241026
DTSTAMP:20260425T190529
CREATED:20240802T131014Z
LAST-MODIFIED:20240802T131014Z
UID:10000999-1729796400-1729882799@stayinmcallen.com
SUMMARY:UTRGV Men's Golf  Monterrey Collegiate Classic
DESCRIPTION:UTRGV Men’s Golf  Monterrey Collegiate Classic\n https://goutrgv.com/calendar.aspx?game_id=27625&sport_id=5
URL:https://stayinmcallen.com/events/utrgv-mens-golf-monterrey-collegiate-classic-2/
LOCATION:Washington\, D.C
CATEGORIES:UTRGV Athletics
END:VEVENT
BEGIN:VEVENT
DTSTART;VALUE=DATE:20241024
DTEND;VALUE=DATE:20241027
DTSTAMP:20260425T190529
CREATED:20240830T140928Z
LAST-MODIFIED:20241018T162119Z
UID:10001123-1729796400-1729969199@stayinmcallen.com
SUMMARY:UTRGV Women's Tennis vs SLC Fall Championship
DESCRIPTION:UTRGV Women’s Tennis vs SLC Fall Championship
URL:https://stayinmcallen.com/events/utrgv-womens-tennis-vs-slc-fall-championship/
LOCATION:Hammond\, LA
CATEGORIES:UTRGV Athletics
END:VEVENT
BEGIN:VEVENT
DTSTART;VALUE=DATE:20241024
DTEND;VALUE=DATE:20241027
DTSTAMP:20260425T190529
CREATED:20240830T140933Z
LAST-MODIFIED:20241025T165506Z
UID:10001124-1729796400-1729969199@stayinmcallen.com
SUMMARY:UTRGV Women's Tennis at Bearkat Invite
DESCRIPTION:UTRGV Women’s Tennis at Bearkat Invite
URL:https://stayinmcallen.com/events/utrgv-womens-tennis-at-bearkat-invite/
LOCATION:Huntsville\, TX
CATEGORIES:UTRGV Athletics
END:VEVENT
BEGIN:VEVENT
DTSTART;VALUE=DATE:20241024
DTEND;VALUE=DATE:20241027
DTSTAMP:20260425T190529
CREATED:20240830T140959Z
LAST-MODIFIED:20240830T140959Z
UID:10001126-1729796400-1729969199@stayinmcallen.com
SUMMARY:UTRGV Women's Tennis at Bearkat Invite
DESCRIPTION:UTRGV Women’s Tennis at Bearkat Invite
URL:https://stayinmcallen.com/events/utrgv-womens-tennis-at-bearkat-invite-2/
LOCATION:Huntsville\, TX
CATEGORIES:UTRGV Athletics
END:VEVENT
BEGIN:VEVENT
DTSTART;VALUE=DATE:20241024
DTEND;VALUE=DATE:20241027
DTSTAMP:20260425T190529
CREATED:20240906T142417Z
LAST-MODIFIED:20241025T165515Z
UID:10001172-1729796400-1729969199@stayinmcallen.com
SUMMARY:UTRGV Men's Tennis vs SLC Fall Championship
DESCRIPTION:UTRGV Men’s Tennis vs SLC Fall Championship
URL:https://stayinmcallen.com/events/utrgv-mens-tennis-vs-slc-fall-championship/
LOCATION:Hammond\, LA
CATEGORIES:UTRGV Athletics
END:VEVENT
END:VCALENDAR