BEGIN:VCALENDAR
VERSION:2.0
PRODID:-//Stayinmcallen - ECPv6.15.20//NONSGML v1.0//EN
CALSCALE:GREGORIAN
METHOD:PUBLISH
X-ORIGINAL-URL:https://stayinmcallen.com
X-WR-CALDESC:Events for Stayinmcallen
REFRESH-INTERVAL;VALUE=DURATION:PT1H
X-Robots-Tag:noindex
X-PUBLISHED-TTL:PT1H
BEGIN:VTIMEZONE
TZID:America/Chicago
BEGIN:DAYLIGHT
TZOFFSETFROM:-0600
TZOFFSETTO:-0500
TZNAME:CDT
DTSTART:20230312T080000
END:DAYLIGHT
BEGIN:STANDARD
TZOFFSETFROM:-0500
TZOFFSETTO:-0600
TZNAME:CST
DTSTART:20231105T070000
END:STANDARD
BEGIN:DAYLIGHT
TZOFFSETFROM:-0600
TZOFFSETTO:-0500
TZNAME:CDT
DTSTART:20240310T080000
END:DAYLIGHT
BEGIN:STANDARD
TZOFFSETFROM:-0500
TZOFFSETTO:-0600
TZNAME:CST
DTSTART:20241103T070000
END:STANDARD
BEGIN:DAYLIGHT
TZOFFSETFROM:-0600
TZOFFSETTO:-0500
TZNAME:CDT
DTSTART:20250309T080000
END:DAYLIGHT
BEGIN:STANDARD
TZOFFSETFROM:-0500
TZOFFSETTO:-0600
TZNAME:CST
DTSTART:20251102T070000
END:STANDARD
END:VTIMEZONE
BEGIN:VEVENT
DTSTART;TZID=America/Chicago:20241102T100000
DTEND;TZID=America/Chicago:20241102T120000
DTSTAMP:20260425T172817
CREATED:20241011T160732Z
LAST-MODIFIED:20241101T171525Z
UID:10001252-1730541600-1730548800@stayinmcallen.com
SUMMARY:UTRGV Camps  Free Brownsville Tennis Clinic
DESCRIPTION:UTRGV Camps  Free Brownsville Tennis Clinic
URL:https://stayinmcallen.com/events/utrgv-camps-free-brownsville-tennis-clinic/
LOCATION:Brownsville\, TX\, Brownsville Tennis Center
CATEGORIES:UTRGV Athletics
END:VEVENT
BEGIN:VEVENT
DTSTART;TZID=America/Chicago:20241102T110000
DTEND;TZID=America/Chicago:20241102T130000
DTSTAMP:20260425T172817
CREATED:20240712T122332Z
LAST-MODIFIED:20241101T171530Z
UID:10000764-1730545200-1730552400@stayinmcallen.com
SUMMARY:UTRGV Volleyball at Lamar
DESCRIPTION:UTRGV Volleyball at Lamar\nTV: ESPN+ (USA) | Southland International\nStreaming Video: http://plus.espn.com/
URL:https://stayinmcallen.com/events/utrgv-volleyball-at-lamar/
LOCATION:Beaumont\, TX
CATEGORIES:UTRGV Athletics
END:VEVENT
BEGIN:VEVENT
DTSTART;TZID=America/Chicago:20241102T110000
DTEND;TZID=America/Chicago:20241102T130000
DTSTAMP:20260425T172817
CREATED:20240712T122344Z
LAST-MODIFIED:20240712T122344Z
UID:10000767-1730545200-1730552400@stayinmcallen.com
SUMMARY:UTRGV Volleyball at Lamar
DESCRIPTION:UTRGV Volleyball at Lamar\nStreaming Video: http://plus.espn.com/\n https://goutrgv.com/calendar.aspx?game_id=27466&sport_id=12
URL:https://stayinmcallen.com/events/utrgv-volleyball-at-lamar-2/
LOCATION:Beaumont\, TX
CATEGORIES:UTRGV Athletics
END:VEVENT
END:VCALENDAR