BEGIN:VCALENDAR
VERSION:2.0
PRODID:-//Stayinmcallen - ECPv6.15.20//NONSGML v1.0//EN
CALSCALE:GREGORIAN
METHOD:PUBLISH
X-ORIGINAL-URL:https://stayinmcallen.com
X-WR-CALDESC:Events for Stayinmcallen
REFRESH-INTERVAL;VALUE=DURATION:PT1H
X-Robots-Tag:noindex
X-PUBLISHED-TTL:PT1H
BEGIN:VTIMEZONE
TZID:America/Chicago
BEGIN:DAYLIGHT
TZOFFSETFROM:-0600
TZOFFSETTO:-0500
TZNAME:CDT
DTSTART:20230312T080000
END:DAYLIGHT
BEGIN:STANDARD
TZOFFSETFROM:-0500
TZOFFSETTO:-0600
TZNAME:CST
DTSTART:20231105T070000
END:STANDARD
BEGIN:DAYLIGHT
TZOFFSETFROM:-0600
TZOFFSETTO:-0500
TZNAME:CDT
DTSTART:20240310T080000
END:DAYLIGHT
BEGIN:STANDARD
TZOFFSETFROM:-0500
TZOFFSETTO:-0600
TZNAME:CST
DTSTART:20241103T070000
END:STANDARD
BEGIN:DAYLIGHT
TZOFFSETFROM:-0600
TZOFFSETTO:-0500
TZNAME:CDT
DTSTART:20250309T080000
END:DAYLIGHT
BEGIN:STANDARD
TZOFFSETFROM:-0500
TZOFFSETTO:-0600
TZNAME:CST
DTSTART:20251102T070000
END:STANDARD
END:VTIMEZONE
BEGIN:VEVENT
DTSTART;TZID=America/Chicago:20241207T140000
DTEND;TZID=America/Chicago:20241207T160000
DTSTAMP:20260425T155732
CREATED:20240719T124227Z
LAST-MODIFIED:20241206T183016Z
UID:10000851-1733580000-1733587200@stayinmcallen.com
SUMMARY:UTRGV Women's Basketball vs Stephen F. Austin
DESCRIPTION:UTRGV Women’s Basketball vs Stephen F. Austin\nTV: ESPN+ (USA) | Southland International\nStreaming Video: http://plus.espn.com/\nTickets: https://www.showpass.com/o/university-of-texas-rio-grande-valley-utrgv/
URL:https://stayinmcallen.com/events/utrgv-womens-basketball-vs-stephen-f-austin-3/
LOCATION:Edinburg\, TX\, UTRGV Fieldhouse
CATEGORIES:UTRGV Athletics
END:VEVENT
BEGIN:VEVENT
DTSTART;TZID=America/Chicago:20241207T163000
DTEND;TZID=America/Chicago:20241207T183000
DTSTAMP:20260425T155732
CREATED:20240719T124233Z
LAST-MODIFIED:20241206T183020Z
UID:10000852-1733589000-1733596200@stayinmcallen.com
SUMMARY:UTRGV Men's Basketball vs Lamar
DESCRIPTION:UTRGV Men’s Basketball vs Lamar\nTV: ESPN+ (USA) | Southland International\nStreaming Video: http://plus.espn.com/\nTickets: https://www.showpass.com/o/university-of-texas-rio-grande-valley-utrgv/
URL:https://stayinmcallen.com/events/utrgv-mens-basketball-vs-lamar/
LOCATION:Edinburg\, TX\, UTRGV Fieldhouse
CATEGORIES:UTRGV Athletics
END:VEVENT
BEGIN:VEVENT
DTSTART;TZID=America/Chicago:20241207T163000
DTEND;TZID=America/Chicago:20241207T183000
DTSTAMP:20260425T155732
CREATED:20240719T124306Z
LAST-MODIFIED:20240719T124306Z
UID:10000856-1733589000-1733596200@stayinmcallen.com
SUMMARY:UTRGV Men's Basketball vs Lamar
DESCRIPTION:UTRGV Men’s Basketball vs Lamar\nTV: ESPN+ (USA)\nStreaming Video: http://plus.espn.com/\nTickets: https://www.showpass.com/o/university-of-texas-rio-grande-valley-utrgv/\n https://goutrgv.com/calendar.aspx?game_id=27530&sport_id=3
URL:https://stayinmcallen.com/events/utrgv-mens-basketball-vs-lamar-2/
LOCATION:Edinburg\, TX\, UTRGV Fieldhouse
CATEGORIES:UTRGV Athletics
END:VEVENT
END:VCALENDAR