BEGIN:VCALENDAR
VERSION:2.0
PRODID:-//Stayinmcallen - ECPv6.15.20//NONSGML v1.0//EN
CALSCALE:GREGORIAN
METHOD:PUBLISH
X-ORIGINAL-URL:https://stayinmcallen.com
X-WR-CALDESC:Events for Stayinmcallen
REFRESH-INTERVAL;VALUE=DURATION:PT1H
X-Robots-Tag:noindex
X-PUBLISHED-TTL:PT1H
BEGIN:VTIMEZONE
TZID:America/Chicago
BEGIN:DAYLIGHT
TZOFFSETFROM:-0600
TZOFFSETTO:-0500
TZNAME:CDT
DTSTART:20240310T080000
END:DAYLIGHT
BEGIN:STANDARD
TZOFFSETFROM:-0500
TZOFFSETTO:-0600
TZNAME:CST
DTSTART:20241103T070000
END:STANDARD
BEGIN:DAYLIGHT
TZOFFSETFROM:-0600
TZOFFSETTO:-0500
TZNAME:CDT
DTSTART:20250309T080000
END:DAYLIGHT
BEGIN:STANDARD
TZOFFSETFROM:-0500
TZOFFSETTO:-0600
TZNAME:CST
DTSTART:20251102T070000
END:STANDARD
BEGIN:DAYLIGHT
TZOFFSETFROM:-0600
TZOFFSETTO:-0500
TZNAME:CDT
DTSTART:20260308T080000
END:DAYLIGHT
BEGIN:STANDARD
TZOFFSETFROM:-0500
TZOFFSETTO:-0600
TZNAME:CST
DTSTART:20261101T070000
END:STANDARD
END:VTIMEZONE
BEGIN:VEVENT
DTSTART;TZID=America/Chicago:20250223T120000
DTEND;TZID=America/Chicago:20250223T150000
DTSTAMP:20260425T063459
CREATED:20241122T180606Z
LAST-MODIFIED:20250221T223239Z
UID:10001364-1740312000-1740322800@stayinmcallen.com
SUMMARY:UTRGV Baseball vs North Dakota State - Presented by Main Event • Yacht Rock Day • Family Fun Day: 4 for $44
DESCRIPTION:UTRGV Baseball vs North Dakota State – Presented by Main Event • Yacht Rock Day • Family Fun Day: 4 for $44\nTV: ESPN+ (USA) | Southland International\nStreaming Video: http://www.southland.org/espn\nTickets: http://utrgvtickets.com/
URL:https://stayinmcallen.com/events/utrgv-baseball-vs-north-dakota-state-3/
LOCATION:Edinburg\, TX\, UTRGV Baseball Stadium
CATEGORIES:UTRGV Athletics
END:VEVENT
BEGIN:VEVENT
DTSTART;TZID=America/Chicago:20250223T120000
DTEND;TZID=America/Chicago:20250223T150000
DTSTAMP:20260425T063459
CREATED:20241122T180634Z
LAST-MODIFIED:20241122T180634Z
UID:10001367-1740312000-1740322800@stayinmcallen.com
SUMMARY:UTRGV Baseball vs North Dakota State
DESCRIPTION:UTRGV Baseball vs North Dakota State\nTV: ESPN+ (USA) | Southland International\nStreaming Video: http://www.southland.org/espn\nTickets: http://utrgvtickets.com/
URL:https://stayinmcallen.com/events/utrgv-baseball-vs-north-dakota-state-5/
LOCATION:Edinburg\, TX\, UTRGV Baseball Stadium
CATEGORIES:UTRGV Athletics
END:VEVENT
BEGIN:VEVENT
DTSTART;TZID=America/Chicago:20250223T120000
DTEND;TZID=America/Chicago:20250223T150000
DTSTAMP:20260425T063459
CREATED:20241213T185107Z
LAST-MODIFIED:20250221T223244Z
UID:10001531-1740312000-1740322800@stayinmcallen.com
SUMMARY:UTRGV Women's Tennis at Texas State
DESCRIPTION:UTRGV Women’s Tennis at Texas State
URL:https://stayinmcallen.com/events/utrgv-womens-tennis-at-texas-state/
LOCATION:San Marcos\, TX
CATEGORIES:UTRGV Athletics
END:VEVENT
BEGIN:VEVENT
DTSTART;VALUE=DATE:20250223
DTEND;VALUE=DATE:20250225
DTSTAMP:20260425T063459
CREATED:20240719T124656Z
LAST-MODIFIED:20240719T124656Z
UID:10000906-1740333600-1740419999@stayinmcallen.com
SUMMARY:UTRGV Men's Basketball at McNeese
DESCRIPTION:UTRGV Men’s Basketball at McNeese\nTV: ESPN+ (USA)\nStreaming Video: http://plus.espn.com/\n https://goutrgv.com/calendar.aspx?game_id=27546&sport_id=3
URL:https://stayinmcallen.com/events/utrgv-mens-basketball-at-mcneese-2/
LOCATION:Lake Charles\, LA
CATEGORIES:UTRGV Athletics
END:VEVENT
END:VCALENDAR