BEGIN:VCALENDAR
VERSION:2.0
PRODID:-//Stayinmcallen - ECPv6.15.20//NONSGML v1.0//EN
CALSCALE:GREGORIAN
METHOD:PUBLISH
X-ORIGINAL-URL:https://stayinmcallen.com
X-WR-CALDESC:Events for Stayinmcallen
REFRESH-INTERVAL;VALUE=DURATION:PT1H
X-Robots-Tag:noindex
X-PUBLISHED-TTL:PT1H
BEGIN:VTIMEZONE
TZID:America/Chicago
BEGIN:DAYLIGHT
TZOFFSETFROM:-0600
TZOFFSETTO:-0500
TZNAME:CDT
DTSTART:20240310T080000
END:DAYLIGHT
BEGIN:STANDARD
TZOFFSETFROM:-0500
TZOFFSETTO:-0600
TZNAME:CST
DTSTART:20241103T070000
END:STANDARD
BEGIN:DAYLIGHT
TZOFFSETFROM:-0600
TZOFFSETTO:-0500
TZNAME:CDT
DTSTART:20250309T080000
END:DAYLIGHT
BEGIN:STANDARD
TZOFFSETFROM:-0500
TZOFFSETTO:-0600
TZNAME:CST
DTSTART:20251102T070000
END:STANDARD
BEGIN:DAYLIGHT
TZOFFSETFROM:-0600
TZOFFSETTO:-0500
TZNAME:CDT
DTSTART:20260308T080000
END:DAYLIGHT
BEGIN:STANDARD
TZOFFSETFROM:-0500
TZOFFSETTO:-0600
TZNAME:CST
DTSTART:20261101T070000
END:STANDARD
END:VTIMEZONE
BEGIN:VEVENT
DTSTART;VALUE=DATE:20250310
DTEND;VALUE=DATE:20250312
DTSTAMP:20260425T045341
CREATED:20240719T124723Z
LAST-MODIFIED:20250228T225022Z
UID:10000912-1741633200-1741719599@stayinmcallen.com
SUMMARY:UTRGV Men's Basketball vs Semifinals
DESCRIPTION:UTRGV Men’s Basketball vs Semifinals\nTV: ESPN+ (USA) | Southland International\nStreaming Video: http://plus.espn.com/
URL:https://stayinmcallen.com/events/utrgv-mens-basketball-vs-semifinals/
LOCATION:Lake Charles\, LA
CATEGORIES:UTRGV Athletics
END:VEVENT
BEGIN:VEVENT
DTSTART;TZID=America/Chicago:20250311T133000
DTEND;TZID=America/Chicago:20250311T153000
DTSTAMP:20260425T045341
CREATED:20240719T124717Z
LAST-MODIFIED:20250307T230322Z
UID:10000911-1741699800-1741707000@stayinmcallen.com
SUMMARY:UTRGV Women's Basketball vs Stephen F. Austin
DESCRIPTION:UTRGV Women’s Basketball vs Stephen F. Austin\nTV: ESPN+ (USA) | Southland International\nStreaming Video: http://plus.espn.com/
URL:https://stayinmcallen.com/events/utrgv-womens-basketball-vs-quarterfinals-4/
LOCATION:Lake Charles\, LA
CATEGORIES:UTRGV Athletics
END:VEVENT
BEGIN:VEVENT
DTSTART;TZID=America/Chicago:20250311T180000
DTEND;TZID=America/Chicago:20250311T210000
DTSTAMP:20260425T045341
CREATED:20241122T180746Z
LAST-MODIFIED:20250307T230326Z
UID:10001377-1741716000-1741726800@stayinmcallen.com
SUMMARY:UTRGV Baseball at Southern Mississippi
DESCRIPTION:UTRGV Baseball at Southern Mississippi\nTV: ESPN+\nStreaming Video: https://plus.espn.com/
URL:https://stayinmcallen.com/events/utrgv-baseball-at-southern-mississippi/
LOCATION:Hattiesburg\, MS
CATEGORIES:UTRGV Athletics
END:VEVENT
BEGIN:VEVENT
DTSTART;VALUE=DATE:20250311
DTEND;VALUE=DATE:20250313
DTSTAMP:20260425T045341
CREATED:20240719T124756Z
LAST-MODIFIED:20240719T124756Z
UID:10000916-1741719600-1741805999@stayinmcallen.com
SUMMARY:UTRGV Men's Basketball vs Championship
DESCRIPTION:UTRGV Men’s Basketball vs Championship\nStreaming Video: http://plus.espn.com/\n https://goutrgv.com/calendar.aspx?game_id=27552&sport_id=3
URL:https://stayinmcallen.com/events/utrgv-mens-basketball-vs-championship-2/
LOCATION:Lake Charles\, LA
CATEGORIES:UTRGV Athletics
END:VEVENT
BEGIN:VEVENT
DTSTART;VALUE=DATE:20250311
DTEND;VALUE=DATE:20250313
DTSTAMP:20260425T045341
CREATED:20240719T124802Z
LAST-MODIFIED:20240719T124802Z
UID:10000917-1741719600-1741805999@stayinmcallen.com
SUMMARY:UTRGV Women's Basketball vs Semifinals
DESCRIPTION:UTRGV Women’s Basketball vs Semifinals\n https://goutrgv.com/calendar.aspx?game_id=27527&sport_id=8
URL:https://stayinmcallen.com/events/utrgv-womens-basketball-vs-semifinals-5/
LOCATION:Lake Charles\, LA
CATEGORIES:UTRGV Athletics
END:VEVENT
END:VCALENDAR