BEGIN:VCALENDAR
VERSION:2.0
PRODID:-//Stayinmcallen - ECPv6.15.20//NONSGML v1.0//EN
CALSCALE:GREGORIAN
METHOD:PUBLISH
X-ORIGINAL-URL:https://stayinmcallen.com
X-WR-CALDESC:Events for Stayinmcallen
REFRESH-INTERVAL;VALUE=DURATION:PT1H
X-Robots-Tag:noindex
X-PUBLISHED-TTL:PT1H
BEGIN:VTIMEZONE
TZID:America/Chicago
BEGIN:DAYLIGHT
TZOFFSETFROM:-0600
TZOFFSETTO:-0500
TZNAME:CDT
DTSTART:20240310T080000
END:DAYLIGHT
BEGIN:STANDARD
TZOFFSETFROM:-0500
TZOFFSETTO:-0600
TZNAME:CST
DTSTART:20241103T070000
END:STANDARD
BEGIN:DAYLIGHT
TZOFFSETFROM:-0600
TZOFFSETTO:-0500
TZNAME:CDT
DTSTART:20250309T080000
END:DAYLIGHT
BEGIN:STANDARD
TZOFFSETFROM:-0500
TZOFFSETTO:-0600
TZNAME:CST
DTSTART:20251102T070000
END:STANDARD
BEGIN:DAYLIGHT
TZOFFSETFROM:-0600
TZOFFSETTO:-0500
TZNAME:CDT
DTSTART:20260308T080000
END:DAYLIGHT
BEGIN:STANDARD
TZOFFSETFROM:-0500
TZOFFSETTO:-0600
TZNAME:CST
DTSTART:20261101T070000
END:STANDARD
END:VTIMEZONE
BEGIN:VEVENT
DTSTART;VALUE=DATE:20250530
DTEND;VALUE=DATE:20250601
DTSTAMP:20260424T221634
CREATED:20241122T181223Z
LAST-MODIFIED:20250524T020417Z
UID:10001423-1748631600-1748717999@stayinmcallen.com
SUMMARY:UTRGV Baseball vs NCAA Regionals Second Round
DESCRIPTION:UTRGV Baseball vs NCAA Regionals Second Round\nTV: ESPN Family of Networks\nStreaming Video: https://plus.espn.com/
URL:https://stayinmcallen.com/events/utrgv-baseball-vs-ncaa-regionals-second-round-2/
LOCATION:Campus Sites
CATEGORIES:UTRGV Athletics
END:VEVENT
BEGIN:VEVENT
DTSTART;TZID=America/Chicago:20250531T153000
DTEND;TZID=America/Chicago:20250531T183000
DTSTAMP:20260424T221634
CREATED:20250524T020346Z
LAST-MODIFIED:20250531T021825Z
UID:10002519-1748705400-1748716200@stayinmcallen.com
SUMMARY:UTRGV Women's Track & Field  High Jump Semifinal
DESCRIPTION:UTRGV Women’s Track & Field  High Jump Semifinal\nTV: ESPN+ (USA)\nStreaming Video: https://www.espn.com/watch/player/_/id/59274d00-fcf8-44d1-b244-13af82e4f39a
URL:https://stayinmcallen.com/events/utrgv-womens-track-field-high-jump-semifinal/
LOCATION:Bryan-College Station\, TX
CATEGORIES:UTRGV Athletics
END:VEVENT
BEGIN:VEVENT
DTSTART;TZID=America/Chicago:20250531T153000
DTEND;TZID=America/Chicago:20250531T183000
DTSTAMP:20260424T221634
CREATED:20250524T020346Z
LAST-MODIFIED:20250524T020346Z
UID:10002521-1748705400-1748716200@stayinmcallen.com
SUMMARY:UTRGV Women's Track & Field  High Jump Semifinal
DESCRIPTION:UTRGV Women’s Track & Field  High Jump Semifinal\nTV: ESPN+ (USA)\nStreaming Video: https://www.espn.com/watch/player/_/id/59274d00-fcf8-44d1-b244-13af82e4f39a
URL:https://stayinmcallen.com/events/utrgv-womens-track-field-high-jump-semifinal-2/
LOCATION:Bryan-College Station\, TX
CATEGORIES:UTRGV Athletics
END:VEVENT
BEGIN:VEVENT
DTSTART;TZID=America/Chicago:20250531T183500
DTEND;TZID=America/Chicago:20250531T213500
DTSTAMP:20260424T221634
CREATED:20250524T020400Z
LAST-MODIFIED:20250524T020413Z
UID:10002522-1748716500-1748727300@stayinmcallen.com
SUMMARY:UTRGV Women's Track & Field  100-meter Dash Quarterfinals
DESCRIPTION:UTRGV Women’s Track & Field  100-meter Dash Quarterfinals\nTV: ESPN+ (USA)\nStreaming Video: https://www.espn.com/watch/player/_/id/59274d00-fcf8-44d1-b244-13af82e4f39a
URL:https://stayinmcallen.com/events/utrgv-womens-track-field-100-meter-dash-quarterfinals/
LOCATION:Bryan-College Station\, TX
CATEGORIES:UTRGV Athletics
END:VEVENT
BEGIN:VEVENT
DTSTART;VALUE=DATE:20250531
DTEND;VALUE=DATE:20250602
DTSTAMP:20260424T221634
CREATED:20241122T181229Z
LAST-MODIFIED:20250524T020421Z
UID:10001424-1748718000-1748804399@stayinmcallen.com
SUMMARY:UTRGV Baseball vs NCAA Regionals Elimination Game
DESCRIPTION:UTRGV Baseball vs NCAA Regionals Elimination Game\nTV: ESPN Family of Networks\nStreaming Video: https://plus.espn.com/
URL:https://stayinmcallen.com/events/utrgv-baseball-vs-ncaa-regionals-elimination-game/
LOCATION:Campus Sites
CATEGORIES:UTRGV Athletics
END:VEVENT
BEGIN:VEVENT
DTSTART;VALUE=DATE:20250531
DTEND;VALUE=DATE:20250602
DTSTAMP:20260424T221634
CREATED:20241122T181234Z
LAST-MODIFIED:20250524T020355Z
UID:10001425-1748718000-1748804399@stayinmcallen.com
SUMMARY:UTRGV Baseball vs NCAA Regionals Championship Game
DESCRIPTION:UTRGV Baseball vs NCAA Regionals Championship Game\nTV: ESPN Family of Networks\nStreaming Video: https://plus.espn.com/
URL:https://stayinmcallen.com/events/utrgv-baseball-vs-ncaa-regionals-championship-game-2/
LOCATION:Campus Sites
CATEGORIES:UTRGV Athletics
END:VEVENT
END:VCALENDAR