BEGIN:VCALENDAR
VERSION:2.0
PRODID:-//Stayinmcallen - ECPv6.15.20//NONSGML v1.0//EN
CALSCALE:GREGORIAN
METHOD:PUBLISH
X-ORIGINAL-URL:https://stayinmcallen.com
X-WR-CALDESC:Events for Stayinmcallen
REFRESH-INTERVAL;VALUE=DURATION:PT1H
X-Robots-Tag:noindex
X-PUBLISHED-TTL:PT1H
BEGIN:VTIMEZONE
TZID:America/Chicago
BEGIN:DAYLIGHT
TZOFFSETFROM:-0600
TZOFFSETTO:-0500
TZNAME:CDT
DTSTART:20240310T080000
END:DAYLIGHT
BEGIN:STANDARD
TZOFFSETFROM:-0500
TZOFFSETTO:-0600
TZNAME:CST
DTSTART:20241103T070000
END:STANDARD
BEGIN:DAYLIGHT
TZOFFSETFROM:-0600
TZOFFSETTO:-0500
TZNAME:CDT
DTSTART:20250309T080000
END:DAYLIGHT
BEGIN:STANDARD
TZOFFSETFROM:-0500
TZOFFSETTO:-0600
TZNAME:CST
DTSTART:20251102T070000
END:STANDARD
BEGIN:DAYLIGHT
TZOFFSETFROM:-0600
TZOFFSETTO:-0500
TZNAME:CDT
DTSTART:20260308T080000
END:DAYLIGHT
BEGIN:STANDARD
TZOFFSETFROM:-0500
TZOFFSETTO:-0600
TZNAME:CST
DTSTART:20261101T070000
END:STANDARD
END:VTIMEZONE
BEGIN:VEVENT
DTSTART;VALUE=DATE:20250615
DTEND;VALUE=DATE:20250617
DTSTAMP:20260424T221544
CREATED:20241122T181304Z
LAST-MODIFIED:20250524T020524Z
UID:10001431-1750014000-1750100399@stayinmcallen.com
SUMMARY:UTRGV Baseball vs College World Series Second Round (Games 7 and 8)
DESCRIPTION:UTRGV Baseball vs College World Series Second Round (Games 7 and 8)\nTV: ESPN Family of Networks\nStreaming Video: https://plus.espn.com/
URL:https://stayinmcallen.com/events/utrgv-baseball-vs-college-world-series-second-round-games-7-and-8/
LOCATION:Omaha\, Neb.
CATEGORIES:UTRGV Athletics
END:VEVENT
BEGIN:VEVENT
DTSTART;TZID=America/Chicago:20250616T090000
DTEND;TZID=America/Chicago:20250616T120000
DTSTAMP:20260424T221544
CREATED:20250531T021923Z
LAST-MODIFIED:20250614T024816Z
UID:10002538-1750064400-1750075200@stayinmcallen.com
SUMMARY:UTRGV Camps  WBB Individual Skills Camp (Grades 2-8)
DESCRIPTION:UTRGV Camps  WBB Individual Skills Camp (Grades 2-8)
URL:https://stayinmcallen.com/events/utrgv-camps-wbb-individual-skills-camp-grades-2-8/
LOCATION:Edinburg\, TX\, UTRGV Fieldhouse
CATEGORIES:UTRGV Athletics
END:VEVENT
BEGIN:VEVENT
DTSTART;TZID=America/Chicago:20250616T090000
DTEND;TZID=America/Chicago:20250616T120000
DTSTAMP:20260424T221544
CREATED:20250531T021928Z
LAST-MODIFIED:20250531T021928Z
UID:10002542-1750064400-1750075200@stayinmcallen.com
SUMMARY:UTRGV Camps  WBB Individual Skills Camp (Grades 2-8)
DESCRIPTION:UTRGV Camps  WBB Individual Skills Camp (Grades 2-8)
URL:https://stayinmcallen.com/events/utrgv-camps-wbb-individual-skills-camp-grades-2-8-2/
LOCATION:Edinburg\, TX\, UTRGV Fieldhouse
CATEGORIES:UTRGV Athletics
END:VEVENT
BEGIN:VEVENT
DTSTART;TZID=America/Chicago:20250616T090000
DTEND;TZID=America/Chicago:20250617T130000
DTSTAMP:20260424T221544
CREATED:20250510T013550Z
LAST-MODIFIED:20250531T021924Z
UID:10002477-1750064400-1750165200@stayinmcallen.com
SUMMARY:UTRGV Camps  Individual Skills Camp (Grades 2-8)
DESCRIPTION:UTRGV Camps  Individual Skills Camp (Grades 2-8)
URL:https://stayinmcallen.com/events/utrgv-camps-individual-skills-camp-grades-2-8/
LOCATION:Edinburg\, TX\, UTRGV Fieldhouse
CATEGORIES:UTRGV Athletics
END:VEVENT
BEGIN:VEVENT
DTSTART;TZID=America/Chicago:20250616T090000
DTEND;TZID=America/Chicago:20250617T130000
DTSTAMP:20260424T221544
CREATED:20250510T013605Z
LAST-MODIFIED:20250510T013605Z
UID:10002480-1750064400-1750165200@stayinmcallen.com
SUMMARY:UTRGV Camps  Individual Skills Camp (Grades 2-8)
DESCRIPTION:UTRGV Camps  Individual Skills Camp (Grades 2-8)
URL:https://stayinmcallen.com/events/utrgv-camps-individual-skills-camp-grades-2-8-2/
LOCATION:Edinburg\, TX\, UTRGV Fieldhouse
CATEGORIES:UTRGV Athletics
END:VEVENT
BEGIN:VEVENT
DTSTART;VALUE=DATE:20250616
DTEND;VALUE=DATE:20250618
DTSTAMP:20260424T221544
CREATED:20241122T181320Z
LAST-MODIFIED:20250524T020532Z
UID:10001434-1750100400-1750186799@stayinmcallen.com
SUMMARY:UTRGV Baseball vs College World Series Elimination Games (Games 9 and 10)
DESCRIPTION:UTRGV Baseball vs College World Series Elimination Games (Games 9 and 10)\nTV: ESPN Family of Networks\nStreaming Video: https://plus.espn.com/
URL:https://stayinmcallen.com/events/utrgv-baseball-vs-college-world-series-elimination-games-games-9-and-10/
LOCATION:Omaha\, Neb.
CATEGORIES:UTRGV Athletics
END:VEVENT
END:VCALENDAR