BEGIN:VCALENDAR
VERSION:2.0
PRODID:-//Stayinmcallen - ECPv6.15.20//NONSGML v1.0//EN
CALSCALE:GREGORIAN
METHOD:PUBLISH
X-ORIGINAL-URL:https://stayinmcallen.com
X-WR-CALDESC:Events for Stayinmcallen
REFRESH-INTERVAL;VALUE=DURATION:PT1H
X-Robots-Tag:noindex
X-PUBLISHED-TTL:PT1H
BEGIN:VTIMEZONE
TZID:America/Chicago
BEGIN:DAYLIGHT
TZOFFSETFROM:-0600
TZOFFSETTO:-0500
TZNAME:CDT
DTSTART:20240310T080000
END:DAYLIGHT
BEGIN:STANDARD
TZOFFSETFROM:-0500
TZOFFSETTO:-0600
TZNAME:CST
DTSTART:20241103T070000
END:STANDARD
BEGIN:DAYLIGHT
TZOFFSETFROM:-0600
TZOFFSETTO:-0500
TZNAME:CDT
DTSTART:20250309T080000
END:DAYLIGHT
BEGIN:STANDARD
TZOFFSETFROM:-0500
TZOFFSETTO:-0600
TZNAME:CST
DTSTART:20251102T070000
END:STANDARD
BEGIN:DAYLIGHT
TZOFFSETFROM:-0600
TZOFFSETTO:-0500
TZNAME:CDT
DTSTART:20260308T080000
END:DAYLIGHT
BEGIN:STANDARD
TZOFFSETFROM:-0500
TZOFFSETTO:-0600
TZNAME:CST
DTSTART:20261101T070000
END:STANDARD
END:VTIMEZONE
BEGIN:VEVENT
DTSTART;VALUE=DATE:20250618
DTEND;VALUE=DATE:20250620
DTSTAMP:20260424T221544
CREATED:20241122T181329Z
LAST-MODIFIED:20250524T020556Z
UID:10001436-1750273200-1750359599@stayinmcallen.com
SUMMARY:UTRGV Baseball vs College World Series Semifinals (If Necessary)
DESCRIPTION:UTRGV Baseball vs College World Series Semifinals (If Necessary)\nTV: ESPN Family of Networks\nStreaming Video: https://plus.espn.com/
URL:https://stayinmcallen.com/events/utrgv-baseball-vs-college-world-series-semifinals-if-necessary-2/
LOCATION:Omaha\, Neb.
CATEGORIES:UTRGV Athletics
END:VEVENT
BEGIN:VEVENT
DTSTART;TZID=America/Chicago:20250619T090000
DTEND;TZID=America/Chicago:20250619T120000
DTSTAMP:20260424T221544
CREATED:20250510T013607Z
LAST-MODIFIED:20250531T021943Z
UID:10002479-1750323600-1750334400@stayinmcallen.com
SUMMARY:UTRGV Camps  Girl's High School Ball Handling Clinic (Grades 9-12)
DESCRIPTION:UTRGV Camps  Girl’s High School Ball Handling Clinic (Grades 9-12)
URL:https://stayinmcallen.com/events/utrgv-camps-girls-high-school-ball-handling-clinic-grades-9-12/
LOCATION:Edinburg\, TX\, UTRGV Fieldhouse
CATEGORIES:UTRGV Athletics
END:VEVENT
BEGIN:VEVENT
DTSTART;TZID=America/Chicago:20250619T090000
DTEND;TZID=America/Chicago:20250619T120000
DTSTAMP:20260424T221544
CREATED:20250510T013621Z
LAST-MODIFIED:20250510T013621Z
UID:10002482-1750323600-1750334400@stayinmcallen.com
SUMMARY:UTRGV Camps  Girl's High School Ball Handling Clinic (Grades 9-12)
DESCRIPTION:UTRGV Camps  Girl’s High School Ball Handling Clinic (Grades 9-12)
URL:https://stayinmcallen.com/events/utrgv-camps-girls-high-school-ball-handling-clinic-grades-9-12-2/
LOCATION:Edinburg\, TX\, UTRGV Fieldhouse
CATEGORIES:UTRGV Athletics
END:VEVENT
BEGIN:VEVENT
DTSTART;TZID=America/Chicago:20250619T090000
DTEND;TZID=America/Chicago:20250619T120000
DTSTAMP:20260424T221544
CREATED:20250531T021937Z
LAST-MODIFIED:20250614T024823Z
UID:10002540-1750323600-1750334400@stayinmcallen.com
SUMMARY:UTRGV Camps  WBB Girls High School Basketball Clinic (Grades 9-12)
DESCRIPTION:UTRGV Camps  WBB Girls High School Basketball Clinic (Grades 9-12)
URL:https://stayinmcallen.com/events/utrgv-camps-wbb-girls-high-school-basketball-clinic-grades-9-12/
LOCATION:Edinburg\, TX\, UTRGV Fieldhouse
CATEGORIES:UTRGV Athletics
END:VEVENT
BEGIN:VEVENT
DTSTART;TZID=America/Chicago:20250619T090000
DTEND;TZID=America/Chicago:20250619T120000
DTSTAMP:20260424T221544
CREATED:20250531T021939Z
LAST-MODIFIED:20250531T021939Z
UID:10002544-1750323600-1750334400@stayinmcallen.com
SUMMARY:UTRGV Camps  WBB Girls High School Basketball Clinic (Grades 9-12)
DESCRIPTION:UTRGV Camps  WBB Girls High School Basketball Clinic (Grades 9-12)
URL:https://stayinmcallen.com/events/utrgv-camps-wbb-girls-high-school-basketball-clinic-grades-9-12-2/
LOCATION:Edinburg\, TX\, UTRGV Fieldhouse
CATEGORIES:UTRGV Athletics
END:VEVENT
END:VCALENDAR