BEGIN:VCALENDAR
VERSION:2.0
PRODID:-//Stayinmcallen - ECPv6.15.20//NONSGML v1.0//EN
CALSCALE:GREGORIAN
METHOD:PUBLISH
X-ORIGINAL-URL:https://stayinmcallen.com
X-WR-CALDESC:Events for Stayinmcallen
REFRESH-INTERVAL;VALUE=DURATION:PT1H
X-Robots-Tag:noindex
X-PUBLISHED-TTL:PT1H
BEGIN:VTIMEZONE
TZID:America/Chicago
BEGIN:DAYLIGHT
TZOFFSETFROM:-0600
TZOFFSETTO:-0500
TZNAME:CDT
DTSTART:20240310T080000
END:DAYLIGHT
BEGIN:STANDARD
TZOFFSETFROM:-0500
TZOFFSETTO:-0600
TZNAME:CST
DTSTART:20241103T070000
END:STANDARD
BEGIN:DAYLIGHT
TZOFFSETFROM:-0600
TZOFFSETTO:-0500
TZNAME:CDT
DTSTART:20250309T080000
END:DAYLIGHT
BEGIN:STANDARD
TZOFFSETFROM:-0500
TZOFFSETTO:-0600
TZNAME:CST
DTSTART:20251102T070000
END:STANDARD
BEGIN:DAYLIGHT
TZOFFSETFROM:-0600
TZOFFSETTO:-0500
TZNAME:CDT
DTSTART:20260308T080000
END:DAYLIGHT
BEGIN:STANDARD
TZOFFSETFROM:-0500
TZOFFSETTO:-0600
TZNAME:CST
DTSTART:20261101T070000
END:STANDARD
END:VTIMEZONE
BEGIN:VEVENT
DTSTART;TZID=America/Chicago:20250721T160000
DTEND;TZID=America/Chicago:20250721T190000
DTSTAMP:20260424T190556
CREATED:20250607T023411Z
LAST-MODIFIED:20250719T033421Z
UID:10002567-1753113600-1753124400@stayinmcallen.com
SUMMARY:UTRGV Camps  VB Hitting Camp I – Edinburg (Grades 6-12)
DESCRIPTION:UTRGV Camps  VB Hitting Camp I – Edinburg (Grades 6-12)
URL:https://stayinmcallen.com/events/utrgv-camps-vb-hitting-camp-i-edinburg-grades-6-12/
LOCATION:Edinburg\, TX\, UTRGV Fieldhouse
CATEGORIES:UTRGV Athletics
END:VEVENT
BEGIN:VEVENT
DTSTART;TZID=America/Chicago:20250721T160000
DTEND;TZID=America/Chicago:20250721T190000
DTSTAMP:20260424T190556
CREATED:20250607T023419Z
LAST-MODIFIED:20250607T023419Z
UID:10002571-1753113600-1753124400@stayinmcallen.com
SUMMARY:UTRGV Camps  VB Hitting Camp I – Edinburg (Grades 6-12)
DESCRIPTION:UTRGV Camps  VB Hitting Camp I – Edinburg (Grades 6-12)
URL:https://stayinmcallen.com/events/utrgv-camps-vb-hitting-camp-i-edinburg-grades-6-12-2/
LOCATION:Edinburg\, TX\, UTRGV Fieldhouse
CATEGORIES:UTRGV Athletics
END:VEVENT
BEGIN:VEVENT
DTSTART;TZID=America/Chicago:20250721T183000
DTEND;TZID=America/Chicago:20250721T213000
DTSTAMP:20260424T190556
CREATED:20250607T023414Z
LAST-MODIFIED:20250719T033424Z
UID:10002568-1753122600-1753133400@stayinmcallen.com
SUMMARY:UTRGV Camps  VB Hitting Camp II – Edinburg (Grades 6-12)
DESCRIPTION:UTRGV Camps  VB Hitting Camp II – Edinburg (Grades 6-12)
URL:https://stayinmcallen.com/events/utrgv-camps-vb-hitting-camp-ii-edinburg-grades-6-12/
LOCATION:Edinburg\, TX\, UTRGV Fieldhouse
CATEGORIES:UTRGV Athletics
END:VEVENT
BEGIN:VEVENT
DTSTART;TZID=America/Chicago:20250721T183000
DTEND;TZID=America/Chicago:20250721T213000
DTSTAMP:20260424T190556
CREATED:20250607T023423Z
LAST-MODIFIED:20250607T023423Z
UID:10002572-1753122600-1753133400@stayinmcallen.com
SUMMARY:UTRGV Camps  VB Hitting Camp II – Edinburg (Grades 6-12)
DESCRIPTION:UTRGV Camps  VB Hitting Camp II – Edinburg (Grades 6-12)
URL:https://stayinmcallen.com/events/utrgv-camps-vb-hitting-camp-ii-edinburg-grades-6-12-2/
LOCATION:Edinburg\, TX\, UTRGV Fieldhouse
CATEGORIES:UTRGV Athletics
END:VEVENT
END:VCALENDAR