BEGIN:VCALENDAR
VERSION:2.0
PRODID:-//Stayinmcallen - ECPv6.15.20//NONSGML v1.0//EN
CALSCALE:GREGORIAN
METHOD:PUBLISH
X-ORIGINAL-URL:https://stayinmcallen.com
X-WR-CALDESC:Events for Stayinmcallen
REFRESH-INTERVAL;VALUE=DURATION:PT1H
X-Robots-Tag:noindex
X-PUBLISHED-TTL:PT1H
BEGIN:VTIMEZONE
TZID:America/Chicago
BEGIN:DAYLIGHT
TZOFFSETFROM:-0600
TZOFFSETTO:-0500
TZNAME:CDT
DTSTART:20240310T080000
END:DAYLIGHT
BEGIN:STANDARD
TZOFFSETFROM:-0500
TZOFFSETTO:-0600
TZNAME:CST
DTSTART:20241103T070000
END:STANDARD
BEGIN:DAYLIGHT
TZOFFSETFROM:-0600
TZOFFSETTO:-0500
TZNAME:CDT
DTSTART:20250309T080000
END:DAYLIGHT
BEGIN:STANDARD
TZOFFSETFROM:-0500
TZOFFSETTO:-0600
TZNAME:CST
DTSTART:20251102T070000
END:STANDARD
BEGIN:DAYLIGHT
TZOFFSETFROM:-0600
TZOFFSETTO:-0500
TZNAME:CDT
DTSTART:20260308T080000
END:DAYLIGHT
BEGIN:STANDARD
TZOFFSETFROM:-0500
TZOFFSETTO:-0600
TZNAME:CST
DTSTART:20261101T070000
END:STANDARD
END:VTIMEZONE
BEGIN:VEVENT
DTSTART;TZID=America/Chicago:20250723T160000
DTEND;TZID=America/Chicago:20250723T190000
DTSTAMP:20260424T191347
CREATED:20250607T023427Z
LAST-MODIFIED:20250719T033436Z
UID:10002579-1753286400-1753297200@stayinmcallen.com
SUMMARY:UTRGV Camps  VB Defense Camp I – Edinburg (Grades 6-12)
DESCRIPTION:UTRGV Camps  VB Defense Camp I – Edinburg (Grades 6-12)
URL:https://stayinmcallen.com/events/utrgv-camps-vb-defense-camp-i-edinburg-grades-6-12/
LOCATION:Edinburg\, TX\, UTRGV Fieldhouse
CATEGORIES:UTRGV Athletics
END:VEVENT
BEGIN:VEVENT
DTSTART;TZID=America/Chicago:20250723T160000
DTEND;TZID=America/Chicago:20250723T190000
DTSTAMP:20260424T191347
CREATED:20250607T023434Z
LAST-MODIFIED:20250607T023434Z
UID:10002575-1753286400-1753297200@stayinmcallen.com
SUMMARY:UTRGV Camps  VB Defense Camp I – Edinburg (Grades 6-12)
DESCRIPTION:UTRGV Camps  VB Defense Camp I – Edinburg (Grades 6-12)
URL:https://stayinmcallen.com/events/utrgv-camps-vb-defense-camp-i-edinburg-grades-6-12-2/
LOCATION:Edinburg\, TX\, UTRGV Fieldhouse
CATEGORIES:UTRGV Athletics
END:VEVENT
BEGIN:VEVENT
DTSTART;TZID=America/Chicago:20250723T183000
DTEND;TZID=America/Chicago:20250723T213000
DTSTAMP:20260424T191347
CREATED:20250607T023431Z
LAST-MODIFIED:20250719T033440Z
UID:10002580-1753295400-1753306200@stayinmcallen.com
SUMMARY:UTRGV Camps  VB Defense Camp II – Edinburg (Grades 6-12)
DESCRIPTION:UTRGV Camps  VB Defense Camp II – Edinburg (Grades 6-12)
URL:https://stayinmcallen.com/events/utrgv-camps-vb-defense-camp-ii-edinburg-grades-6-12/
LOCATION:Edinburg\, TX\, UTRGV Fieldhouse
CATEGORIES:UTRGV Athletics
END:VEVENT
BEGIN:VEVENT
DTSTART;TZID=America/Chicago:20250723T183000
DTEND;TZID=America/Chicago:20250723T213000
DTSTAMP:20260424T191347
CREATED:20250607T023438Z
LAST-MODIFIED:20250607T023438Z
UID:10002576-1753295400-1753306200@stayinmcallen.com
SUMMARY:UTRGV Camps  VB Defense Camp II – Edinburg (Grades 6-12)
DESCRIPTION:UTRGV Camps  VB Defense Camp II – Edinburg (Grades 6-12)
URL:https://stayinmcallen.com/events/utrgv-camps-vb-defense-camp-ii-edinburg-grades-6-12-2/
LOCATION:Edinburg\, TX\, UTRGV Fieldhouse
CATEGORIES:UTRGV Athletics
END:VEVENT
END:VCALENDAR