BEGIN:VCALENDAR
VERSION:2.0
PRODID:-//Stayinmcallen - ECPv6.15.20//NONSGML v1.0//EN
CALSCALE:GREGORIAN
METHOD:PUBLISH
X-ORIGINAL-URL:https://stayinmcallen.com
X-WR-CALDESC:Events for Stayinmcallen
REFRESH-INTERVAL;VALUE=DURATION:PT1H
X-Robots-Tag:noindex
X-PUBLISHED-TTL:PT1H
BEGIN:VTIMEZONE
TZID:America/Chicago
BEGIN:DAYLIGHT
TZOFFSETFROM:-0600
TZOFFSETTO:-0500
TZNAME:CDT
DTSTART:20240310T080000
END:DAYLIGHT
BEGIN:STANDARD
TZOFFSETFROM:-0500
TZOFFSETTO:-0600
TZNAME:CST
DTSTART:20241103T070000
END:STANDARD
BEGIN:DAYLIGHT
TZOFFSETFROM:-0600
TZOFFSETTO:-0500
TZNAME:CDT
DTSTART:20250309T080000
END:DAYLIGHT
BEGIN:STANDARD
TZOFFSETFROM:-0500
TZOFFSETTO:-0600
TZNAME:CST
DTSTART:20251102T070000
END:STANDARD
BEGIN:DAYLIGHT
TZOFFSETFROM:-0600
TZOFFSETTO:-0500
TZNAME:CDT
DTSTART:20260308T080000
END:DAYLIGHT
BEGIN:STANDARD
TZOFFSETFROM:-0500
TZOFFSETTO:-0600
TZNAME:CST
DTSTART:20261101T070000
END:STANDARD
END:VTIMEZONE
BEGIN:VEVENT
DTSTART;TZID=America/Chicago:20250816T093000
DTEND;TZID=America/Chicago:20250816T123000
DTSTAMP:20260424T173436
CREATED:20250719T033518Z
LAST-MODIFIED:20250816T044852Z
UID:10002701-1755336600-1755347400@stayinmcallen.com
SUMMARY:UTRGV Camps  Baseball Evaluation Camp II (Ages 14+)
DESCRIPTION:UTRGV Camps  Baseball Evaluation Camp II (Ages 14+)
URL:https://stayinmcallen.com/events/utrgv-camps-baseball-evaluation-camp-ii-ages-14/
LOCATION:Edinburg\, TX\, UTRGV Baseball Stadium
CATEGORIES:UTRGV Athletics
END:VEVENT
BEGIN:VEVENT
DTSTART;TZID=America/Chicago:20250816T093000
DTEND;TZID=America/Chicago:20250816T123000
DTSTAMP:20260424T173436
CREATED:20250719T033519Z
LAST-MODIFIED:20250719T033519Z
UID:10002703-1755336600-1755347400@stayinmcallen.com
SUMMARY:UTRGV Camps  Baseball Evaluation Camp II (Ages 14+)
DESCRIPTION:UTRGV Camps  Baseball Evaluation Camp II (Ages 14+)
URL:https://stayinmcallen.com/events/utrgv-camps-baseball-evaluation-camp-ii-ages-14-2/
LOCATION:Edinburg\, TX\, UTRGV Baseball Stadium
CATEGORIES:UTRGV Athletics
END:VEVENT
BEGIN:VEVENT
DTSTART;TZID=America/Chicago:20250816T130000
DTEND;TZID=America/Chicago:20250816T150000
DTSTAMP:20260424T173436
CREATED:20250726T034909Z
LAST-MODIFIED:20250816T044857Z
UID:10002756-1755349200-1755356400@stayinmcallen.com
SUMMARY:UTRGV Men's Soccer vs Coastal Bend (Exhibition)
DESCRIPTION:UTRGV Men’s Soccer vs Coastal Bend (Exhibition)
URL:https://stayinmcallen.com/events/utrgv-mens-soccer-vs-coastal-bend-exhibition-5/
LOCATION:Edinburg\, Texas\, UTRGV Soccer and Track & Field Complex
CATEGORIES:UTRGV Athletics
END:VEVENT
END:VCALENDAR