BEGIN:VCALENDAR
VERSION:2.0
PRODID:-//Stayinmcallen - ECPv6.15.20//NONSGML v1.0//EN
CALSCALE:GREGORIAN
METHOD:PUBLISH
X-ORIGINAL-URL:https://stayinmcallen.com
X-WR-CALDESC:Events for Stayinmcallen
REFRESH-INTERVAL;VALUE=DURATION:PT1H
X-Robots-Tag:noindex
X-PUBLISHED-TTL:PT1H
BEGIN:VTIMEZONE
TZID:America/Chicago
BEGIN:DAYLIGHT
TZOFFSETFROM:-0600
TZOFFSETTO:-0500
TZNAME:CDT
DTSTART:20240310T080000
END:DAYLIGHT
BEGIN:STANDARD
TZOFFSETFROM:-0500
TZOFFSETTO:-0600
TZNAME:CST
DTSTART:20241103T070000
END:STANDARD
BEGIN:DAYLIGHT
TZOFFSETFROM:-0600
TZOFFSETTO:-0500
TZNAME:CDT
DTSTART:20250309T080000
END:DAYLIGHT
BEGIN:STANDARD
TZOFFSETFROM:-0500
TZOFFSETTO:-0600
TZNAME:CST
DTSTART:20251102T070000
END:STANDARD
BEGIN:DAYLIGHT
TZOFFSETFROM:-0600
TZOFFSETTO:-0500
TZNAME:CDT
DTSTART:20260308T080000
END:DAYLIGHT
BEGIN:STANDARD
TZOFFSETFROM:-0500
TZOFFSETTO:-0600
TZNAME:CST
DTSTART:20261101T070000
END:STANDARD
END:VTIMEZONE
BEGIN:VEVENT
DTSTART;VALUE=DATE:20251016
DTEND;VALUE=DATE:20251021
DTSTAMP:20260424T130707
CREATED:20250823T052522Z
LAST-MODIFIED:20251015T164259Z
UID:10002995-1760641200-1760986799@stayinmcallen.com
SUMMARY:UTRGV Men's Tennis at ITA Texas Regional
DESCRIPTION:UTRGV Men’s Tennis at ITA Texas Regional
URL:https://stayinmcallen.com/events/utrgv-mens-tennis-at-ita-texas-regional/
LOCATION:College Station\, Texas
CATEGORIES:UTRGV Athletics
END:VEVENT
BEGIN:VEVENT
DTSTART;VALUE=DATE:20251018
DTEND;VALUE=DATE:20251021
DTSTAMP:20260424T130707
CREATED:20250816T045557Z
LAST-MODIFIED:20251015T164330Z
UID:10002952-1760814000-1760986799@stayinmcallen.com
SUMMARY:UTRGV Women's Golf  Diamante Intercollegiate
DESCRIPTION:UTRGV Women’s Golf  Diamante Intercollegiate
URL:https://stayinmcallen.com/events/utrgv-womens-golf-diamante-intercollegiate/
LOCATION:Hot Springs\, Ark.
CATEGORIES:UTRGV Athletics
END:VEVENT
BEGIN:VEVENT
DTSTART;TZID=America/Chicago:20251019T110000
DTEND;TZID=America/Chicago:20251019T130000
DTSTAMP:20260424T130707
CREATED:20250419T005459Z
LAST-MODIFIED:20251015T164347Z
UID:10002391-1760871600-1760878800@stayinmcallen.com
SUMMARY:UTRGV Women's Soccer vs Texas A&M-Corpus Christi
DESCRIPTION:UTRGV Women’s Soccer vs Texas A&M-Corpus Christi\nTV: ESPN+ (USA) | Southland International\nStreaming Video: https://www.southland.org/espn
URL:https://stayinmcallen.com/events/utrgv-womens-soccer-vs-texas-am-corpus-christi-3/
LOCATION:Edinburg\, Texas\, UTRGV Soccer and Track & Field Complex
CATEGORIES:UTRGV Athletics
END:VEVENT
END:VCALENDAR