BEGIN:VCALENDAR
VERSION:2.0
PRODID:-//Stayinmcallen - ECPv6.15.20//NONSGML v1.0//EN
CALSCALE:GREGORIAN
METHOD:PUBLISH
X-WR-CALNAME:Stayinmcallen
X-ORIGINAL-URL:https://stayinmcallen.com
X-WR-CALDESC:Events for Stayinmcallen
REFRESH-INTERVAL;VALUE=DURATION:PT1H
X-Robots-Tag:noindex
X-PUBLISHED-TTL:PT1H
BEGIN:VTIMEZONE
TZID:America/Chicago
BEGIN:DAYLIGHT
TZOFFSETFROM:-0600
TZOFFSETTO:-0500
TZNAME:CDT
DTSTART:20240310T080000
END:DAYLIGHT
BEGIN:STANDARD
TZOFFSETFROM:-0500
TZOFFSETTO:-0600
TZNAME:CST
DTSTART:20241103T070000
END:STANDARD
BEGIN:DAYLIGHT
TZOFFSETFROM:-0600
TZOFFSETTO:-0500
TZNAME:CDT
DTSTART:20250309T080000
END:DAYLIGHT
BEGIN:STANDARD
TZOFFSETFROM:-0500
TZOFFSETTO:-0600
TZNAME:CST
DTSTART:20251102T070000
END:STANDARD
BEGIN:DAYLIGHT
TZOFFSETFROM:-0600
TZOFFSETTO:-0500
TZNAME:CDT
DTSTART:20260308T080000
END:DAYLIGHT
BEGIN:STANDARD
TZOFFSETFROM:-0500
TZOFFSETTO:-0600
TZNAME:CST
DTSTART:20261101T070000
END:STANDARD
END:VTIMEZONE
BEGIN:VEVENT
DTSTART;VALUE=DATE:20251022
DTEND;VALUE=DATE:20251025
DTSTAMP:20260424T112745
CREATED:20250823T052618Z
LAST-MODIFIED:20251022T174842Z
UID:10002997-1761159600-1761332399@stayinmcallen.com
SUMMARY:UTRGV Men's Tennis at SLC Fall Championship
DESCRIPTION:UTRGV Men’s Tennis at SLC Fall Championship
URL:https://stayinmcallen.com/events/utrgv-mens-tennis-at-slc-fall-championship/
LOCATION:Natchitoches\, La.
CATEGORIES:UTRGV Athletics
END:VEVENT
BEGIN:VEVENT
DTSTART;VALUE=DATE:20251022
DTEND;VALUE=DATE:20251025
DTSTAMP:20260424T112745
CREATED:20250823T052629Z
LAST-MODIFIED:20251022T174830Z
UID:10002998-1761159600-1761332399@stayinmcallen.com
SUMMARY:UTRGV Women's Tennis at SLC Fall Championship
DESCRIPTION:UTRGV Women’s Tennis at SLC Fall Championship
URL:https://stayinmcallen.com/events/utrgv-womens-tennis-at-slc-fall-championship/
LOCATION:Natchitoches\, La.
CATEGORIES:UTRGV Athletics
END:VEVENT
BEGIN:VEVENT
DTSTART;VALUE=DATE:20251022
DTEND;VALUE=DATE:20251026
DTSTAMP:20260424T112745
CREATED:20250823T052624Z
LAST-MODIFIED:20250823T052624Z
UID:10002999-1761159600-1761418799@stayinmcallen.com
SUMMARY:UTRGV Men's Tennis at SLC Fall Championship
DESCRIPTION:UTRGV Men’s Tennis at SLC Fall Championship
URL:https://stayinmcallen.com/events/utrgv-mens-tennis-at-slc-fall-championship-2/
LOCATION:Natchitoches\, La.
CATEGORIES:UTRGV Athletics
END:VEVENT
BEGIN:VEVENT
DTSTART;VALUE=DATE:20251022
DTEND;VALUE=DATE:20251026
DTSTAMP:20260424T112745
CREATED:20250823T052635Z
LAST-MODIFIED:20250823T052635Z
UID:10003000-1761159600-1761418799@stayinmcallen.com
SUMMARY:UTRGV Women's Tennis at SLC Fall Championship
DESCRIPTION:UTRGV Women’s Tennis at SLC Fall Championship
URL:https://stayinmcallen.com/events/utrgv-womens-tennis-at-slc-fall-championship-2/
LOCATION:Natchitoches\, La.
CATEGORIES:UTRGV Athletics
END:VEVENT
BEGIN:VEVENT
DTSTART;VALUE=DATE:20251023
DTEND;VALUE=DATE:20251025
DTSTAMP:20260424T112745
CREATED:20250719T033731Z
LAST-MODIFIED:20251022T174838Z
UID:10002712-1761246000-1761332399@stayinmcallen.com
SUMMARY:UTRGV Women's Swimming & Diving  Rice Fall Splash
DESCRIPTION:UTRGV Women’s Swimming & Diving  Rice Fall Splash
URL:https://stayinmcallen.com/events/utrgv-womens-swimming-diving-rice-university/
LOCATION:Houston\, Texas
CATEGORIES:UTRGV Athletics
END:VEVENT
BEGIN:VEVENT
DTSTART;VALUE=DATE:20251023
DTEND;VALUE=DATE:20251025
DTSTAMP:20260424T112745
CREATED:20250719T033745Z
LAST-MODIFIED:20250719T033745Z
UID:10002714-1761246000-1761332399@stayinmcallen.com
SUMMARY:UTRGV Women's Swimming & Diving  Rice University
DESCRIPTION:UTRGV Women’s Swimming & Diving  Rice University
URL:https://stayinmcallen.com/events/utrgv-womens-swimming-diving-rice-university-2/
LOCATION:Houston\, TX
CATEGORIES:UTRGV Athletics
END:VEVENT
BEGIN:VEVENT
DTSTART;VALUE=DATE:20251023
DTEND;VALUE=DATE:20251025
DTSTAMP:20260424T112745
CREATED:20250719T033749Z
LAST-MODIFIED:20250719T033749Z
UID:10002715-1761246000-1761332399@stayinmcallen.com
SUMMARY:UTRGV Women's Swimming & Diving  St. Thomas (TX)
DESCRIPTION:UTRGV Women’s Swimming & Diving  St. Thomas (TX)
URL:https://stayinmcallen.com/events/utrgv-womens-swimming-diving-st-thomas-tx-2/
LOCATION:Houston\, TX
CATEGORIES:UTRGV Athletics
END:VEVENT
BEGIN:VEVENT
DTSTART;VALUE=DATE:20251023
DTEND;VALUE=DATE:20251025
DTSTAMP:20260424T112745
CREATED:20250816T050401Z
LAST-MODIFIED:20251022T174834Z
UID:10002955-1761246000-1761332399@stayinmcallen.com
SUMMARY:UTRGV Men's Golf  Monterrey International Invitational
DESCRIPTION:UTRGV Men’s Golf  Monterrey International Invitational
URL:https://stayinmcallen.com/events/utrgv-mens-golf-monterrey-collegiate-classic-3/
LOCATION:Monterrey\, Mexico
CATEGORIES:UTRGV Athletics
END:VEVENT
BEGIN:VEVENT
DTSTART;VALUE=DATE:20251023
DTEND;VALUE=DATE:20251026
DTSTAMP:20260424T112745
CREATED:20250719T033735Z
LAST-MODIFIED:20251008T155135Z
UID:10002713-1761246000-1761418799@stayinmcallen.com
SUMMARY:UTRGV Women's Swimming & Diving  St. Thomas (TX)
DESCRIPTION:UTRGV Women’s Swimming & Diving  St. Thomas (TX)
URL:https://stayinmcallen.com/events/utrgv-womens-swimming-diving-st-thomas-tx/
LOCATION:Houston\, Texas
CATEGORIES:UTRGV Athletics
END:VEVENT
BEGIN:VEVENT
DTSTART;VALUE=DATE:20251024
DTEND;VALUE=DATE:20251026
DTSTAMP:20260424T112745
CREATED:20250419T005555Z
LAST-MODIFIED:20250419T005555Z
UID:10002398-1761332400-1761418799@stayinmcallen.com
SUMMARY:UTRGV Volleyball at Nicholls
DESCRIPTION:UTRGV Volleyball at Nicholls\nStreaming Video: https://www.southland.org/espn
URL:https://stayinmcallen.com/events/utrgv-volleyball-at-nicholls-2/
LOCATION:Thibodaux\, LA
CATEGORIES:UTRGV Athletics
END:VEVENT
END:VCALENDAR