BEGIN:VCALENDAR
VERSION:2.0
PRODID:-//Stayinmcallen - ECPv6.15.20//NONSGML v1.0//EN
CALSCALE:GREGORIAN
METHOD:PUBLISH
X-WR-CALNAME:Stayinmcallen
X-ORIGINAL-URL:https://stayinmcallen.com
X-WR-CALDESC:Events for Stayinmcallen
REFRESH-INTERVAL;VALUE=DURATION:PT1H
X-Robots-Tag:noindex
X-PUBLISHED-TTL:PT1H
BEGIN:VTIMEZONE
TZID:America/Chicago
BEGIN:DAYLIGHT
TZOFFSETFROM:-0600
TZOFFSETTO:-0500
TZNAME:CDT
DTSTART:20250309T080000
END:DAYLIGHT
BEGIN:STANDARD
TZOFFSETFROM:-0500
TZOFFSETTO:-0600
TZNAME:CST
DTSTART:20251102T070000
END:STANDARD
BEGIN:DAYLIGHT
TZOFFSETFROM:-0600
TZOFFSETTO:-0500
TZNAME:CDT
DTSTART:20260308T080000
END:DAYLIGHT
BEGIN:STANDARD
TZOFFSETFROM:-0500
TZOFFSETTO:-0600
TZNAME:CST
DTSTART:20261101T070000
END:STANDARD
BEGIN:DAYLIGHT
TZOFFSETFROM:-0600
TZOFFSETTO:-0500
TZNAME:CDT
DTSTART:20270314T080000
END:DAYLIGHT
BEGIN:STANDARD
TZOFFSETFROM:-0500
TZOFFSETTO:-0600
TZNAME:CST
DTSTART:20271107T070000
END:STANDARD
END:VTIMEZONE
BEGIN:VEVENT
DTSTART;VALUE=DATE:20260317
DTEND;VALUE=DATE:20260319
DTSTAMP:20260424T063433
CREATED:20250830T060744Z
LAST-MODIFIED:20260311T173321Z
UID:10003058-1773774000-1773860399@stayinmcallen.com
SUMMARY:UTRGV Women's Basketball vs First Four
DESCRIPTION:UTRGV Women’s Basketball vs First Four\nTV: ESPN Family of Networks
URL:https://stayinmcallen.com/events/utrgv-womens-basketball-vs-first-four-3/
LOCATION:TBD
CATEGORIES:UTRGV Athletics
END:VEVENT
BEGIN:VEVENT
DTSTART;VALUE=DATE:20260318
DTEND;VALUE=DATE:20260320
DTSTAMP:20260424T063433
CREATED:20250809T043725Z
LAST-MODIFIED:20260303T164835Z
UID:10002906-1773860400-1773946799@stayinmcallen.com
SUMMARY:UTRGV Men's Basketball vs First Round
DESCRIPTION:UTRGV Men’s Basketball vs First Round\nTV: CBS/TNT/TBS/truTV\nRadio: Westwood One
URL:https://stayinmcallen.com/events/utrgv-mens-basketball-vs-first-round-4/
LOCATION:TBD
CATEGORIES:UTRGV Athletics
END:VEVENT
END:VCALENDAR