BEGIN:VCALENDAR
VERSION:2.0
PRODID:-//Stayinmcallen - ECPv6.15.20//NONSGML v1.0//EN
CALSCALE:GREGORIAN
METHOD:PUBLISH
X-ORIGINAL-URL:https://stayinmcallen.com
X-WR-CALDESC:Events for Stayinmcallen
REFRESH-INTERVAL;VALUE=DURATION:PT1H
X-Robots-Tag:noindex
X-PUBLISHED-TTL:PT1H
BEGIN:VTIMEZONE
TZID:America/Chicago
BEGIN:DAYLIGHT
TZOFFSETFROM:-0600
TZOFFSETTO:-0500
TZNAME:CDT
DTSTART:20250309T080000
END:DAYLIGHT
BEGIN:STANDARD
TZOFFSETFROM:-0500
TZOFFSETTO:-0600
TZNAME:CST
DTSTART:20251102T070000
END:STANDARD
BEGIN:DAYLIGHT
TZOFFSETFROM:-0600
TZOFFSETTO:-0500
TZNAME:CDT
DTSTART:20260308T080000
END:DAYLIGHT
BEGIN:STANDARD
TZOFFSETFROM:-0500
TZOFFSETTO:-0600
TZNAME:CST
DTSTART:20261101T070000
END:STANDARD
BEGIN:DAYLIGHT
TZOFFSETFROM:-0600
TZOFFSETTO:-0500
TZNAME:CDT
DTSTART:20270314T080000
END:DAYLIGHT
BEGIN:STANDARD
TZOFFSETFROM:-0500
TZOFFSETTO:-0600
TZNAME:CST
DTSTART:20271107T070000
END:STANDARD
END:VTIMEZONE
BEGIN:VEVENT
DTSTART;VALUE=DATE:20260324
DTEND;VALUE=DATE:20260327
DTSTAMP:20260424T035811
CREATED:20260318T181646Z
LAST-MODIFIED:20260319T041610Z
UID:10003632-1774378800-1774551599@stayinmcallen.com
SUMMARY:UTRGV Women's Basketball vs Super 16
DESCRIPTION:UTRGV Women’s Basketball vs Super 16
URL:https://stayinmcallen.com/events/utrgv-womens-basketball-vs-super-16/
LOCATION:TBD
CATEGORIES:UTRGV Athletics
END:VEVENT
BEGIN:VEVENT
DTSTART;VALUE=DATE:20260325
DTEND;VALUE=DATE:20260327
DTSTAMP:20260424T035811
CREATED:20250809T043736Z
LAST-MODIFIED:20260303T164940Z
UID:10002908-1774465200-1774551599@stayinmcallen.com
SUMMARY:UTRGV Men's Basketball vs Sweet 16
DESCRIPTION:UTRGV Men’s Basketball vs Sweet 16\nTV: CBS/TBS\nRadio: Westwood One
URL:https://stayinmcallen.com/events/utrgv-mens-basketball-vs-sweet-16-2/
LOCATION:TBD
CATEGORIES:UTRGV Athletics
END:VEVENT
END:VCALENDAR