BEGIN:VCALENDAR
VERSION:2.0
PRODID:-//Stayinmcallen - ECPv6.15.20//NONSGML v1.0//EN
CALSCALE:GREGORIAN
METHOD:PUBLISH
X-ORIGINAL-URL:https://stayinmcallen.com
X-WR-CALDESC:Events for Stayinmcallen
REFRESH-INTERVAL;VALUE=DURATION:PT1H
X-Robots-Tag:noindex
X-PUBLISHED-TTL:PT1H
BEGIN:VTIMEZONE
TZID:America/Chicago
BEGIN:DAYLIGHT
TZOFFSETFROM:-0600
TZOFFSETTO:-0500
TZNAME:CDT
DTSTART:20250309T080000
END:DAYLIGHT
BEGIN:STANDARD
TZOFFSETFROM:-0500
TZOFFSETTO:-0600
TZNAME:CST
DTSTART:20251102T070000
END:STANDARD
BEGIN:DAYLIGHT
TZOFFSETFROM:-0600
TZOFFSETTO:-0500
TZNAME:CDT
DTSTART:20260308T080000
END:DAYLIGHT
BEGIN:STANDARD
TZOFFSETFROM:-0500
TZOFFSETTO:-0600
TZNAME:CST
DTSTART:20261101T070000
END:STANDARD
BEGIN:DAYLIGHT
TZOFFSETFROM:-0600
TZOFFSETTO:-0500
TZNAME:CDT
DTSTART:20270314T080000
END:DAYLIGHT
BEGIN:STANDARD
TZOFFSETFROM:-0500
TZOFFSETTO:-0600
TZNAME:CST
DTSTART:20271107T070000
END:STANDARD
END:VTIMEZONE
BEGIN:VEVENT
DTSTART;VALUE=DATE:20260326
DTEND;VALUE=DATE:20260330
DTSTAMP:20260424T070255
CREATED:20250830T060845Z
LAST-MODIFIED:20260311T173441Z
UID:10003065-1774551600-1774810799@stayinmcallen.com
SUMMARY:UTRGV Women's Basketball vs Regional Rounds
DESCRIPTION:UTRGV Women’s Basketball vs Regional Rounds\nTV: ESPN Family of Networks
URL:https://stayinmcallen.com/events/utrgv-womens-basketball-vs-regional-rounds/
LOCATION:TBD
CATEGORIES:UTRGV Athletics
END:VEVENT
BEGIN:VEVENT
DTSTART;VALUE=DATE:20260327
DTEND;VALUE=DATE:20260329
DTSTAMP:20260424T070255
CREATED:20250809T043746Z
LAST-MODIFIED:20260303T164958Z
UID:10002909-1774638000-1774724399@stayinmcallen.com
SUMMARY:UTRGV Men's Basketball vs Elite 8
DESCRIPTION:UTRGV Men’s Basketball vs Elite 8\nTV: CBS/TBS\nRadio: Westwood One
URL:https://stayinmcallen.com/events/utrgv-mens-basketball-vs-elite-8/
LOCATION:TBD
CATEGORIES:UTRGV Athletics
END:VEVENT
BEGIN:VEVENT
DTSTART;VALUE=DATE:20260327
DTEND;VALUE=DATE:20260330
DTSTAMP:20260424T070255
CREATED:20260318T181721Z
LAST-MODIFIED:20260319T041641Z
UID:10003633-1774638000-1774810799@stayinmcallen.com
SUMMARY:UTRGV Women's Basketball vs Great 8
DESCRIPTION:UTRGV Women’s Basketball vs Great 8
URL:https://stayinmcallen.com/events/utrgv-womens-basketball-vs-great-8/
LOCATION:TBD
CATEGORIES:UTRGV Athletics
END:VEVENT
BEGIN:VEVENT
DTSTART;TZID=America/Chicago:20260328T100000
DTEND;TZID=America/Chicago:20260328T130000
DTSTAMP:20260424T070255
CREATED:20251217T032839Z
LAST-MODIFIED:20260326T055338Z
UID:10003353-1774692000-1774702800@stayinmcallen.com
SUMMARY:UTRGV Men's Tennis at Lamar
DESCRIPTION:UTRGV Men’s Tennis at Lamar
URL:https://stayinmcallen.com/events/utrgv-mens-tennis-at-lamar/
LOCATION:Beaumont\, Texas
CATEGORIES:UTRGV Athletics
END:VEVENT
BEGIN:VEVENT
DTSTART;TZID=America/Chicago:20260328T130000
DTEND;TZID=America/Chicago:20260328T160000
DTSTAMP:20260424T070255
CREATED:20251228T151030Z
LAST-MODIFIED:20260326T055340Z
UID:10003413-1774702800-1774713600@stayinmcallen.com
SUMMARY:UTRGV Women's Tennis at Lamar
DESCRIPTION:UTRGV Women’s Tennis at Lamar
URL:https://stayinmcallen.com/events/utrgv-womens-tennis-at-lamar/
LOCATION:Beaumont\, Texas
CATEGORIES:UTRGV Athletics
END:VEVENT
BEGIN:VEVENT
DTSTART;TZID=America/Chicago:20260328T183000
DTEND;TZID=America/Chicago:20260328T213000
DTSTAMP:20260424T070255
CREATED:20250830T060833Z
LAST-MODIFIED:20260326T055343Z
UID:10003064-1774722600-1774733400@stayinmcallen.com
SUMMARY:UTRGV Baseball vs Texas A&M-Corpus Christi - Swifties Night • Varsity Club Night • Baseball Alumni Night
DESCRIPTION:UTRGV Baseball vs Texas A&M-Corpus Christi – Swifties Night • Varsity Club Night • Baseball Alumni Night\nStreaming Video: https://www.southland.org/espn\nStreaming Audio: https://www.southland.org/watch\nTickets: http://utrgvtickets.com/
URL:https://stayinmcallen.com/events/utrgv-baseball-vs-texas-am-corpus-christi-3/
LOCATION:Edinburg\, Texas\, UTRGV Baseball Stadium
CATEGORIES:UTRGV Athletics
END:VEVENT
END:VCALENDAR