BEGIN:VCALENDAR
VERSION:2.0
PRODID:-//Stayinmcallen - ECPv6.15.20//NONSGML v1.0//EN
CALSCALE:GREGORIAN
METHOD:PUBLISH
X-ORIGINAL-URL:https://stayinmcallen.com
X-WR-CALDESC:Events for Stayinmcallen
REFRESH-INTERVAL;VALUE=DURATION:PT1H
X-Robots-Tag:noindex
X-PUBLISHED-TTL:PT1H
BEGIN:VTIMEZONE
TZID:America/Chicago
BEGIN:DAYLIGHT
TZOFFSETFROM:-0600
TZOFFSETTO:-0500
TZNAME:CDT
DTSTART:20250309T080000
END:DAYLIGHT
BEGIN:STANDARD
TZOFFSETFROM:-0500
TZOFFSETTO:-0600
TZNAME:CST
DTSTART:20251102T070000
END:STANDARD
BEGIN:DAYLIGHT
TZOFFSETFROM:-0600
TZOFFSETTO:-0500
TZNAME:CDT
DTSTART:20260308T080000
END:DAYLIGHT
BEGIN:STANDARD
TZOFFSETFROM:-0500
TZOFFSETTO:-0600
TZNAME:CST
DTSTART:20261101T070000
END:STANDARD
BEGIN:DAYLIGHT
TZOFFSETFROM:-0600
TZOFFSETTO:-0500
TZNAME:CDT
DTSTART:20270314T080000
END:DAYLIGHT
BEGIN:STANDARD
TZOFFSETFROM:-0500
TZOFFSETTO:-0600
TZNAME:CST
DTSTART:20271107T070000
END:STANDARD
END:VTIMEZONE
BEGIN:VEVENT
DTSTART;TZID=America/Chicago:20260410T160000
DTEND;TZID=America/Chicago:20260410T235900
DTSTAMP:20260424T031030
CREATED:20251228T151227Z
LAST-MODIFIED:20260409T105045Z
UID:10003417-1775836800-1775865540@stayinmcallen.com
SUMMARY:UTRGV Men's Track & Field  Cactus Cup
DESCRIPTION:UTRGV Men’s Track & Field  Cactus Cup
URL:https://stayinmcallen.com/events/utrgv-mens-track-field-texas-am-kingsville/
LOCATION:Kingsville\, Texas
CATEGORIES:UTRGV Athletics
END:VEVENT
BEGIN:VEVENT
DTSTART;TZID=America/Chicago:20260410T160000
DTEND;TZID=America/Chicago:20260410T235900
DTSTAMP:20260424T031030
CREATED:20251228T151231Z
LAST-MODIFIED:20260409T105039Z
UID:10003418-1775836800-1775865540@stayinmcallen.com
SUMMARY:UTRGV Women's Track & Field  Cactus Cup
DESCRIPTION:UTRGV Women’s Track & Field  Cactus Cup
URL:https://stayinmcallen.com/events/utrgv-womens-track-field-texas-am-kingsville/
LOCATION:Kingsville\, Texas
CATEGORIES:UTRGV Athletics
END:VEVENT
BEGIN:VEVENT
DTSTART;TZID=America/Chicago:20260410T180000
DTEND;TZID=America/Chicago:20260410T210000
DTSTAMP:20260424T031030
CREATED:20250830T060955Z
LAST-MODIFIED:20260409T105042Z
UID:10003073-1775844000-1775854800@stayinmcallen.com
SUMMARY:UTRGV Baseball at Stephen F. Austin
DESCRIPTION:UTRGV Baseball at Stephen F. Austin\nStreaming Video: https://www.southland.org/espn\nStreaming Audio: https://www.southland.org/watch
URL:https://stayinmcallen.com/events/utrgv-baseball-at-stephen-f-austin-4/
LOCATION:Nacogdoches\, Texas\, Pilgrim’s Park
CATEGORIES:UTRGV Athletics
END:VEVENT
BEGIN:VEVENT
DTSTART;VALUE=DATE:20260410
DTEND;VALUE=DATE:20260412
DTSTAMP:20260424T031030
CREATED:20251217T033046Z
LAST-MODIFIED:20260326T055444Z
UID:10003357-1775847600-1775933999@stayinmcallen.com
SUMMARY:UTRGV Men's Tennis vs Abilene Christian
DESCRIPTION:UTRGV Men’s Tennis vs Abilene Christian
URL:https://stayinmcallen.com/events/utrgv-mens-tennis-vs-abilene-christian-2/
LOCATION:Waco\, Texas
CATEGORIES:UTRGV Athletics
END:VEVENT
END:VCALENDAR