BEGIN:VCALENDAR
VERSION:2.0
PRODID:-//Stayinmcallen - ECPv6.15.20//NONSGML v1.0//EN
CALSCALE:GREGORIAN
METHOD:PUBLISH
X-ORIGINAL-URL:https://stayinmcallen.com
X-WR-CALDESC:Events for Stayinmcallen
REFRESH-INTERVAL;VALUE=DURATION:PT1H
X-Robots-Tag:noindex
X-PUBLISHED-TTL:PT1H
BEGIN:VTIMEZONE
TZID:America/Chicago
BEGIN:DAYLIGHT
TZOFFSETFROM:-0600
TZOFFSETTO:-0500
TZNAME:CDT
DTSTART:20240310T080000
END:DAYLIGHT
BEGIN:STANDARD
TZOFFSETFROM:-0500
TZOFFSETTO:-0600
TZNAME:CST
DTSTART:20241103T070000
END:STANDARD
BEGIN:DAYLIGHT
TZOFFSETFROM:-0600
TZOFFSETTO:-0500
TZNAME:CDT
DTSTART:20250309T080000
END:DAYLIGHT
BEGIN:STANDARD
TZOFFSETFROM:-0500
TZOFFSETTO:-0600
TZNAME:CST
DTSTART:20251102T070000
END:STANDARD
BEGIN:DAYLIGHT
TZOFFSETFROM:-0600
TZOFFSETTO:-0500
TZNAME:CDT
DTSTART:20260308T080000
END:DAYLIGHT
BEGIN:STANDARD
TZOFFSETFROM:-0500
TZOFFSETTO:-0600
TZNAME:CST
DTSTART:20261101T070000
END:STANDARD
END:VTIMEZONE
BEGIN:VEVENT
DTSTART;TZID=America/Chicago:20251123T140000
DTEND;TZID=America/Chicago:20251123T160000
DTSTAMP:20260425T074438
CREATED:20250419T005634Z
LAST-MODIFIED:20251118T045023Z
UID:10002408-1763906400-1763913600@stayinmcallen.com
SUMMARY:UTRGV Volleyball vs Championship
DESCRIPTION:UTRGV Volleyball vs Championship\nTV: ESPN+ (USA) | Southland International\nStreaming Video: https://www.southland.org/espn
URL:https://stayinmcallen.com/events/utrgv-volleyball-vs-championship-4/
LOCATION:Commerce\, Texas
CATEGORIES:UTRGV Athletics
END:VEVENT
BEGIN:VEVENT
DTSTART;TZID=America/Chicago:20251123T160000
DTEND;TZID=America/Chicago:20251123T180000
DTSTAMP:20260425T074438
CREATED:20250830T055954Z
LAST-MODIFIED:20251118T045006Z
UID:10003042-1763913600-1763920800@stayinmcallen.com
SUMMARY:UTRGV Women's Basketball at Texas Christian
DESCRIPTION:UTRGV Women’s Basketball at Texas Christian\nStreaming Video: https://www.espn.com/watch/catalog/01209caa-9a9a-4275-b784-c8cdff2fbd7c/southland-conference#bucketId=29784&sourceCollection=Browse_By_Top_Conferences\nStreaming Audio: https://thevarsitynetwork.com/audioapplink/source/texas-christian-university:oas-1541/content/texaschristian:allaccess-Live-944
URL:https://stayinmcallen.com/events/utrgv-womens-basketball-at-texas-christian/
LOCATION:Fort Worth\, Texas\, Schollmaier Arena
CATEGORIES:UTRGV Athletics
END:VEVENT
BEGIN:VEVENT
DTSTART;TZID=America/Chicago:20251124T190000
DTEND;TZID=America/Chicago:20251124T210000
DTSTAMP:20260425T074438
CREATED:20251015T164912Z
LAST-MODIFIED:20251118T045026Z
UID:10003177-1764010800-1764018000@stayinmcallen.com
SUMMARY:UTRGV Men's Basketball at Illinois
DESCRIPTION:UTRGV Men’s Basketball at Illinois\nTV: Big Ten Network\nStreaming Video: https://bigten.org/btn/watch-live/\nStreaming Audio: https://thevarsitynetwork.com/audioapplink/source/oas-1032/content/uillinois:allaccess-Live-6662
URL:https://stayinmcallen.com/events/utrgv-mens-basketball-at-illinois/
LOCATION:Champaign\, Ill.\, State Farm Center
CATEGORIES:UTRGV Athletics
END:VEVENT
BEGIN:VEVENT
DTSTART;VALUE=DATE:20251126
DTEND;VALUE=DATE:20251128
DTSTAMP:20260425T074438
CREATED:20250726T035623Z
LAST-MODIFIED:20251022T175341Z
UID:10002825-1764180000-1764266399@stayinmcallen.com
SUMMARY:UTRGV Women's Soccer vs Quarterfinals
DESCRIPTION:UTRGV Women’s Soccer vs Quarterfinals
URL:https://stayinmcallen.com/events/utrgv-womens-soccer-vs-quarterfinals-3/
LOCATION:Campus Site
CATEGORIES:UTRGV Athletics
END:VEVENT
BEGIN:VEVENT
DTSTART;VALUE=DATE:20251126
DTEND;VALUE=DATE:20251128
DTSTAMP:20260425T074438
CREATED:20250726T035655Z
LAST-MODIFIED:20250726T035655Z
UID:10002834-1764180000-1764266399@stayinmcallen.com
SUMMARY:UTRGV Women's Soccer vs Quarterfinals
DESCRIPTION:UTRGV Women’s Soccer vs Quarterfinals
URL:https://stayinmcallen.com/events/utrgv-womens-soccer-vs-quarterfinals-4/
LOCATION:Campus Site
CATEGORIES:UTRGV Athletics
END:VEVENT
BEGIN:VEVENT
DTSTART;VALUE=DATE:20251128
DTEND;VALUE=DATE:20251130
DTSTAMP:20260425T074438
CREATED:20250726T035626Z
LAST-MODIFIED:20251029T185432Z
UID:10002826-1764352800-1764439199@stayinmcallen.com
SUMMARY:UTRGV Men's Soccer vs Third Round
DESCRIPTION:UTRGV Men’s Soccer vs Third Round
URL:https://stayinmcallen.com/events/utrgv-mens-soccer-vs-third-round-3/
LOCATION:Campus Site
CATEGORIES:UTRGV Athletics
END:VEVENT
BEGIN:VEVENT
DTSTART;VALUE=DATE:20251128
DTEND;VALUE=DATE:20251130
DTSTAMP:20260425T074438
CREATED:20250726T035658Z
LAST-MODIFIED:20250726T035658Z
UID:10002835-1764352800-1764439199@stayinmcallen.com
SUMMARY:UTRGV Men's Soccer vs Third Round
DESCRIPTION:UTRGV Men’s Soccer vs Third Round
URL:https://stayinmcallen.com/events/utrgv-mens-soccer-vs-third-round-4/
LOCATION:Campus Site
CATEGORIES:UTRGV Athletics
END:VEVENT
BEGIN:VEVENT
DTSTART;TZID=America/Chicago:20251202T183000
DTEND;TZID=America/Chicago:20251202T203000
DTSTAMP:20260425T074438
CREATED:20250809T043013Z
LAST-MODIFIED:20251203T012904Z
UID:10002854-1764700200-1764707400@stayinmcallen.com
SUMMARY:UTRGV Women's Basketball at Lamar
DESCRIPTION:UTRGV Women’s Basketball at Lamar\nStreaming Video: https://www.southland.org/espn
URL:https://stayinmcallen.com/events/utrgv-womens-basketball-at-lamar-3/
LOCATION:Beaumont\, Texas\, Neches Federal Credit Union Arena at the Montagne Center
CATEGORIES:UTRGV Athletics
END:VEVENT
BEGIN:VEVENT
DTSTART;TZID=America/Chicago:20251203T180000
DTEND;TZID=America/Chicago:20251203T200000
DTSTAMP:20260425T074438
CREATED:20250809T043019Z
LAST-MODIFIED:20251203T012908Z
UID:10002855-1764784800-1764792000@stayinmcallen.com
SUMMARY:UTRGV Men's Basketball at Stephen F. Austin
DESCRIPTION:UTRGV Men’s Basketball at Stephen F. Austin\nStreaming Video: https://www.southland.org/espn
URL:https://stayinmcallen.com/events/utrgv-mens-basketball-at-stephen-f-austin-5/
LOCATION:Nacogdoches\, Texas\, William R. Johnson Coliseum
CATEGORIES:UTRGV Athletics
END:VEVENT
BEGIN:VEVENT
DTSTART;VALUE=DATE:20251203
DTEND;VALUE=DATE:20251206
DTSTAMP:20260425T074438
CREATED:20250726T035630Z
LAST-MODIFIED:20251126T003021Z
UID:10002827-1764784800-1764957599@stayinmcallen.com
SUMMARY:UTRGV Volleyball vs First & Second Rounds
DESCRIPTION:UTRGV Volleyball vs First & Second Rounds
URL:https://stayinmcallen.com/events/utrgv-volleyball-vs-first-second-rounds/
LOCATION:Campus Sites
CATEGORIES:UTRGV Athletics
END:VEVENT
BEGIN:VEVENT
DTSTART;VALUE=DATE:20251203
DTEND;VALUE=DATE:20251206
DTSTAMP:20260425T074438
CREATED:20250726T035702Z
LAST-MODIFIED:20250726T035702Z
UID:10002836-1764784800-1764957599@stayinmcallen.com
SUMMARY:UTRGV Volleyball vs First & Second Rounds
DESCRIPTION:UTRGV Volleyball vs First & Second Rounds
URL:https://stayinmcallen.com/events/utrgv-volleyball-vs-first-second-rounds-2/
LOCATION:Campus Sites
CATEGORIES:UTRGV Athletics
END:VEVENT
BEGIN:VEVENT
DTSTART;VALUE=DATE:20251204
DTEND;VALUE=DATE:20251206
DTSTAMP:20260425T074438
CREATED:20250726T035636Z
LAST-MODIFIED:20251022T175400Z
UID:10002828-1764871200-1764957599@stayinmcallen.com
SUMMARY:UTRGV Women's Soccer vs College Cup Semifinals
DESCRIPTION:UTRGV Women’s Soccer vs College Cup Semifinals
URL:https://stayinmcallen.com/events/utrgv-womens-soccer-vs-college-cup-semifinals-3/
LOCATION:Kansas City\, Mo.
CATEGORIES:UTRGV Athletics
END:VEVENT
BEGIN:VEVENT
DTSTART;VALUE=DATE:20251204
DTEND;VALUE=DATE:20251206
DTSTAMP:20260425T074438
CREATED:20250726T035705Z
LAST-MODIFIED:20250726T035705Z
UID:10002837-1764871200-1764957599@stayinmcallen.com
SUMMARY:UTRGV Women's Soccer vs College Cup Semifinals
DESCRIPTION:UTRGV Women’s Soccer vs College Cup Semifinals
URL:https://stayinmcallen.com/events/utrgv-womens-soccer-vs-college-cup-semifinals-4/
LOCATION:Kansas City\, Mo.
CATEGORIES:UTRGV Athletics
END:VEVENT
BEGIN:VEVENT
DTSTART;VALUE=DATE:20251205
DTEND;VALUE=DATE:20251207
DTSTAMP:20260425T074438
CREATED:20250726T035640Z
LAST-MODIFIED:20251029T185446Z
UID:10002829-1764957600-1765043999@stayinmcallen.com
SUMMARY:UTRGV Men's Soccer vs Quarterfinals
DESCRIPTION:UTRGV Men’s Soccer vs Quarterfinals
URL:https://stayinmcallen.com/events/utrgv-mens-soccer-vs-quarterfinals-4/
LOCATION:Campus Site
CATEGORIES:UTRGV Athletics
END:VEVENT
BEGIN:VEVENT
DTSTART;VALUE=DATE:20251205
DTEND;VALUE=DATE:20251207
DTSTAMP:20260425T074438
CREATED:20250726T035708Z
LAST-MODIFIED:20250726T035708Z
UID:10002838-1764957600-1765043999@stayinmcallen.com
SUMMARY:UTRGV Men's Soccer vs Quarterfinals
DESCRIPTION:UTRGV Men’s Soccer vs Quarterfinals
URL:https://stayinmcallen.com/events/utrgv-mens-soccer-vs-quarterfinals-5/
LOCATION:Campus Site
CATEGORIES:UTRGV Athletics
END:VEVENT
BEGIN:VEVENT
DTSTART;TZID=America/Chicago:20251206T090000
DTEND;TZID=America/Chicago:20251206T120000
DTSTAMP:20260425T074438
CREATED:20251203T012911Z
LAST-MODIFIED:20251203T012911Z
UID:10003285-1765011600-1765022400@stayinmcallen.com
SUMMARY:UTRGV Camps  TF/XC Youth Camp – Brownsville (Grades 1-8)
DESCRIPTION:UTRGV Camps  TF/XC Youth Camp – Brownsville (Grades 1-8)
URL:https://stayinmcallen.com/events/utrgv-camps-tf-xc-youth-camp-brownsville-grades-1-8/
LOCATION:Brownsville\, TX\, Sams Memorial Stadium
CATEGORIES:UTRGV Athletics
END:VEVENT
BEGIN:VEVENT
DTSTART;VALUE=DATE:20251206
DTEND;VALUE=DATE:20251208
DTSTAMP:20260425T074438
CREATED:20250726T035643Z
LAST-MODIFIED:20251022T175408Z
UID:10002830-1765044000-1765130399@stayinmcallen.com
SUMMARY:UTRGV Women's Soccer vs College Cup Finals
DESCRIPTION:UTRGV Women’s Soccer vs College Cup Finals
URL:https://stayinmcallen.com/events/utrgv-womens-soccer-vs-college-cup-finals-2/
LOCATION:Kansas City\, Mo.
CATEGORIES:UTRGV Athletics
END:VEVENT
BEGIN:VEVENT
DTSTART;TZID=America/Chicago:20251207T130000
DTEND;TZID=America/Chicago:20251207T150000
DTSTAMP:20260425T074438
CREATED:20251015T164946Z
LAST-MODIFIED:20251203T012915Z
UID:10003178-1765112400-1765119600@stayinmcallen.com
SUMMARY:UTRGV Men's Basketball vs Austin Peay - Teddy Bear Toss\, presented Driscoll Children's Hospital
DESCRIPTION:UTRGV Men’s Basketball vs Austin Peay – Teddy Bear Toss\, presented Driscoll Children’s Hospital Streaming Video: https://www.southland.org/espn Streaming Audio: https://www.southland.org/watch Tickets: http://utrgvtickets.com/
URL:https://stayinmcallen.com/events/utrgv-mens-basketball-vs-austin-peay/
LOCATION:Edinburg\, TX\, UTRGV Fieldhouse
CATEGORIES:UTRGV Athletics
END:VEVENT
BEGIN:VEVENT
DTSTART;VALUE=DATE:20251210
DTEND;VALUE=DATE:20251214
DTSTAMP:20260425T074439
CREATED:20250726T035647Z
LAST-MODIFIED:20251126T003035Z
UID:10002831-1765389600-1765648799@stayinmcallen.com
SUMMARY:UTRGV Volleyball vs Regionals
DESCRIPTION:UTRGV Volleyball vs Regionals
URL:https://stayinmcallen.com/events/utrgv-volleyball-vs-regionals/
LOCATION:Campus Sites
CATEGORIES:UTRGV Athletics
END:VEVENT
BEGIN:VEVENT
DTSTART;TZID=America/Chicago:20251210T183000
DTEND;TZID=America/Chicago:20251210T203000
DTSTAMP:20260425T074439
CREATED:20250830T060055Z
LAST-MODIFIED:20251210T023739Z
UID:10003044-1765391400-1765398600@stayinmcallen.com
SUMMARY:UTRGV Women's Basketball vs Texas - Presented by McAllen International Airport
DESCRIPTION:UTRGV Women’s Basketball vs Texas – Presented by McAllen International Airport\nStreaming Video: https://www.southland.org/espn\nStreaming Audio: https://www.southland.org/watch\nTickets: https://bertogdenarena.com/
URL:https://stayinmcallen.com/events/utrgv-womens-basketball-vs-texas-2/
LOCATION:Edinburg\, Texas\, Bert Ogden Arena
CATEGORIES:UTRGV Athletics
END:VEVENT
BEGIN:VEVENT
DTSTART;TZID=America/Chicago:20251210T183000
DTEND;TZID=America/Chicago:20251210T203000
DTSTAMP:20260425T074439
CREATED:20250830T060122Z
LAST-MODIFIED:20250830T060122Z
UID:10003047-1765391400-1765398600@stayinmcallen.com
SUMMARY:UTRGV Women's Basketball vs Texas
DESCRIPTION:UTRGV Women’s Basketball vs Texas\nTV: ESPN+ (USA) | Southland International\nStreaming Video: https://www.southland.org/espn\nTickets: https://www.showpass.com/o/university-of-texas-rio-grande-valley-utrgv/
URL:https://stayinmcallen.com/events/utrgv-womens-basketball-vs-texas-3/
LOCATION:Edinburg\, Texas\, Bert Ogden Arena
CATEGORIES:UTRGV Athletics
END:VEVENT
BEGIN:VEVENT
DTSTART;VALUE=DATE:20251211
DTEND;VALUE=DATE:20251213
DTSTAMP:20260425T074439
CREATED:20250726T035651Z
LAST-MODIFIED:20251029T185515Z
UID:10002832-1765476000-1765562399@stayinmcallen.com
SUMMARY:UTRGV Men's Soccer vs College Cup Semifinals
DESCRIPTION:UTRGV Men’s Soccer vs College Cup Semifinals
URL:https://stayinmcallen.com/events/utrgv-mens-soccer-vs-college-cup-semifinals-3/
LOCATION:Kansas City\, Mo.
CATEGORIES:UTRGV Athletics
END:VEVENT
BEGIN:VEVENT
DTSTART;TZID=America/Chicago:20251211T183000
DTEND;TZID=America/Chicago:20251211T203000
DTSTAMP:20260425T074439
CREATED:20251015T165017Z
LAST-MODIFIED:20251210T023743Z
UID:10003179-1765477800-1765485000@stayinmcallen.com
SUMMARY:UTRGV Men's Basketball vs UT Arlington
DESCRIPTION:UTRGV Men’s Basketball vs UT Arlington\nStreaming Video: https://www.southland.org/espn\nStreaming Audio: https://www.southland.org/watch\nTickets: http://utrgvtickets.com/
URL:https://stayinmcallen.com/events/utrgv-mens-basketball-vs-ut-arlington-3/
LOCATION:Edinburg\, TX\, UTRGV Fieldhouse
CATEGORIES:UTRGV Athletics
END:VEVENT
BEGIN:VEVENT
DTSTART;VALUE=DATE:20251214
DTEND;VALUE=DATE:20251216
DTSTAMP:20260425T074439
CREATED:20250726T035654Z
LAST-MODIFIED:20251029T185536Z
UID:10002833-1765735200-1765821599@stayinmcallen.com
SUMMARY:UTRGV Men's Soccer vs College Cup Finals
DESCRIPTION:UTRGV Men’s Soccer vs College Cup Finals
URL:https://stayinmcallen.com/events/utrgv-mens-soccer-vs-college-cup-finals-2/
LOCATION:Kansas City\, Mo.
CATEGORIES:UTRGV Athletics
END:VEVENT
BEGIN:VEVENT
DTSTART;TZID=America/Chicago:20251215T180000
DTEND;TZID=America/Chicago:20251215T200000
DTSTAMP:20260425T074439
CREATED:20250809T043106Z
LAST-MODIFIED:20251210T023747Z
UID:10002856-1765821600-1765828800@stayinmcallen.com
SUMMARY:UTRGV Women's Basketball at Stephen F. Austin
DESCRIPTION:UTRGV Women’s Basketball at Stephen F. Austin\nStreaming Video: https://www.southland.org/espn
URL:https://stayinmcallen.com/events/utrgv-womens-basketball-at-stephen-f-austin-4/
LOCATION:Nacogdoches\, Texas\, William R. Johnson Coliseum
CATEGORIES:UTRGV Athletics
END:VEVENT
BEGIN:VEVENT
DTSTART;TZID=America/Chicago:20251216T180000
DTEND;TZID=America/Chicago:20251216T200000
DTSTAMP:20260425T074439
CREATED:20250809T043114Z
LAST-MODIFIED:20251210T023750Z
UID:10002857-1765908000-1765915200@stayinmcallen.com
SUMMARY:UTRGV Men's Basketball at Lamar
DESCRIPTION:UTRGV Men’s Basketball at Lamar\nStreaming Video: https://www.southland.org/espn
URL:https://stayinmcallen.com/events/utrgv-mens-basketball-at-lamar-3/
LOCATION:Beaumont\, Texas\, Neches Federal Credit Union Arena at the Montagne Center
CATEGORIES:UTRGV Athletics
END:VEVENT
BEGIN:VEVENT
DTSTART;TZID=America/Chicago:20251217T160000
DTEND;TZID=America/Chicago:20251217T180000
DTSTAMP:20260425T074439
CREATED:20250830T060125Z
LAST-MODIFIED:20251217T031849Z
UID:10003045-1765987200-1765994400@stayinmcallen.com
SUMMARY:UTRGV Women's Basketball vs North Dakota State
DESCRIPTION:UTRGV Women’s Basketball vs North Dakota State\nStreaming Audio: https://gobison.com/watch/?Live=4795&type=Live
URL:https://stayinmcallen.com/events/utrgv-womens-basketball-vs-north-dakota-state/
LOCATION:Malibu\, Calif.\, Firestone Fieldhouse
CATEGORIES:UTRGV Athletics
END:VEVENT
BEGIN:VEVENT
DTSTART;VALUE=DATE:20251217
DTEND;VALUE=DATE:20251219
DTSTAMP:20260425T074439
CREATED:20250726T035659Z
LAST-MODIFIED:20251126T003059Z
UID:10002839-1765994400-1766080799@stayinmcallen.com
SUMMARY:UTRGV Volleyball vs Semifinals
DESCRIPTION:UTRGV Volleyball vs Semifinals
URL:https://stayinmcallen.com/events/utrgv-volleyball-vs-semifinals-4/
LOCATION:Kansas City\, Mo.
CATEGORIES:UTRGV Athletics
END:VEVENT
BEGIN:VEVENT
DTSTART;TZID=America/Chicago:20251218T180000
DTEND;TZID=America/Chicago:20251218T200000
DTSTAMP:20260425T074439
CREATED:20250830T060129Z
LAST-MODIFIED:20251218T112539Z
UID:10003046-1766080800-1766088000@stayinmcallen.com
SUMMARY:UTRGV Women's Basketball vs South Dakota
DESCRIPTION:UTRGV Women’s Basketball vs South Dakota\nStreaming Audio: https://thevarsitynetwork.com/feed/source/oas-1036?audioPlayer=usd:allaccess-Live-1960
URL:https://stayinmcallen.com/events/utrgv-womens-basketball-vs-south-dakota/
LOCATION:Malibu\, Calif.\, Firestone Fieldhouse
CATEGORIES:UTRGV Athletics
END:VEVENT
BEGIN:VEVENT
DTSTART;TZID=America/Chicago:20251220T140000
DTEND;TZID=America/Chicago:20251220T160000
DTSTAMP:20260425T074439
CREATED:20251015T165100Z
LAST-MODIFIED:20251218T112543Z
UID:10003180-1766239200-1766246400@stayinmcallen.com
SUMMARY:UTRGV Men's Basketball vs College of Biblical Studies - Ugly Sweater Day
DESCRIPTION:UTRGV Men’s Basketball vs College of Biblical Studies – Ugly Sweater Day\nStreaming Video: https://www.southland.org/espn\nStreaming Audio: https://www.southland.org/watch\nTickets: http://utrgvtickets.com/
URL:https://stayinmcallen.com/events/utrgv-mens-basketball-vs-college-of-biblical-studies-2/
LOCATION:Edinburg\, TX\, UTRGV Fieldhouse
CATEGORIES:UTRGV Athletics
END:VEVENT
END:VCALENDAR