BEGIN:VCALENDAR
VERSION:2.0
PRODID:-//Stayinmcallen - ECPv6.15.20//NONSGML v1.0//EN
CALSCALE:GREGORIAN
METHOD:PUBLISH
X-ORIGINAL-URL:https://stayinmcallen.com
X-WR-CALDESC:Events for Stayinmcallen
REFRESH-INTERVAL;VALUE=DURATION:PT1H
X-Robots-Tag:noindex
X-PUBLISHED-TTL:PT1H
BEGIN:VTIMEZONE
TZID:America/Chicago
BEGIN:DAYLIGHT
TZOFFSETFROM:-0600
TZOFFSETTO:-0500
TZNAME:CDT
DTSTART:20250309T080000
END:DAYLIGHT
BEGIN:STANDARD
TZOFFSETFROM:-0500
TZOFFSETTO:-0600
TZNAME:CST
DTSTART:20251102T070000
END:STANDARD
BEGIN:DAYLIGHT
TZOFFSETFROM:-0600
TZOFFSETTO:-0500
TZNAME:CDT
DTSTART:20260308T080000
END:DAYLIGHT
BEGIN:STANDARD
TZOFFSETFROM:-0500
TZOFFSETTO:-0600
TZNAME:CST
DTSTART:20261101T070000
END:STANDARD
BEGIN:DAYLIGHT
TZOFFSETFROM:-0600
TZOFFSETTO:-0500
TZNAME:CDT
DTSTART:20270314T080000
END:DAYLIGHT
BEGIN:STANDARD
TZOFFSETFROM:-0500
TZOFFSETTO:-0600
TZNAME:CST
DTSTART:20271107T070000
END:STANDARD
END:VTIMEZONE
BEGIN:VEVENT
DTSTART;TZID=America/Chicago:20260117T180000
DTEND;TZID=America/Chicago:20260117T210000
DTSTAMP:20260425T114559
CREATED:20251217T032037Z
LAST-MODIFIED:20260113T220339Z
UID:10003338-1768672800-1768683600@stayinmcallen.com
SUMMARY:UTRGV Men's Tennis vs Saint Joseph's
DESCRIPTION:UTRGV Men’s Tennis vs Saint Joseph’s
URL:https://stayinmcallen.com/events/utrgv-mens-tennis-vs-saint-josephs/
LOCATION:Stillwater\, Okla.
CATEGORIES:UTRGV Athletics
END:VEVENT
BEGIN:VEVENT
DTSTART;TZID=America/Chicago:20260118T100000
DTEND;TZID=America/Chicago:20260118T130000
DTSTAMP:20260425T114559
CREATED:20251217T032052Z
LAST-MODIFIED:20260113T220343Z
UID:10003339-1768730400-1768741200@stayinmcallen.com
SUMMARY:UTRGV Men's Tennis vs Saint Louis
DESCRIPTION:UTRGV Men’s Tennis vs Saint Louis
URL:https://stayinmcallen.com/events/utrgv-mens-tennis-vs-saint-louis/
LOCATION:Stillwater\, Okla.
CATEGORIES:UTRGV Athletics
END:VEVENT
BEGIN:VEVENT
DTSTART;TZID=America/Chicago:20260118T140000
DTEND;TZID=America/Chicago:20260118T170000
DTSTAMP:20260425T114559
CREATED:20251225T125427Z
LAST-MODIFIED:20260113T220347Z
UID:10003383-1768744800-1768755600@stayinmcallen.com
SUMMARY:UTRGV Women's Tennis vs Abilene Christian
DESCRIPTION:UTRGV Women’s Tennis vs Abilene Christian
URL:https://stayinmcallen.com/events/utrgv-womens-tennis-vs-abilene-christian-2/
LOCATION:Lubbock\, Texas
CATEGORIES:UTRGV Athletics
END:VEVENT
BEGIN:VEVENT
DTSTART;TZID=America/Chicago:20260119T100000
DTEND;TZID=America/Chicago:20260119T130000
DTSTAMP:20260425T114559
CREATED:20251217T032056Z
LAST-MODIFIED:20260113T220357Z
UID:10003340-1768816800-1768827600@stayinmcallen.com
SUMMARY:UTRGV Men's Tennis at Tulsa
DESCRIPTION:UTRGV Men’s Tennis at Tulsa
URL:https://stayinmcallen.com/events/utrgv-mens-tennis-at-tulsa/
LOCATION:Tulsa\, Okla.
CATEGORIES:UTRGV Athletics
END:VEVENT
BEGIN:VEVENT
DTSTART;TZID=America/Chicago:20260119T100000
DTEND;TZID=America/Chicago:20260119T130000
DTSTAMP:20260425T114559
CREATED:20251225T125431Z
LAST-MODIFIED:20260113T220351Z
UID:10003384-1768816800-1768827600@stayinmcallen.com
SUMMARY:UTRGV Women's Tennis at Texas Tech
DESCRIPTION:UTRGV Women’s Tennis at Texas Tech
URL:https://stayinmcallen.com/events/utrgv-womens-tennis-at-texas-tech/
LOCATION:Lubbock\, Texas
CATEGORIES:UTRGV Athletics
END:VEVENT
BEGIN:VEVENT
DTSTART;TZID=America/Chicago:20260119T183000
DTEND;TZID=America/Chicago:20260119T203000
DTSTAMP:20260425T114559
CREATED:20250809T043305Z
LAST-MODIFIED:20260113T220400Z
UID:10002872-1768847400-1768854600@stayinmcallen.com
SUMMARY:UTRGV Men's Basketball vs Southeastern - Monday Madness
DESCRIPTION:UTRGV Men’s Basketball vs Southeastern – Monday Madness\nStreaming Video: https://www.southland.org/espn\nStreaming Audio: https://www.southland.org/watch\nTickets: http://utrgvtickets.com/
URL:https://stayinmcallen.com/events/utrgv-mens-basketball-vs-southeastern-2/
LOCATION:Edinburg\, Texas\, UTRGV Fieldhouse
CATEGORIES:UTRGV Athletics
END:VEVENT
BEGIN:VEVENT
DTSTART;TZID=America/Chicago:20260122T190000
DTEND;TZID=America/Chicago:20260122T210000
DTSTAMP:20260425T114559
CREATED:20250809T043310Z
LAST-MODIFIED:20260122T015028Z
UID:10002873-1769108400-1769115600@stayinmcallen.com
SUMMARY:UTRGV Women's Basketball at Texas A&M-Corpus Christi
DESCRIPTION:UTRGV Women’s Basketball at Texas A&M-Corpus Christi\nStreaming Video: https://www.southland.org/espn
URL:https://stayinmcallen.com/events/utrgv-womens-basketball-at-texas-am-corpus-christi-3/
LOCATION:Corpus Christi\, Texas\, Hilliard Center
CATEGORIES:UTRGV Athletics
END:VEVENT
BEGIN:VEVENT
DTSTART;TZID=America/Chicago:20260124T100000
DTEND;TZID=America/Chicago:20260124T130000
DTSTAMP:20260425T114559
CREATED:20250719T033933Z
LAST-MODIFIED:20260122T015034Z
UID:10002724-1769248800-1769259600@stayinmcallen.com
SUMMARY:CANCELLED UTRGV Women's Swimming & Diving  North Texas
DESCRIPTION:CANCELLED UTRGV Women’s Swimming & Diving  North Texas
URL:https://stayinmcallen.com/events/utrgv-womens-swimming-diving-university-of-north-texas/
LOCATION:Denton\, Texas
CATEGORIES:UTRGV Athletics
END:VEVENT
BEGIN:VEVENT
DTSTART;TZID=America/Chicago:20260124T110000
DTEND;TZID=America/Chicago:20260124T140000
DTSTAMP:20260425T114559
CREATED:20251225T125505Z
LAST-MODIFIED:20260122T015038Z
UID:10003385-1769252400-1769263200@stayinmcallen.com
SUMMARY:UTRGV Women's Tennis at UT Arlington
DESCRIPTION:UTRGV Women’s Tennis at UT Arlington
URL:https://stayinmcallen.com/events/utrgv-womens-tennis-at-ut-arlington-2/
LOCATION:Arlington\, Texas
CATEGORIES:UTRGV Athletics
END:VEVENT
BEGIN:VEVENT
DTSTART;TZID=America/Chicago:20260124T130000
DTEND;TZID=America/Chicago:20260124T150000
DTSTAMP:20260425T114559
CREATED:20250809T043329Z
LAST-MODIFIED:20260122T015042Z
UID:10002875-1769259600-1769266800@stayinmcallen.com
SUMMARY:UTRGV Women's Basketball at Houston Christian University
DESCRIPTION:UTRGV Women’s Basketball at Houston Christian University\nStreaming Video: https://www.southland.org/espn
URL:https://stayinmcallen.com/events/utrgv-womens-basketball-at-houston-christian-university/
LOCATION:Houston\, Texas\, Sharp Gym
CATEGORIES:UTRGV Athletics
END:VEVENT
BEGIN:VEVENT
DTSTART;TZID=America/Chicago:20260124T153000
DTEND;TZID=America/Chicago:20260124T173000
DTSTAMP:20260425T114559
CREATED:20250809T043317Z
LAST-MODIFIED:20260122T015046Z
UID:10002874-1769268600-1769275800@stayinmcallen.com
SUMMARY:UTRGV Men's Basketball at Houston Christian University
DESCRIPTION:UTRGV Men’s Basketball at Houston Christian University\nStreaming Video: https://www.southland.org/espn
URL:https://stayinmcallen.com/events/utrgv-mens-basketball-at-houston-christian-university/
LOCATION:Houston\, Texas\, Sharp Gym
CATEGORIES:UTRGV Athletics
END:VEVENT
BEGIN:VEVENT
DTSTART;TZID=America/Chicago:20260125T120000
DTEND;TZID=America/Chicago:20260125T150000
DTSTAMP:20260425T114559
CREATED:20251225T125516Z
LAST-MODIFIED:20260122T015052Z
UID:10003386-1769342400-1769353200@stayinmcallen.com
SUMMARY:UTRGV Women's Tennis at SMU
DESCRIPTION:UTRGV Women’s Tennis at SMU
URL:https://stayinmcallen.com/events/utrgv-womens-tennis-at-smu/
LOCATION:Dallas\, Texas
CATEGORIES:UTRGV Athletics
END:VEVENT
BEGIN:VEVENT
DTSTART;TZID=America/Chicago:20260126T190000
DTEND;TZID=America/Chicago:20260126T210000
DTSTAMP:20260425T114559
CREATED:20250809T043335Z
LAST-MODIFIED:20260122T015056Z
UID:10002876-1769454000-1769461200@stayinmcallen.com
SUMMARY:UTRGV Men's Basketball at Texas A&M-Corpus Christi
DESCRIPTION:UTRGV Men’s Basketball at Texas A&M-Corpus Christi\nStreaming Video: https://www.southland.org/espn
URL:https://stayinmcallen.com/events/utrgv-mens-basketball-at-texas-am-corpus-christi-4/
LOCATION:Corpus Christi\, Texas\, Hilliard Center
CATEGORIES:UTRGV Athletics
END:VEVENT
BEGIN:VEVENT
DTSTART;VALUE=DATE:20260129
DTEND;VALUE=DATE:20260131
DTSTAMP:20260425T114559
CREATED:20250719T033938Z
LAST-MODIFIED:20260130T073135Z
UID:10002725-1769709600-1769795999@stayinmcallen.com
SUMMARY:UTRGV Women's Swimming & Diving  Little Rock
DESCRIPTION:UTRGV Women’s Swimming & Diving  Little Rock
URL:https://stayinmcallen.com/events/utrgv-womens-swimming-diving-little-rock/
LOCATION:Little Rock\, Ark.
CATEGORIES:UTRGV Athletics
END:VEVENT
BEGIN:VEVENT
DTSTART;TZID=America/Chicago:20260129T183000
DTEND;TZID=America/Chicago:20260129T203000
DTSTAMP:20260425T114559
CREATED:20250809T043343Z
LAST-MODIFIED:20260129T022113Z
UID:10002877-1769711400-1769718600@stayinmcallen.com
SUMMARY:UTRGV Women's Basketball vs Houston Christian University - Greek Night
DESCRIPTION:UTRGV Women’s Basketball vs Houston Christian University – Greek Night\nStreaming Video: https://www.southland.org/espn\nStreaming Audio: https://www.southland.org/watch\nTickets: https://www.showpass.com/o/university-of-texas-rio-grande-valley-utrgv/
URL:https://stayinmcallen.com/events/utrgv-womens-basketball-vs-houston-christian-university/
LOCATION:Edinburg\, Texas\, UTRGV Fieldhouse
CATEGORIES:UTRGV Athletics
END:VEVENT
BEGIN:VEVENT
DTSTART;TZID=America/Chicago:20260130T130000
DTEND;TZID=America/Chicago:20260130T160000
DTSTAMP:20260425T114559
CREATED:20251217T032142Z
LAST-MODIFIED:20260130T073139Z
UID:10003341-1769778000-1769788800@stayinmcallen.com
SUMMARY:UTRGV Men's Tennis at SMU
DESCRIPTION:UTRGV Men’s Tennis at SMU\nStreaming Video: https://web.playsight.com/facility/southern-methodist-university/home
URL:https://stayinmcallen.com/events/utrgv-mens-tennis-at-smu-3/
LOCATION:Dallas\, Texas
CATEGORIES:UTRGV Athletics
END:VEVENT
BEGIN:VEVENT
DTSTART;TZID=America/Chicago:20260131T120000
DTEND;TZID=America/Chicago:20260131T150000
DTSTAMP:20260425T114559
CREATED:20251225T125548Z
LAST-MODIFIED:20260130T073143Z
UID:10003387-1769860800-1769871600@stayinmcallen.com
SUMMARY:UTRGV Women's Tennis vs Texas State
DESCRIPTION:UTRGV Women’s Tennis vs Texas State
URL:https://stayinmcallen.com/events/utrgv-womens-tennis-vs-texas-state-2/
LOCATION:Edinburg\, Texas\, Orville I. Cox Tennis Center
CATEGORIES:UTRGV Athletics
END:VEVENT
BEGIN:VEVENT
DTSTART;TZID=America/Chicago:20260131T130000
DTEND;TZID=America/Chicago:20260131T150000
DTSTAMP:20260425T114559
CREATED:20250809T043354Z
LAST-MODIFIED:20260130T073148Z
UID:10002879-1769864400-1769871600@stayinmcallen.com
SUMMARY:UTRGV Women's Basketball at Incarnate Word
DESCRIPTION:UTRGV Women’s Basketball at Incarnate Word\nStreaming Video: https://www.southland.org/espn
URL:https://stayinmcallen.com/events/utrgv-womens-basketball-at-incarnate-word-3/
LOCATION:San Antonio\, Texas\, McDermott Center
CATEGORIES:UTRGV Athletics
END:VEVENT
BEGIN:VEVENT
DTSTART;TZID=America/Chicago:20260131T160000
DTEND;TZID=America/Chicago:20260131T180000
DTSTAMP:20260425T114559
CREATED:20250809T043348Z
LAST-MODIFIED:20260130T073152Z
UID:10002878-1769875200-1769882400@stayinmcallen.com
SUMMARY:UTRGV Men's Basketball at UIW
DESCRIPTION:UTRGV Men’s Basketball at UIW\nStreaming Video: https://www.southland.org/espn
URL:https://stayinmcallen.com/events/utrgv-mens-basketball-at-incarnate-word-3/
LOCATION:San Antonio\, Texas\, McDermott Center
CATEGORIES:UTRGV Athletics
END:VEVENT
BEGIN:VEVENT
DTSTART;VALUE=DATE:20260131
DTEND;VALUE=DATE:20260203
DTSTAMP:20260425T114559
CREATED:20250816T050347Z
LAST-MODIFIED:20260130T073158Z
UID:10002954-1769882400-1770055199@stayinmcallen.com
SUMMARY:UTRGV Men's Golf  Compadres Collegiate
DESCRIPTION:UTRGV Men’s Golf  Compadres Collegiate
URL:https://stayinmcallen.com/events/utrgv-mens-golf-compadres-collegiate/
LOCATION:Playa Del Carmen\, Mexico
CATEGORIES:UTRGV Athletics
END:VEVENT
BEGIN:VEVENT
DTSTART;TZID=America/Chicago:20260201T130000
DTEND;TZID=America/Chicago:20260201T160000
DTSTAMP:20260425T114559
CREATED:20251225T125603Z
LAST-MODIFIED:20260130T073203Z
UID:10003388-1769950800-1769961600@stayinmcallen.com
SUMMARY:UTRGV Women's Tennis at Texas A&M-Kingsville
DESCRIPTION:UTRGV Women’s Tennis at Texas A&M-Kingsville
URL:https://stayinmcallen.com/events/utrgv-womens-tennis-at-texas-am-kingsville/
LOCATION:Kingsville\, Texas
CATEGORIES:UTRGV Athletics
END:VEVENT
BEGIN:VEVENT
DTSTART;VALUE=DATE:20260201
DTEND;VALUE=DATE:20260203
DTSTAMP:20260425T114559
CREATED:20250816T050412Z
LAST-MODIFIED:20260130T073208Z
UID:10002956-1769968800-1770055199@stayinmcallen.com
SUMMARY:UTRGV Women's Golf  Texas State Invitational
DESCRIPTION:UTRGV Women’s Golf  Texas State Invitational
URL:https://stayinmcallen.com/events/utrgv-womens-golf-texas-state-invitational-4/
LOCATION:New Braunfels\, Texas
CATEGORIES:UTRGV Athletics
END:VEVENT
BEGIN:VEVENT
DTSTART;TZID=America/Chicago:20260202T183000
DTEND;TZID=America/Chicago:20260202T203000
DTSTAMP:20260425T114559
CREATED:20250809T043359Z
LAST-MODIFIED:20260130T073212Z
UID:10002880-1770057000-1770064200@stayinmcallen.com
SUMMARY:UTRGV Men's Basketball vs Houston Christian University - Monday Madness
DESCRIPTION:UTRGV Men’s Basketball vs Houston Christian University – Monday Madness\nStreaming Video: https://www.southland.org/espn\nStreaming Audio: https://www.southland.org/watch\nTickets: http://utrgvtickets.com/
URL:https://stayinmcallen.com/events/utrgv-mens-basketball-vs-houston-christian-university/
LOCATION:Edinburg\, Texas\, UTRGV Fieldhouse
CATEGORIES:UTRGV Athletics
END:VEVENT
BEGIN:VEVENT
DTSTART;TZID=America/Chicago:20260205T183000
DTEND;TZID=America/Chicago:20260205T203000
DTSTAMP:20260425T114559
CREATED:20250809T043407Z
LAST-MODIFIED:20260130T073216Z
UID:10002881-1770316200-1770323400@stayinmcallen.com
SUMMARY:UTRGV Women's Basketball at Nicholls
DESCRIPTION:UTRGV Women’s Basketball at Nicholls\nStreaming Video: https://www.southland.org/espn
URL:https://stayinmcallen.com/events/utrgv-womens-basketball-at-nicholls-2/
LOCATION:Thibodaux\, La.\, David R. Stopher Gymnasium
CATEGORIES:UTRGV Athletics
END:VEVENT
BEGIN:VEVENT
DTSTART;TZID=America/Chicago:20260206T093000
DTEND;TZID=America/Chicago:20260206T235900
DTSTAMP:20260425T114559
CREATED:20251225T125618Z
LAST-MODIFIED:20260206T074730Z
UID:10003389-1770370200-1770422340@stayinmcallen.com
SUMMARY:UTRGV Men's Track & Field  Charlie Thomas Invitational
DESCRIPTION:UTRGV Men’s Track & Field  Charlie Thomas Invitational
URL:https://stayinmcallen.com/events/utrgv-mens-track-field-texas-am-university/
LOCATION:College Station\, Texas
CATEGORIES:UTRGV Athletics
END:VEVENT
BEGIN:VEVENT
DTSTART;TZID=America/Chicago:20260206T093000
DTEND;TZID=America/Chicago:20260206T235900
DTSTAMP:20260425T114559
CREATED:20251225T125622Z
LAST-MODIFIED:20260206T074726Z
UID:10003390-1770370200-1770422340@stayinmcallen.com
SUMMARY:UTRGV Women's Track & Field  Charlie Thomas Invitational
DESCRIPTION:UTRGV Women’s Track & Field  Charlie Thomas Invitational
URL:https://stayinmcallen.com/events/utrgv-womens-track-field-texas-am-university/
LOCATION:College Station\, Texas
CATEGORIES:UTRGV Athletics
END:VEVENT
BEGIN:VEVENT
DTSTART;TZID=America/Chicago:20260206T120000
DTEND;TZID=America/Chicago:20260206T150000
DTSTAMP:20260425T114559
CREATED:20251225T125639Z
LAST-MODIFIED:20260206T074734Z
UID:10003391-1770379200-1770390000@stayinmcallen.com
SUMMARY:UTRGV Women's Tennis vs New Mexico
DESCRIPTION:UTRGV Women’s Tennis vs New Mexico
URL:https://stayinmcallen.com/events/utrgv-womens-tennis-vs-new-mexico/
LOCATION:Houston\, Texas
CATEGORIES:UTRGV Athletics
END:VEVENT
BEGIN:VEVENT
DTSTART;TZID=America/Chicago:20260207T110000
DTEND;TZID=America/Chicago:20260207T140000
DTSTAMP:20260425T114559
CREATED:20250719T033942Z
LAST-MODIFIED:20251105T201306Z
UID:10002726-1770462000-1770472800@stayinmcallen.com
SUMMARY:UTRGV Women's Swimming & Diving  Northern Colorado
DESCRIPTION:UTRGV Women’s Swimming & Diving  Northern Colorado
URL:https://stayinmcallen.com/events/utrgv-womens-swimming-diving-university-of-northern-colorado/
LOCATION:Greeley\, Colo.
CATEGORIES:UTRGV Athletics
END:VEVENT
BEGIN:VEVENT
DTSTART;TZID=America/Chicago:20260207T130000
DTEND;TZID=America/Chicago:20260207T150000
DTSTAMP:20260425T114559
CREATED:20250809T043423Z
LAST-MODIFIED:20260207T151035Z
UID:10002882-1770469200-1770476400@stayinmcallen.com
SUMMARY:UTRGV Women's Basketball at New Orleans
DESCRIPTION:UTRGV Women’s Basketball at New Orleans\nTV: ESPN+ (USA) | Southland International\nStreaming Video: https://www.southland.org/espn
URL:https://stayinmcallen.com/events/utrgv-womens-basketball-at-new-orleans-2/
LOCATION:New Orleans\, La.\, Lakefront Arena
CATEGORIES:UTRGV Athletics
END:VEVENT
BEGIN:VEVENT
DTSTART;TZID=America/Chicago:20260207T143000
DTEND;TZID=America/Chicago:20260207T173000
DTSTAMP:20260425T114559
CREATED:20251225T125701Z
LAST-MODIFIED:20260207T151043Z
UID:10003392-1770474600-1770485400@stayinmcallen.com
SUMMARY:UTRGV Women's Tennis at Houston
DESCRIPTION:UTRGV Women’s Tennis at Houston\nStreaming Video: https://web.playsight.com/facility/barbara-wallace-winston-tennis-facility/home
URL:https://stayinmcallen.com/events/utrgv-womens-tennis-at-houston-3/
LOCATION:Houston\, Texas
CATEGORIES:UTRGV Athletics
END:VEVENT
END:VCALENDAR