BEGIN:VCALENDAR
VERSION:2.0
PRODID:-//Stayinmcallen - ECPv6.15.20//NONSGML v1.0//EN
CALSCALE:GREGORIAN
METHOD:PUBLISH
X-ORIGINAL-URL:https://stayinmcallen.com
X-WR-CALDESC:Events for Stayinmcallen
REFRESH-INTERVAL;VALUE=DURATION:PT1H
X-Robots-Tag:noindex
X-PUBLISHED-TTL:PT1H
BEGIN:VTIMEZONE
TZID:America/Chicago
BEGIN:DAYLIGHT
TZOFFSETFROM:-0600
TZOFFSETTO:-0500
TZNAME:CDT
DTSTART:20250309T080000
END:DAYLIGHT
BEGIN:STANDARD
TZOFFSETFROM:-0500
TZOFFSETTO:-0600
TZNAME:CST
DTSTART:20251102T070000
END:STANDARD
BEGIN:DAYLIGHT
TZOFFSETFROM:-0600
TZOFFSETTO:-0500
TZNAME:CDT
DTSTART:20260308T080000
END:DAYLIGHT
BEGIN:STANDARD
TZOFFSETFROM:-0500
TZOFFSETTO:-0600
TZNAME:CST
DTSTART:20261101T070000
END:STANDARD
BEGIN:DAYLIGHT
TZOFFSETFROM:-0600
TZOFFSETTO:-0500
TZNAME:CDT
DTSTART:20270314T080000
END:DAYLIGHT
BEGIN:STANDARD
TZOFFSETFROM:-0500
TZOFFSETTO:-0600
TZNAME:CST
DTSTART:20271107T070000
END:STANDARD
END:VTIMEZONE
BEGIN:VEVENT
DTSTART;VALUE=DATE:20260308
DTEND;VALUE=DATE:20260310
DTSTAMP:20260425T113924
CREATED:20250816T050700Z
LAST-MODIFIED:20260303T164647Z
UID:10002961-1772996400-1773082799@stayinmcallen.com
SUMMARY:UTRGV Women's Golf  Riverbend Intercollegiate
DESCRIPTION:UTRGV Women’s Golf  Riverbend Intercollegiate
URL:https://stayinmcallen.com/events/utrgv-womens-golf-riverbend-intercollegiate-2/
LOCATION:Sugar Land\, Texas
CATEGORIES:UTRGV Athletics
END:VEVENT
BEGIN:VEVENT
DTSTART;VALUE=DATE:20260308
DTEND;VALUE=DATE:20260311
DTSTAMP:20260425T113924
CREATED:20251022T180032Z
LAST-MODIFIED:20260303T164643Z
UID:10003195-1772996400-1773169199@stayinmcallen.com
SUMMARY:UTRGV Women's Swimming & Diving  NCAA Zone "D" Diving Championships
DESCRIPTION:UTRGV Women’s Swimming & Diving  NCAA Zone “D” Diving Championships
URL:https://stayinmcallen.com/events/postponed-utrgv-womens-swimming-diving-ncaa-zone-d-diving-championships/
LOCATION:College Station\, Texas
CATEGORIES:UTRGV Athletics
END:VEVENT
BEGIN:VEVENT
DTSTART;TZID=America/Chicago:20260309T120000
DTEND;TZID=America/Chicago:20260309T150000
DTSTAMP:20260425T113924
CREATED:20251217T032604Z
LAST-MODIFIED:20260303T164638Z
UID:10003351-1773057600-1773068400@stayinmcallen.com
SUMMARY:UTRGV Men's Tennis at Morgan State
DESCRIPTION:UTRGV Men’s Tennis at Morgan State
URL:https://stayinmcallen.com/events/utrgv-mens-tennis-at-morgan-state/
LOCATION:Baltimore\, Md.
CATEGORIES:UTRGV Athletics
END:VEVENT
BEGIN:VEVENT
DTSTART;TZID=America/Chicago:20260309T193000
DTEND;TZID=America/Chicago:20260309T213000
DTSTAMP:20260425T113925
CREATED:20250809T043705Z
LAST-MODIFIED:20260303T164700Z
UID:10002903-1773084600-1773091800@stayinmcallen.com
SUMMARY:UTRGV Men's Basketball vs No. 6 Nicholls/No. 7 Northwestern State
DESCRIPTION:UTRGV Men’s Basketball vs No. 6 Nicholls/No. 7 Northwestern State\nStreaming Video: https://www.southland.org/espn\nStreaming Audio: https://www.southland.org/watch
URL:https://stayinmcallen.com/events/utrgv-mens-basketball-vs-quarterfinals-2/
LOCATION:Lake Charles\, La.\, Townsley Law Arena
CATEGORIES:UTRGV Athletics
END:VEVENT
BEGIN:VEVENT
DTSTART;TZID=America/Chicago:20260310T110000
DTEND;TZID=America/Chicago:20260310T130000
DTSTAMP:20260425T113925
CREATED:20250809T043645Z
LAST-MODIFIED:20260310T171533Z
UID:10002901-1773140400-1773147600@stayinmcallen.com
SUMMARY:UTRGV Women's Basketball vs #5 Northwestern State
DESCRIPTION:UTRGV Women’s Basketball vs #5 Northwestern State\nTV: ESPN+ (USA) | Southland International\nStreaming Video: https://www.southland.org/espn
URL:https://stayinmcallen.com/events/utrgv-womens-basketball-vs-quarterfinals-5/
LOCATION:Lake Charles\, La.\, Townsley Law Arena
CATEGORIES:UTRGV Athletics
END:VEVENT
BEGIN:VEVENT
DTSTART;TZID=America/Chicago:20260310T120000
DTEND;TZID=America/Chicago:20260310T150000
DTSTAMP:20260425T113925
CREATED:20260310T171538Z
LAST-MODIFIED:20260310T171538Z
UID:10003623-1773144000-1773154800@stayinmcallen.com
SUMMARY:UTRGV Women's Swimming & Diving  3-Meter Springboard
DESCRIPTION:UTRGV Women’s Swimming & Diving  3-Meter Springboard\nStreaming Video: https://www.espn.com/watch/player/_/id/f5abe269-23cf-4d49-ad88-dd01311493b5
URL:https://stayinmcallen.com/events/utrgv-womens-swimming-diving-3-meter-springboard/
LOCATION:College Station\, Texas
CATEGORIES:UTRGV Athletics
END:VEVENT
BEGIN:VEVENT
DTSTART;TZID=America/Chicago:20260310T180000
DTEND;TZID=America/Chicago:20260310T210000
DTSTAMP:20260425T113925
CREATED:20251105T201633Z
LAST-MODIFIED:20260310T171545Z
UID:10003240-1773165600-1773176400@stayinmcallen.com
SUMMARY:UTRGV Baseball at Louisiana
DESCRIPTION:UTRGV Baseball at Louisiana\nStreaming Audio: https://thevarsitynetwork.com/audioapplink/source/oas-671/content/ragincajun:allaccess-Live-2648
URL:https://stayinmcallen.com/events/utrgv-baseball-at-louisiana-2/
LOCATION:Lafayette\, La.\, M.L. “Tigue” Moore Field at Russo Park
CATEGORIES:UTRGV Athletics
END:VEVENT
BEGIN:VEVENT
DTSTART;TZID=America/Chicago:20260310T203000
DTEND;TZID=America/Chicago:20260310T223000
DTSTAMP:20260425T113925
CREATED:20250809T043628Z
LAST-MODIFIED:20260310T171552Z
UID:10002898-1773174600-1773181800@stayinmcallen.com
SUMMARY:UTRGV Men's Basketball at No. 2 McNeese
DESCRIPTION:UTRGV Men’s Basketball at No. 2 McNeese\nStreaming Video: https://www.southland.org/espn
URL:https://stayinmcallen.com/events/utrgv-mens-basketball-vs-semifinals-2/
LOCATION:Lake Charles\, LA\, Townsley Law Arena
CATEGORIES:UTRGV Athletics
END:VEVENT
BEGIN:VEVENT
DTSTART;TZID=America/Chicago:20260311T103000
DTEND;TZID=America/Chicago:20260311T123000
DTSTAMP:20260425T113925
CREATED:20250809T043634Z
LAST-MODIFIED:20260310T171557Z
UID:10002899-1773225000-1773232200@stayinmcallen.com
SUMMARY:UTRGV Women's Basketball vs #1 McNeese
DESCRIPTION:UTRGV Women’s Basketball vs #1 McNeese\nStreaming Video: https://www.southland.org/espn\nStreaming Audio: https://www.southland.org/watch
URL:https://stayinmcallen.com/events/utrgv-womens-basketball-vs-semifinals-6/
LOCATION:Lake Charles\, La.\, Townsley Law Arena
CATEGORIES:UTRGV Athletics
END:VEVENT
BEGIN:VEVENT
DTSTART;TZID=America/Chicago:20260311T160000
DTEND;TZID=America/Chicago:20260311T180000
DTSTAMP:20260425T113925
CREATED:20250809T043639Z
LAST-MODIFIED:20260310T171603Z
UID:10002900-1773244800-1773252000@stayinmcallen.com
SUMMARY:UTRGV Men's Basketball vs Championship
DESCRIPTION:UTRGV Men’s Basketball vs Championship\nStreaming Video: https://www.southland.org/espn\nStreaming Audio: https://www.southland.org/watch
URL:https://stayinmcallen.com/events/utrgv-mens-basketball-vs-championship-4/
LOCATION:Lake Charles\, La.\, Townsley Law Arena
CATEGORIES:UTRGV Athletics
END:VEVENT
BEGIN:VEVENT
DTSTART;TZID=America/Chicago:20260312T110000
DTEND;TZID=America/Chicago:20260312T140000
DTSTAMP:20260425T113925
CREATED:20251228T150834Z
LAST-MODIFIED:20260311T173236Z
UID:10003406-1773313200-1773324000@stayinmcallen.com
SUMMARY:UTRGV Women's Tennis vs UT Permian Basin
DESCRIPTION:UTRGV Women’s Tennis vs UT Permian Basin
URL:https://stayinmcallen.com/events/utrgv-womens-tennis-vs-ut-permian-basin-2/
LOCATION:Edinburg\, Texas\, Orville I. Cox Tennis Center
CATEGORIES:UTRGV Athletics
END:VEVENT
BEGIN:VEVENT
DTSTART;TZID=America/Chicago:20260312T160000
DTEND;TZID=America/Chicago:20260312T180000
DTSTAMP:20260425T113925
CREATED:20250809T043710Z
LAST-MODIFIED:20260311T173240Z
UID:10002904-1773331200-1773338400@stayinmcallen.com
SUMMARY:UTRGV Women's Basketball vs Championship
DESCRIPTION:UTRGV Women’s Basketball vs Championship\nTV: ESPNU\nStreaming Video: https://www.southland.org/espn
URL:https://stayinmcallen.com/events/utrgv-womens-basketball-vs-championship-8/
LOCATION:Lake Charles\, La.\, Townsley Law Arena
CATEGORIES:UTRGV Athletics
END:VEVENT
BEGIN:VEVENT
DTSTART;TZID=America/Chicago:20260313T110000
DTEND;TZID=America/Chicago:20260313T235900
DTSTAMP:20260425T113925
CREATED:20251228T150846Z
LAST-MODIFIED:20260303T164748Z
UID:10003408-1773399600-1773446340@stayinmcallen.com
SUMMARY:UTRGV Men's Track & Field  NCAA Indoor Championships
DESCRIPTION:UTRGV Men’s Track & Field  NCAA Indoor Championships
URL:https://stayinmcallen.com/events/utrgv-mens-track-field-ncaa-indoor-championships-3/
LOCATION:Fayetteville\, Ark.
CATEGORIES:UTRGV Athletics
END:VEVENT
BEGIN:VEVENT
DTSTART;TZID=America/Chicago:20260313T173500
DTEND;TZID=America/Chicago:20260313T203500
DTSTAMP:20260425T113925
CREATED:20251228T150842Z
LAST-MODIFIED:20260311T173245Z
UID:10003407-1773423300-1773434100@stayinmcallen.com
SUMMARY:UTRGV Women's Track & Field  60-meter dash semifinals
DESCRIPTION:UTRGV Women’s Track & Field  60-meter dash semifinals
URL:https://stayinmcallen.com/events/utrgv-womens-track-field-ncaa-indoor-championships-3/
LOCATION:Fayetteville\, Ark.
CATEGORIES:UTRGV Athletics
END:VEVENT
BEGIN:VEVENT
DTSTART;TZID=America/Chicago:20260313T180000
DTEND;TZID=America/Chicago:20260313T210000
DTSTAMP:20260425T113925
CREATED:20250830T060719Z
LAST-MODIFIED:20260311T173249Z
UID:10003056-1773424800-1773435600@stayinmcallen.com
SUMMARY:UTRGV Baseball at Nicholls
DESCRIPTION:UTRGV Baseball at Nicholls\nStreaming Video: https://www.southland.org/espn
URL:https://stayinmcallen.com/events/utrgv-baseball-at-nicholls-2/
LOCATION:Thibodaux\, La.\, Ben Meyer Diamond at Ray E. Didier Field
CATEGORIES:UTRGV Athletics
END:VEVENT
BEGIN:VEVENT
DTSTART;TZID=America/Chicago:20260314T163000
DTEND;TZID=America/Chicago:20260314T193000
DTSTAMP:20260425T113925
CREATED:20260311T173254Z
LAST-MODIFIED:20260311T173254Z
UID:10003625-1773505800-1773516600@stayinmcallen.com
SUMMARY:UTRGV Women's Track & Field  60-meter dash final
DESCRIPTION:UTRGV Women’s Track & Field  60-meter dash final
URL:https://stayinmcallen.com/events/utrgv-womens-track-field-60-meter-dash-final/
LOCATION:Fayetteville\, Ark.
CATEGORIES:UTRGV Athletics
END:VEVENT
BEGIN:VEVENT
DTSTART;TZID=America/Chicago:20260314T180000
DTEND;TZID=America/Chicago:20260314T210000
DTSTAMP:20260425T113925
CREATED:20250830T060714Z
LAST-MODIFIED:20260311T173259Z
UID:10003055-1773511200-1773522000@stayinmcallen.com
SUMMARY:UTRGV Baseball at Nicholls
DESCRIPTION:UTRGV Baseball at Nicholls\nStreaming Video: https://www.southland.org/espn
URL:https://stayinmcallen.com/events/utrgv-baseball-at-nicholls/
LOCATION:Thibodaux\, La.\, Ben Meyer Diamond at Ray E. Didier Field
CATEGORIES:UTRGV Athletics
END:VEVENT
BEGIN:VEVENT
DTSTART;TZID=America/Chicago:20260315T130000
DTEND;TZID=America/Chicago:20260315T160000
DTSTAMP:20260425T113925
CREATED:20250830T060728Z
LAST-MODIFIED:20260311T173303Z
UID:10003057-1773579600-1773590400@stayinmcallen.com
SUMMARY:UTRGV Baseball at Nicholls
DESCRIPTION:UTRGV Baseball at Nicholls
URL:https://stayinmcallen.com/events/utrgv-baseball-at-nicholls-3/
LOCATION:Thibodaux\, La.\, Ben Meyer Diamond at Ray E. Didier Field
CATEGORIES:UTRGV Athletics
END:VEVENT
BEGIN:VEVENT
DTSTART;TZID=America/Chicago:20260315T170000
DTEND;TZID=America/Chicago:20260315T200000
DTSTAMP:20260425T113925
CREATED:20251228T150856Z
LAST-MODIFIED:20260311T173308Z
UID:10003409-1773594000-1773604800@stayinmcallen.com
SUMMARY:UTRGV Women's Tennis vs Tarleton
DESCRIPTION:UTRGV Women’s Tennis vs Tarleton
URL:https://stayinmcallen.com/events/utrgv-womens-tennis-vs-tarleton/
LOCATION:Austin\, Texas
CATEGORIES:UTRGV Athletics
END:VEVENT
BEGIN:VEVENT
DTSTART;VALUE=DATE:20260315
DTEND;VALUE=DATE:20260317
DTSTAMP:20260425T113925
CREATED:20250816T050818Z
LAST-MODIFIED:20260311T173312Z
UID:10002965-1773601200-1773687599@stayinmcallen.com
SUMMARY:UTRGV Men's Golf  All-American Intercollegiate
DESCRIPTION:UTRGV Men’s Golf  All-American Intercollegiate
URL:https://stayinmcallen.com/events/utrgv-mens-golf-all-american-intercollegiate-4/
LOCATION:Houston\, Texas
CATEGORIES:UTRGV Athletics
END:VEVENT
BEGIN:VEVENT
DTSTART;VALUE=DATE:20260316
DTEND;VALUE=DATE:20260318
DTSTAMP:20260425T113925
CREATED:20250809T043719Z
LAST-MODIFIED:20260303T164818Z
UID:10002905-1773687600-1773773999@stayinmcallen.com
SUMMARY:UTRGV Men's Basketball vs First Four
DESCRIPTION:UTRGV Men’s Basketball vs First Four\nTV: truTV\nRadio: Westwood One
URL:https://stayinmcallen.com/events/utrgv-mens-basketball-vs-first-four-2/
LOCATION:TBD\, UD Arena
CATEGORIES:UTRGV Athletics
END:VEVENT
BEGIN:VEVENT
DTSTART;TZID=America/Chicago:20260317T183000
DTEND;TZID=America/Chicago:20260317T213000
DTSTAMP:20260425T113925
CREATED:20251105T201752Z
LAST-MODIFIED:20260311T173316Z
UID:10003241-1773772200-1773783000@stayinmcallen.com
SUMMARY:UTRGV Baseball at Rice
DESCRIPTION:UTRGV Baseball at Rice\nStreaming Video: https://plus.espn.com/
URL:https://stayinmcallen.com/events/utrgv-baseball-at-rice-3/
LOCATION:Houston\, Texas\, Reckling Park
CATEGORIES:UTRGV Athletics
END:VEVENT
BEGIN:VEVENT
DTSTART;VALUE=DATE:20260317
DTEND;VALUE=DATE:20260319
DTSTAMP:20260425T113925
CREATED:20250830T060744Z
LAST-MODIFIED:20260311T173321Z
UID:10003058-1773774000-1773860399@stayinmcallen.com
SUMMARY:UTRGV Women's Basketball vs First Four
DESCRIPTION:UTRGV Women’s Basketball vs First Four\nTV: ESPN Family of Networks
URL:https://stayinmcallen.com/events/utrgv-womens-basketball-vs-first-four-3/
LOCATION:TBD
CATEGORIES:UTRGV Athletics
END:VEVENT
BEGIN:VEVENT
DTSTART;VALUE=DATE:20260318
DTEND;VALUE=DATE:20260320
DTSTAMP:20260425T113925
CREATED:20250809T043725Z
LAST-MODIFIED:20260303T164835Z
UID:10002906-1773860400-1773946799@stayinmcallen.com
SUMMARY:UTRGV Men's Basketball vs First Round
DESCRIPTION:UTRGV Men’s Basketball vs First Round\nTV: CBS/TNT/TBS/truTV\nRadio: Westwood One
URL:https://stayinmcallen.com/events/utrgv-mens-basketball-vs-first-round-4/
LOCATION:TBD
CATEGORIES:UTRGV Athletics
END:VEVENT
BEGIN:VEVENT
DTSTART;TZID=America/Chicago:20260319T180000
DTEND;TZID=America/Chicago:20260319T200000
DTSTAMP:20260425T113925
CREATED:20260318T181532Z
LAST-MODIFIED:20260319T041522Z
UID:10003630-1773943200-1773950400@stayinmcallen.com
SUMMARY:UTRGV Women's Basketball at Austin Peay
DESCRIPTION:UTRGV Women’s Basketball at Austin Peay\nTV: ESPN+ (USA)\nStreaming Video: https://www.espn.com/watch/player/_/eventCalendarId/401865087?gameId=401865087&sourceLang=en&om-navmethod=espn:globalsearch:results
URL:https://stayinmcallen.com/events/utrgv-womens-basketball-at-austin-peay/
LOCATION:Clarksville\, Tenn.
CATEGORIES:UTRGV Athletics
END:VEVENT
BEGIN:VEVENT
DTSTART;VALUE=DATE:20260319
DTEND;VALUE=DATE:20260321
DTSTAMP:20260425T113925
CREATED:20251228T150950Z
LAST-MODIFIED:20260319T041534Z
UID:10003411-1773946800-1774033199@stayinmcallen.com
SUMMARY:UTRGV Men's Track & Field  Wes Kittley Invitational
DESCRIPTION:UTRGV Men’s Track & Field  Wes Kittley Invitational
URL:https://stayinmcallen.com/events/utrgv-mens-track-field-wes-kittley-invitational/
LOCATION:Abilene\, Texas
CATEGORIES:UTRGV Athletics
END:VEVENT
BEGIN:VEVENT
DTSTART;VALUE=DATE:20260319
DTEND;VALUE=DATE:20260321
DTSTAMP:20260425T113925
CREATED:20251228T150954Z
LAST-MODIFIED:20260319T041530Z
UID:10003412-1773946800-1774033199@stayinmcallen.com
SUMMARY:UTRGV Women's Track & Field  Wes Kittley Invitational
DESCRIPTION:UTRGV Women’s Track & Field  Wes Kittley Invitational
URL:https://stayinmcallen.com/events/utrgv-womens-track-field-wes-kittley-invitational/
LOCATION:Abilene\, Texas
CATEGORIES:UTRGV Athletics
END:VEVENT
BEGIN:VEVENT
DTSTART;VALUE=DATE:20260319
DTEND;VALUE=DATE:20260323
DTSTAMP:20260425T113925
CREATED:20250830T060753Z
LAST-MODIFIED:20260311T173413Z
UID:10003059-1773946800-1774205999@stayinmcallen.com
SUMMARY:UTRGV Women's Basketball vs First & Second Rounds
DESCRIPTION:UTRGV Women’s Basketball vs First & Second Rounds\nTV: ESPN Family of Networks
URL:https://stayinmcallen.com/events/utrgv-womens-basketball-vs-first-second-rounds/
LOCATION:TBD
CATEGORIES:UTRGV Athletics
END:VEVENT
BEGIN:VEVENT
DTSTART;TZID=America/Chicago:20260320T183000
DTEND;TZID=America/Chicago:20260320T213000
DTSTAMP:20260425T113925
CREATED:20250830T060759Z
LAST-MODIFIED:20260319T041526Z
UID:10003060-1774031400-1774042200@stayinmcallen.com
SUMMARY:UTRGV Baseball at Houston Christian University
DESCRIPTION:UTRGV Baseball at Houston Christian University
URL:https://stayinmcallen.com/events/utrgv-baseball-at-houston-christian-university/
LOCATION:Houston\, Texas\, Husky Field
CATEGORIES:UTRGV Athletics
END:VEVENT
BEGIN:VEVENT
DTSTART;VALUE=DATE:20260320
DTEND;VALUE=DATE:20260322
DTSTAMP:20260425T113925
CREATED:20250809T043731Z
LAST-MODIFIED:20260303T164903Z
UID:10002907-1774033200-1774119599@stayinmcallen.com
SUMMARY:UTRGV Men's Basketball vs Second Round
DESCRIPTION:UTRGV Men’s Basketball vs Second Round\nTV: CBS/TNT/TBS/truTV\nRadio: Westwood One
URL:https://stayinmcallen.com/events/utrgv-mens-basketball-vs-second-round-2/
LOCATION:TBD
CATEGORIES:UTRGV Athletics
END:VEVENT
END:VCALENDAR