BEGIN:VCALENDAR
VERSION:2.0
PRODID:-//Stayinmcallen - ECPv6.15.20//NONSGML v1.0//EN
CALSCALE:GREGORIAN
METHOD:PUBLISH
X-WR-CALNAME:Stayinmcallen
X-ORIGINAL-URL:https://stayinmcallen.com
X-WR-CALDESC:Events for Stayinmcallen
REFRESH-INTERVAL;VALUE=DURATION:PT1H
X-Robots-Tag:noindex
X-PUBLISHED-TTL:PT1H
BEGIN:VTIMEZONE
TZID:America/Chicago
BEGIN:DAYLIGHT
TZOFFSETFROM:-0600
TZOFFSETTO:-0500
TZNAME:CDT
DTSTART:20240310T080000
END:DAYLIGHT
BEGIN:STANDARD
TZOFFSETFROM:-0500
TZOFFSETTO:-0600
TZNAME:CST
DTSTART:20241103T070000
END:STANDARD
BEGIN:DAYLIGHT
TZOFFSETFROM:-0600
TZOFFSETTO:-0500
TZNAME:CDT
DTSTART:20250309T080000
END:DAYLIGHT
BEGIN:STANDARD
TZOFFSETFROM:-0500
TZOFFSETTO:-0600
TZNAME:CST
DTSTART:20251102T070000
END:STANDARD
BEGIN:DAYLIGHT
TZOFFSETFROM:-0600
TZOFFSETTO:-0500
TZNAME:CDT
DTSTART:20260308T080000
END:DAYLIGHT
BEGIN:STANDARD
TZOFFSETFROM:-0500
TZOFFSETTO:-0600
TZNAME:CST
DTSTART:20261101T070000
END:STANDARD
END:VTIMEZONE
BEGIN:VEVENT
DTSTART;TZID=America/Chicago:20250111T120000
DTEND;TZID=America/Chicago:20250111T150000
DTSTAMP:20260425T191554
CREATED:20250110T204538Z
LAST-MODIFIED:20250110T204538Z
UID:10001849-1736596800-1736607600@stayinmcallen.com
SUMMARY:UTRGV Women's Swimming & Diving  Northern Colorado
DESCRIPTION:UTRGV Women’s Swimming & Diving  Northern Colorado\nTV: Air Force Falcons YouTube Channel\nStreaming Video: https://www.youtube.com/watch?v=5M8_ns1J9m4
URL:https://stayinmcallen.com/events/utrgv-womens-swimming-diving-northern-colorado/
LOCATION:USAF Academy\, CO
CATEGORIES:UTRGV Athletics
END:VEVENT
BEGIN:VEVENT
DTSTART;TZID=America/Chicago:20250111T120000
DTEND;TZID=America/Chicago:20250111T150000
DTSTAMP:20260425T191554
CREATED:20250110T204540Z
LAST-MODIFIED:20250110T204540Z
UID:10001850-1736596800-1736607600@stayinmcallen.com
SUMMARY:UTRGV Women's Swimming & Diving  Northern Colorado
DESCRIPTION:UTRGV Women’s Swimming & Diving  Northern Colorado\nTV: Air Force Falcons YouTube Channel\nStreaming Video: https://www.youtube.com/watch?v=5M8_ns1J9m4
URL:https://stayinmcallen.com/events/utrgv-womens-swimming-diving-northern-colorado-2/
LOCATION:USAF Academy\, CO
CATEGORIES:UTRGV Athletics
END:VEVENT
BEGIN:VEVENT
DTSTART;TZID=America/Chicago:20250111T130000
DTEND;TZID=America/Chicago:20250111T150000
DTSTAMP:20260425T191554
CREATED:20240719T124346Z
LAST-MODIFIED:20250110T204522Z
UID:10000862-1736600400-1736607600@stayinmcallen.com
SUMMARY:UTRGV Women's Basketball at Texas A&M-Corpus Christi
DESCRIPTION:UTRGV Women’s Basketball at Texas A&M-Corpus Christi\nTV: ESPN+ (USA) | Southland International\nStreaming Video: http://plus.espn.com/
URL:https://stayinmcallen.com/events/utrgv-womens-basketball-at-texas-am-corpus-christi-2/
LOCATION:Corpus Christi\, TX
CATEGORIES:UTRGV Athletics
END:VEVENT
BEGIN:VEVENT
DTSTART;TZID=America/Chicago:20250111T130000
DTEND;TZID=America/Chicago:20250111T160000
DTSTAMP:20260425T191554
CREATED:20241213T184643Z
LAST-MODIFIED:20250110T204526Z
UID:10001499-1736600400-1736611200@stayinmcallen.com
SUMMARY:POSTPONED UTRGV Men's Tennis at Oklahoma State
DESCRIPTION:POSTPONED UTRGV Men’s Tennis at Oklahoma State
URL:https://stayinmcallen.com/events/utrgv-mens-tennis-at-oklahoma-state-2/
LOCATION:Stillwater\, OK
CATEGORIES:UTRGV Athletics
END:VEVENT
BEGIN:VEVENT
DTSTART;TZID=America/Chicago:20250111T130000
DTEND;TZID=America/Chicago:20250111T160000
DTSTAMP:20260425T191554
CREATED:20241213T184649Z
LAST-MODIFIED:20241213T184649Z
UID:10001498-1736600400-1736611200@stayinmcallen.com
SUMMARY:UTRGV Men's Tennis at Oklahoma State
DESCRIPTION:UTRGV Men’s Tennis at Oklahoma State
URL:https://stayinmcallen.com/events/utrgv-mens-tennis-at-oklahoma-state-3/
LOCATION:Stillwater\, OK
CATEGORIES:UTRGV Athletics
END:VEVENT
BEGIN:VEVENT
DTSTART;TZID=America/Chicago:20250111T153000
DTEND;TZID=America/Chicago:20250111T173000
DTSTAMP:20260425T191554
CREATED:20240719T124353Z
LAST-MODIFIED:20250110T204544Z
UID:10000866-1736609400-1736616600@stayinmcallen.com
SUMMARY:UTRGV Men's Basketball at Texas A&M-Corpus Christi
DESCRIPTION:UTRGV Men’s Basketball at Texas A&M-Corpus Christi\nTV: ESPN+ (USA) | Southland International\nStreaming Video: https://www.espn.com/espnplus/player/_/id/2f991dde-c8d2-4062-8f1b-48c24f312a30
URL:https://stayinmcallen.com/events/utrgv-mens-basketball-at-texas-am-corpus-christi-3/
LOCATION:Corpus Christi\, TX
CATEGORIES:UTRGV Athletics
END:VEVENT
BEGIN:VEVENT
DTSTART;TZID=America/Chicago:20250111T180000
DTEND;TZID=America/Chicago:20250111T210000
DTSTAMP:20260425T191554
CREATED:20241213T184655Z
LAST-MODIFIED:20250110T204549Z
UID:10001500-1736618400-1736629200@stayinmcallen.com
SUMMARY:POSTPONED UTRGV Men's Tennis at Oklahoma State
DESCRIPTION:POSTPONED UTRGV Men’s Tennis at Oklahoma State
URL:https://stayinmcallen.com/events/utrgv-mens-tennis-at-oklahoma-state-4/
LOCATION:Stillwater\, OK
CATEGORIES:UTRGV Athletics
END:VEVENT
BEGIN:VEVENT
DTSTART;TZID=America/Chicago:20250113T183000
DTEND;TZID=America/Chicago:20250113T203000
DTSTAMP:20260425T191554
CREATED:20240719T124359Z
LAST-MODIFIED:20250110T204553Z
UID:10000867-1736793000-1736800200@stayinmcallen.com
SUMMARY:UTRGV Men's Basketball vs East Texas A&M - Monday Madness • Reading Program Night
DESCRIPTION:UTRGV Men’s Basketball vs East Texas A&M – Monday Madness • Reading Program Night\nTV: ESPN+ (USA) | Southland International\nStreaming Video: http://plus.espn.com/\nTickets: https://www.showpass.com/o/university-of-texas-rio-grande-valley-utrgv/
URL:https://stayinmcallen.com/events/utrgv-mens-basketball-vs-texas-am-commerce/
LOCATION:Edinburg\, TX\, UTRGV Fieldhouse
CATEGORIES:UTRGV Athletics
END:VEVENT
BEGIN:VEVENT
DTSTART;TZID=America/Chicago:20250115T160000
DTEND;TZID=America/Chicago:20250115T190000
DTSTAMP:20260425T191554
CREATED:20241213T184705Z
LAST-MODIFIED:20250110T204558Z
UID:10001501-1736956800-1736967600@stayinmcallen.com
SUMMARY:UTRGV Men's Tennis at #1 Texas
DESCRIPTION:UTRGV Men’s Tennis at #1 Texas
URL:https://stayinmcallen.com/events/utrgv-mens-tennis-at-texas/
LOCATION:Austin\, TX
CATEGORIES:UTRGV Athletics
END:VEVENT
BEGIN:VEVENT
DTSTART;VALUE=DATE:20250116
DTEND;VALUE=DATE:20250118
DTSTAMP:20260425T191554
CREATED:20241213T184710Z
LAST-MODIFIED:20250110T204619Z
UID:10001502-1737050400-1737136799@stayinmcallen.com
SUMMARY:UTRGV Women's Track & Field  LSU Purple Tiger
DESCRIPTION:UTRGV Women’s Track & Field  LSU Purple Tiger
URL:https://stayinmcallen.com/events/utrgv-womens-track-field-lsu-purple-tiger/
LOCATION:Baton Rouge\, LA
CATEGORIES:UTRGV Athletics
END:VEVENT
BEGIN:VEVENT
DTSTART;VALUE=DATE:20250116
DTEND;VALUE=DATE:20250118
DTSTAMP:20260425T191554
CREATED:20241213T184719Z
LAST-MODIFIED:20250110T204615Z
UID:10001503-1737050400-1737136799@stayinmcallen.com
SUMMARY:UTRGV Men's Track & Field  LSU Purple Tiger
DESCRIPTION:UTRGV Men’s Track & Field  LSU Purple Tiger
URL:https://stayinmcallen.com/events/utrgv-mens-track-field-lsu-purple-tiger/
LOCATION:Baton Rouge\, LA
CATEGORIES:UTRGV Athletics
END:VEVENT
BEGIN:VEVENT
DTSTART;VALUE=DATE:20250116
DTEND;VALUE=DATE:20250118
DTSTAMP:20260425T191554
CREATED:20241213T184723Z
LAST-MODIFIED:20241213T184723Z
UID:10001505-1737050400-1737136799@stayinmcallen.com
SUMMARY:UTRGV Women's Track & Field  LSU Purple Tiger
DESCRIPTION:UTRGV Women’s Track & Field  LSU Purple Tiger
URL:https://stayinmcallen.com/events/utrgv-womens-track-field-lsu-purple-tiger-2/
LOCATION:Baton Rouge\, LA
CATEGORIES:UTRGV Athletics
END:VEVENT
BEGIN:VEVENT
DTSTART;VALUE=DATE:20250116
DTEND;VALUE=DATE:20250118
DTSTAMP:20260425T191554
CREATED:20241213T184732Z
LAST-MODIFIED:20241213T184732Z
UID:10001506-1737050400-1737136799@stayinmcallen.com
SUMMARY:UTRGV Men's Track & Field  LSU Purple Tiger
DESCRIPTION:UTRGV Men’s Track & Field  LSU Purple Tiger
URL:https://stayinmcallen.com/events/utrgv-mens-track-field-lsu-purple-tiger-2/
LOCATION:Baton Rouge\, LA
CATEGORIES:UTRGV Athletics
END:VEVENT
BEGIN:VEVENT
DTSTART;TZID=America/Chicago:20250116T183000
DTEND;TZID=America/Chicago:20250116T203000
DTSTAMP:20260425T191554
CREATED:20240719T124405Z
LAST-MODIFIED:20250110T204611Z
UID:10000868-1737052200-1737059400@stayinmcallen.com
SUMMARY:UTRGV Women's Basketball at Incarnate Word
DESCRIPTION:UTRGV Women’s Basketball at Incarnate Word\nTV: ESPN+ (USA) | Southland International\nStreaming Video: http://plus.espn.com/
URL:https://stayinmcallen.com/events/utrgv-womens-basketball-at-incarnate-word-2/
LOCATION:San Antonio\, TX
CATEGORIES:UTRGV Athletics
END:VEVENT
BEGIN:VEVENT
DTSTART;TZID=America/Chicago:20250117T140000
DTEND;TZID=America/Chicago:20250117T170000
DTSTAMP:20260425T191554
CREATED:20241213T184724Z
LAST-MODIFIED:20250117T211514Z
UID:10001504-1737122400-1737133200@stayinmcallen.com
SUMMARY:UTRGV Men's Tennis at Rice
DESCRIPTION:UTRGV Men’s Tennis at Rice\nStreaming Video: https://riceowls.com/sports/2025/1/16/tennis-live-12-court-config
URL:https://stayinmcallen.com/events/utrgv-mens-tennis-at-rice/
LOCATION:Houston\, TX
CATEGORIES:UTRGV Athletics
END:VEVENT
BEGIN:VEVENT
DTSTART;TZID=America/Chicago:20250118T110000
DTEND;TZID=America/Chicago:20250118T140000
DTSTAMP:20260425T191554
CREATED:20241213T184736Z
LAST-MODIFIED:20241213T184736Z
UID:10001507-1737198000-1737208800@stayinmcallen.com
SUMMARY:UTRGV Men's Tennis at Rice
DESCRIPTION:UTRGV Men’s Tennis at Rice
URL:https://stayinmcallen.com/events/utrgv-mens-tennis-at-rice-2/
LOCATION:Houston\, TX
CATEGORIES:UTRGV Athletics
END:VEVENT
BEGIN:VEVENT
DTSTART;TZID=America/Chicago:20250118T130000
DTEND;TZID=America/Chicago:20250118T150000
DTSTAMP:20260425T191554
CREATED:20240719T124411Z
LAST-MODIFIED:20250117T211518Z
UID:10000869-1737205200-1737212400@stayinmcallen.com
SUMMARY:UTRGV Women's Basketball at Houston Christian
DESCRIPTION:UTRGV Women’s Basketball at Houston Christian\nTV: ESPN+ (USA) | Southland International\nStreaming Video: http://plus.espn.com/
URL:https://stayinmcallen.com/events/utrgv-womens-basketball-at-houston-christian/
LOCATION:Houston\, TX
CATEGORIES:UTRGV Athletics
END:VEVENT
BEGIN:VEVENT
DTSTART;TZID=America/Chicago:20250118T153000
DTEND;TZID=America/Chicago:20250118T173000
DTSTAMP:20260425T191554
CREATED:20240719T124418Z
LAST-MODIFIED:20250117T211522Z
UID:10000870-1737214200-1737221400@stayinmcallen.com
SUMMARY:UTRGV Men's Basketball at Houston Christian
DESCRIPTION:UTRGV Men’s Basketball at Houston Christian\nTV: ESPN+ (USA)\nStreaming Video: http://plus.espn.com/
URL:https://stayinmcallen.com/events/utrgv-mens-basketball-at-houston-christian/
LOCATION:Houston\, TX
CATEGORIES:UTRGV Athletics
END:VEVENT
BEGIN:VEVENT
DTSTART;VALUE=DATE:20250119
DTEND;VALUE=DATE:20250121
DTSTAMP:20260425T191554
CREATED:20240719T124454Z
LAST-MODIFIED:20240719T124454Z
UID:10000878-1737309600-1737395999@stayinmcallen.com
SUMMARY:UTRGV Men's Basketball at Incarnate Word
DESCRIPTION:UTRGV Men’s Basketball at Incarnate Word\nTV: ESPN+ (USA)\nStreaming Video: http://plus.espn.com/\n https://goutrgv.com/calendar.aspx?game_id=27536&sport_id=3
URL:https://stayinmcallen.com/events/utrgv-mens-basketball-at-incarnate-word-2/
LOCATION:San Antonio\, TX
CATEGORIES:UTRGV Athletics
END:VEVENT
BEGIN:VEVENT
DTSTART;TZID=America/Chicago:20250120T163000
DTEND;TZID=America/Chicago:20250120T183000
DTSTAMP:20260425T191554
CREATED:20240719T124424Z
LAST-MODIFIED:20250117T211526Z
UID:10000871-1737390600-1737397800@stayinmcallen.com
SUMMARY:UTRGV Men's Basketball at Incarnate Word
DESCRIPTION:UTRGV Men’s Basketball at Incarnate Word\nTV: ESPN+ (USA) | Southland International\nStreaming Video: http://plus.espn.com/
URL:https://stayinmcallen.com/events/utrgv-mens-basketball-at-incarnate-word/
LOCATION:San Antonio\, TX
CATEGORIES:UTRGV Athletics
END:VEVENT
BEGIN:VEVENT
DTSTART;TZID=America/Chicago:20250123T183000
DTEND;TZID=America/Chicago:20250123T203000
DTSTAMP:20260425T191554
CREATED:20240719T124459Z
LAST-MODIFIED:20240719T124459Z
UID:10000879-1737657000-1737664200@stayinmcallen.com
SUMMARY:UTRGV Women's Basketball vs Nicholls
DESCRIPTION:UTRGV Women’s Basketball vs Nicholls\nStreaming Video: http://plus.espn.com/\nTickets: https://www.showpass.com/2024-2025-basketball-season-tickets/\n https://goutrgv.com/calendar.aspx?game_id=27508&sport_id=8
URL:https://stayinmcallen.com/events/utrgv-womens-basketball-vs-nicholls-2/
LOCATION:Edinburg\, TX\, UTRGV Fieldhouse
CATEGORIES:UTRGV Athletics
END:VEVENT
BEGIN:VEVENT
DTSTART;TZID=America/Chicago:20250124T170000
DTEND;TZID=America/Chicago:20250124T200000
DTSTAMP:20260425T191554
CREATED:20240816T134613Z
LAST-MODIFIED:20250124T213015Z
UID:10001085-1737738000-1737748800@stayinmcallen.com
SUMMARY:UTRGV Women's Swimming & Diving  North Texas
DESCRIPTION:UTRGV Women’s Swimming & Diving  North Texas\nTickets: https://www.showpass.com/2024-25-utrgv-swim-dive-pass/
URL:https://stayinmcallen.com/events/utrgv-womens-swimming-diving-north-texas/
LOCATION:Pharr\, TX\, City of Pharr-PSJA Natatorium
CATEGORIES:UTRGV Athletics
END:VEVENT
BEGIN:VEVENT
DTSTART;TZID=America/Chicago:20250125T100000
DTEND;TZID=America/Chicago:20250125T130000
DTSTAMP:20260425T191554
CREATED:20250117T211542Z
LAST-MODIFIED:20250124T213020Z
UID:10001886-1737799200-1737810000@stayinmcallen.com
SUMMARY:UTRGV Women's Swimming & Diving  North Texas
DESCRIPTION:UTRGV Women’s Swimming & Diving  North Texas\nTickets: https://www.showpass.com/2024-25-utrgv-swim-dive-pass/
URL:https://stayinmcallen.com/events/utrgv-womens-swimming-diving-north-texas-2/
LOCATION:Pharr\, TX\, City of Pharr-PSJA Natatorium
CATEGORIES:UTRGV Athletics
END:VEVENT
BEGIN:VEVENT
DTSTART;TZID=America/Chicago:20250125T100000
DTEND;TZID=America/Chicago:20250125T130000
DTSTAMP:20260425T191554
CREATED:20250117T211544Z
LAST-MODIFIED:20250117T211544Z
UID:10001887-1737799200-1737810000@stayinmcallen.com
SUMMARY:UTRGV Women's Swimming & Diving  North Texas
DESCRIPTION:UTRGV Women’s Swimming & Diving  North Texas\nTickets: https://www.showpass.com/2024-25-utrgv-swim-dive-pass/
URL:https://stayinmcallen.com/events/utrgv-womens-swimming-diving-north-texas-3/
LOCATION:Pharr\, TX\, City of Pharr-PSJA Natatorium
CATEGORIES:UTRGV Athletics
END:VEVENT
BEGIN:VEVENT
DTSTART;TZID=America/Chicago:20250125T110000
DTEND;TZID=America/Chicago:20250125T140000
DTSTAMP:20260425T191554
CREATED:20241213T184753Z
LAST-MODIFIED:20250124T213025Z
UID:10001508-1737802800-1737813600@stayinmcallen.com
SUMMARY:UTRGV Men's Tennis at UTSA
DESCRIPTION:UTRGV Men’s Tennis at UTSA
URL:https://stayinmcallen.com/events/utrgv-mens-tennis-at-utsa-4/
LOCATION:San Antonio\, TX
CATEGORIES:UTRGV Athletics
END:VEVENT
BEGIN:VEVENT
DTSTART;TZID=America/Chicago:20250125T140000
DTEND;TZID=America/Chicago:20250125T160000
DTSTAMP:20260425T191554
CREATED:20240719T124435Z
LAST-MODIFIED:20250124T213030Z
UID:10000873-1737813600-1737820800@stayinmcallen.com
SUMMARY:UTRGV Women's Basketball vs McNeese - Free Food for UTRGV Students • UTRGV Student Guest Tickets
DESCRIPTION:UTRGV Women’s Basketball vs McNeese – Free Food for UTRGV Students • UTRGV Student Guest Tickets\nTV: ESPN+ (USA) | Southland International\nStreaming Video: http://plus.espn.com/\nTickets: https://www.showpass.com/o/university-of-texas-rio-grande-valley-utrgv/
URL:https://stayinmcallen.com/events/utrgv-womens-basketball-vs-mcneese/
LOCATION:Edinburg\, TX\, UTRGV Fieldhouse
CATEGORIES:UTRGV Athletics
END:VEVENT
BEGIN:VEVENT
DTSTART;TZID=America/Chicago:20250125T140000
DTEND;TZID=America/Chicago:20250125T160000
DTSTAMP:20260425T191554
CREATED:20240719T124507Z
LAST-MODIFIED:20240719T124507Z
UID:10000880-1737813600-1737820800@stayinmcallen.com
SUMMARY:UTRGV Women's Basketball vs McNeese
DESCRIPTION:UTRGV Women’s Basketball vs McNeese\nStreaming Video: http://plus.espn.com/\nTickets: https://www.showpass.com/2024-2025-basketball-season-tickets/\n https://goutrgv.com/calendar.aspx?game_id=27509&sport_id=8
URL:https://stayinmcallen.com/events/utrgv-womens-basketball-vs-mcneese-2/
LOCATION:Edinburg\, TX\, UTRGV Fieldhouse
CATEGORIES:UTRGV Athletics
END:VEVENT
BEGIN:VEVENT
DTSTART;TZID=America/Chicago:20250125T163000
DTEND;TZID=America/Chicago:20250125T183000
DTSTAMP:20260425T191554
CREATED:20240719T124442Z
LAST-MODIFIED:20250124T213036Z
UID:10000874-1737822600-1737829800@stayinmcallen.com
SUMMARY:UTRGV Men's Basketball vs McNeese - Free Food for UTRGV Students • UTRGV Student Guest Tickets
DESCRIPTION:UTRGV Men’s Basketball vs McNeese – Free Food for UTRGV Students • UTRGV Student Guest Tickets\nTV: ESPN+ (USA) | Southland International\nStreaming Video: http://plus.espn.com/\nTickets: https://www.showpass.com/o/university-of-texas-rio-grande-valley-utrgv/
URL:https://stayinmcallen.com/events/utrgv-mens-basketball-vs-mcneese/
LOCATION:Edinburg\, TX\, UTRGV Fieldhouse
CATEGORIES:UTRGV Athletics
END:VEVENT
BEGIN:VEVENT
DTSTART;TZID=America/Chicago:20250125T163000
DTEND;TZID=America/Chicago:20250125T183000
DTSTAMP:20260425T191554
CREATED:20240719T124513Z
LAST-MODIFIED:20240719T124513Z
UID:10000881-1737822600-1737829800@stayinmcallen.com
SUMMARY:UTRGV Men's Basketball vs McNeese
DESCRIPTION:UTRGV Men’s Basketball vs McNeese\nTV: ESPN+ (USA)\nStreaming Video: http://plus.espn.com/\nTickets: https://www.showpass.com/o/university-of-texas-rio-grande-valley-utrgv/\n https://goutrgv.com/calendar.aspx?game_id=27537&sport_id=3
URL:https://stayinmcallen.com/events/utrgv-mens-basketball-vs-mcneese-2/
LOCATION:Edinburg\, TX\, UTRGV Fieldhouse
CATEGORIES:UTRGV Athletics
END:VEVENT
BEGIN:VEVENT
DTSTART;TZID=America/Chicago:20250127T160000
DTEND;TZID=America/Chicago:20250127T180000
DTSTAMP:20260425T191554
CREATED:20240719T124430Z
LAST-MODIFIED:20250124T213040Z
UID:10000872-1737993600-1738000800@stayinmcallen.com
SUMMARY:UTRGV Women's Basketball vs Nicholls - Academic Recognition Night
DESCRIPTION:UTRGV Women’s Basketball vs Nicholls – Academic Recognition Night\nTV: ESPN+ (USA) | Southland International\nStreaming Video: http://plus.espn.com/\nTickets: https://www.showpass.com/o/university-of-texas-rio-grande-valley-utrgv/
URL:https://stayinmcallen.com/events/utrgv-womens-basketball-vs-nicholls/
LOCATION:Edinburg\, TX\, UTRGV Fieldhouse
CATEGORIES:UTRGV Athletics
END:VEVENT
END:VCALENDAR