BEGIN:VCALENDAR
VERSION:2.0
PRODID:-//Stayinmcallen - ECPv6.15.20//NONSGML v1.0//EN
CALSCALE:GREGORIAN
METHOD:PUBLISH
X-WR-CALNAME:Stayinmcallen
X-ORIGINAL-URL:https://stayinmcallen.com
X-WR-CALDESC:Events for Stayinmcallen
REFRESH-INTERVAL;VALUE=DURATION:PT1H
X-Robots-Tag:noindex
X-PUBLISHED-TTL:PT1H
BEGIN:VTIMEZONE
TZID:America/Chicago
BEGIN:DAYLIGHT
TZOFFSETFROM:-0600
TZOFFSETTO:-0500
TZNAME:CDT
DTSTART:20250309T080000
END:DAYLIGHT
BEGIN:STANDARD
TZOFFSETFROM:-0500
TZOFFSETTO:-0600
TZNAME:CST
DTSTART:20251102T070000
END:STANDARD
BEGIN:DAYLIGHT
TZOFFSETFROM:-0600
TZOFFSETTO:-0500
TZNAME:CDT
DTSTART:20260308T080000
END:DAYLIGHT
BEGIN:STANDARD
TZOFFSETFROM:-0500
TZOFFSETTO:-0600
TZNAME:CST
DTSTART:20261101T070000
END:STANDARD
BEGIN:DAYLIGHT
TZOFFSETFROM:-0600
TZOFFSETTO:-0500
TZNAME:CDT
DTSTART:20270314T080000
END:DAYLIGHT
BEGIN:STANDARD
TZOFFSETFROM:-0500
TZOFFSETTO:-0600
TZNAME:CST
DTSTART:20271107T070000
END:STANDARD
BEGIN:DAYLIGHT
TZOFFSETFROM:-0600
TZOFFSETTO:-0500
TZNAME:CDT
DTSTART:20280312T080000
END:DAYLIGHT
BEGIN:STANDARD
TZOFFSETFROM:-0500
TZOFFSETTO:-0600
TZNAME:CST
DTSTART:20281105T070000
END:STANDARD
END:VTIMEZONE
BEGIN:VEVENT
DTSTART;TZID=America/Chicago:20261003T180000
DTEND;TZID=America/Chicago:20261003T210000
DTSTAMP:20260424T114734
CREATED:20260112T123026Z
LAST-MODIFIED:20260424T153808Z
UID:10003468-1791050400-1791061200@stayinmcallen.com
SUMMARY:UTRGV Football at East Texas A&M
DESCRIPTION:UTRGV Football at East Texas A&M\nTV: ESPN+ (USA) | Southland International\nStreaming Video: https://www.southland.org/espn
URL:https://stayinmcallen.com/events/utrgv-football-at-east-texas-am/
LOCATION:Commerce\, TX\, Memorial Stadium
CATEGORIES:UTRGV Athletics
END:VEVENT
BEGIN:VEVENT
DTSTART;TZID=America/Chicago:20261010T190000
DTEND;TZID=America/Chicago:20261010T220000
DTSTAMP:20260424T114734
CREATED:20260112T123031Z
LAST-MODIFIED:20260424T153811Z
UID:10003469-1791658800-1791669600@stayinmcallen.com
SUMMARY:UTRGV Football vs Southeastern
DESCRIPTION:UTRGV Football vs Southeastern\nTV: ESPN+ (USA) | Southland International\nRadio: KYWW 1530 AM Puro Tejano | KGBT-FM 98.5 La Preferida\nStreaming Video: https://www.southland.org/espn\nTickets: http://utrgvtickets.com/
URL:https://stayinmcallen.com/events/utrgv-football-vs-southeastern/
LOCATION:Edinburg\, Texas\, Robert & Janet Vackar Stadium
CATEGORIES:UTRGV Athletics
END:VEVENT
BEGIN:VEVENT
DTSTART;VALUE=DATE:20261016
DTEND;VALUE=DATE:20261018
DTSTAMP:20260424T114734
CREATED:20260112T123042Z
LAST-MODIFIED:20260424T153814Z
UID:10003470-1792177200-1792263599@stayinmcallen.com
SUMMARY:UTRGV Football at UIW
DESCRIPTION:UTRGV Football at UIW\nTV: ESPN+\nStreaming Video: https://www.southland.org/espn
URL:https://stayinmcallen.com/events/utrgv-football-at-uiw/
LOCATION:San Antonio\, Texas\, Gayle & Tom Benson Stadium
CATEGORIES:UTRGV Athletics
END:VEVENT
BEGIN:VEVENT
DTSTART;VALUE=DATE:20261023
DTEND;VALUE=DATE:20261025
DTSTAMP:20260424T114734
CREATED:20260326T050033Z
LAST-MODIFIED:20260424T153817Z
UID:10003647-1792782000-1792868399@stayinmcallen.com
SUMMARY:UTRGV Football at Central Arkansas
DESCRIPTION:UTRGV Football at Central Arkansas\nStreaming Video: https://plus.espn.com/
URL:https://stayinmcallen.com/events/utrgv-football-at-central-arkansas/
LOCATION:Conway\, AR\, Estes Stadium
CATEGORIES:UTRGV Athletics
END:VEVENT
BEGIN:VEVENT
DTSTART;TZID=America/Chicago:20261031T190000
DTEND;TZID=America/Chicago:20261031T220000
DTSTAMP:20260424T114734
CREATED:20260120T235126Z
LAST-MODIFIED:20260424T153833Z
UID:10003496-1793473200-1793484000@stayinmcallen.com
SUMMARY:UTRGV Football vs Lamar
DESCRIPTION:UTRGV Football vs Lamar\nTV: ESPN+ (USA) | Southland International\nRadio: KYWW 1530 AM Puro Tejano | KGBT-FM 98.5 La Preferida\nStreaming Video: https://www.southland.org/espn\nTickets: http://utrgvtickets.com/
URL:https://stayinmcallen.com/events/utrgv-football-vs-lamar/
LOCATION:Edinburg\, Texas\, Robert & Janet Vackar Stadium
CATEGORIES:UTRGV Athletics
END:VEVENT
BEGIN:VEVENT
DTSTART;VALUE=DATE:20261106
DTEND;VALUE=DATE:20261108
DTSTAMP:20260424T114734
CREATED:20260120T235130Z
LAST-MODIFIED:20260424T153836Z
UID:10003497-1793988000-1794074399@stayinmcallen.com
SUMMARY:UTRGV Football at Northwestern State
DESCRIPTION:UTRGV Football at Northwestern State\nTV: ESPN+ (USA) | Southland International\nStreaming Video: https://www.southland.org/espn
URL:https://stayinmcallen.com/events/utrgv-football-at-northwestern-state/
LOCATION:Natchitoches\, La.\, Turpin Stadium
CATEGORIES:UTRGV Athletics
END:VEVENT
BEGIN:VEVENT
DTSTART;TZID=America/Chicago:20261114T170000
DTEND;TZID=America/Chicago:20261114T200000
DTSTAMP:20260424T114734
CREATED:20260120T235147Z
LAST-MODIFIED:20260424T153839Z
UID:10003498-1794675600-1794686400@stayinmcallen.com
SUMMARY:UTRGV Football vs Stephen F. Austin
DESCRIPTION:UTRGV Football vs Stephen F. Austin\nTV: ESPN+ (USA) | Southland International\nRadio: KYWW 1530 AM Puro Tejano | KGBT-FM 98.5 La Preferida\nStreaming Video: https://www.southland.org/espn\nTickets: http://utrgvtickets.com/
URL:https://stayinmcallen.com/events/utrgv-football-vs-stephen-f-austin/
LOCATION:Edinburg\, Texas\, Robert & Janet Vackar Stadium
CATEGORIES:UTRGV Athletics
END:VEVENT
BEGIN:VEVENT
DTSTART;VALUE=DATE:20261120
DTEND;VALUE=DATE:20261122
DTSTAMP:20260424T114734
CREATED:20260120T235151Z
LAST-MODIFIED:20260424T153842Z
UID:10003499-1795197600-1795283999@stayinmcallen.com
SUMMARY:UTRGV Football at Houston Christian University
DESCRIPTION:UTRGV Football at Houston Christian University\nTV: ESPN+\nStreaming Video: https://www.southland.org/espn
URL:https://stayinmcallen.com/events/utrgv-football-at-houston-christian-university/
LOCATION:Houston\, Texas\, Husky Stadium
CATEGORIES:UTRGV Athletics
END:VEVENT
BEGIN:VEVENT
DTSTART;TZID=America/Chicago:20270904T190000
DTEND;TZID=America/Chicago:20270904T220000
DTSTAMP:20260424T114734
CREATED:20250906T063858Z
LAST-MODIFIED:20260424T153844Z
UID:10003121-1820084400-1820095200@stayinmcallen.com
SUMMARY:UTRGV Football vs Texas A&M-Kingsville
DESCRIPTION:UTRGV Football vs Texas A&M-Kingsville\nRadio: KYWW 1530 AM Puro Tejano | KGBT-FM 98.5 La Preferida\nStreaming Video: https://www.southland.org/espn\nStreaming Audio: https://www.southland.org/watch
URL:https://stayinmcallen.com/events/utrgv-football-vs-texas-am-kingsville/
CATEGORIES:UTRGV Athletics
END:VEVENT
BEGIN:VEVENT
DTSTART;TZID=America/Chicago:20270911T190000
DTEND;TZID=America/Chicago:20270911T220000
DTSTAMP:20260424T114734
CREATED:20250913T070757Z
LAST-MODIFIED:20260424T153847Z
UID:10003148-1820689200-1820700000@stayinmcallen.com
SUMMARY:UTRGV Football at Texas State
DESCRIPTION:UTRGV Football at Texas State\nStreaming Video: https://plus.espn.com/
URL:https://stayinmcallen.com/events/utrgv-football-at-texas-state/
LOCATION:San Marcos\, TX\, UFCU Stadium
CATEGORIES:UTRGV Athletics
END:VEVENT
BEGIN:VEVENT
DTSTART;TZID=America/Chicago:20271002T190000
DTEND;TZID=America/Chicago:20271002T220000
DTSTAMP:20260424T114734
CREATED:20260326T050104Z
LAST-MODIFIED:20260424T153850Z
UID:10003648-1822503600-1822514400@stayinmcallen.com
SUMMARY:UTRGV Football vs Prairie View A&M
DESCRIPTION:UTRGV Football vs Prairie View A&M\nRadio: KYWW 1530 AM Puro Tejano | KGBT-FM 98.5 La Preferida\nStreaming Video: https://www.southland.org/espn\nStreaming Audio: https://www.southland.org/watch
URL:https://stayinmcallen.com/events/utrgv-football-vs-prairie-view-am/
LOCATION:Edinburg\, Texas\, Robert & Janet Vackar Stadium
CATEGORIES:UTRGV Athletics
END:VEVENT
END:VCALENDAR