BEGIN:VCALENDAR
VERSION:2.0
PRODID:-//Stayinmcallen - ECPv6.15.20//NONSGML v1.0//EN
CALSCALE:GREGORIAN
METHOD:PUBLISH
X-ORIGINAL-URL:https://stayinmcallen.com
X-WR-CALDESC:Events for Stayinmcallen
REFRESH-INTERVAL;VALUE=DURATION:PT1H
X-Robots-Tag:noindex
X-PUBLISHED-TTL:PT1H
BEGIN:VTIMEZONE
TZID:America/Chicago
BEGIN:DAYLIGHT
TZOFFSETFROM:-0600
TZOFFSETTO:-0500
TZNAME:CDT
DTSTART:20230312T080000
END:DAYLIGHT
BEGIN:STANDARD
TZOFFSETFROM:-0500
TZOFFSETTO:-0600
TZNAME:CST
DTSTART:20231105T070000
END:STANDARD
BEGIN:DAYLIGHT
TZOFFSETFROM:-0600
TZOFFSETTO:-0500
TZNAME:CDT
DTSTART:20240310T080000
END:DAYLIGHT
BEGIN:STANDARD
TZOFFSETFROM:-0500
TZOFFSETTO:-0600
TZNAME:CST
DTSTART:20241103T070000
END:STANDARD
BEGIN:DAYLIGHT
TZOFFSETFROM:-0600
TZOFFSETTO:-0500
TZNAME:CDT
DTSTART:20250309T080000
END:DAYLIGHT
BEGIN:STANDARD
TZOFFSETFROM:-0500
TZOFFSETTO:-0600
TZNAME:CST
DTSTART:20251102T070000
END:STANDARD
BEGIN:DAYLIGHT
TZOFFSETFROM:-0600
TZOFFSETTO:-0500
TZNAME:CDT
DTSTART:20260308T080000
END:DAYLIGHT
BEGIN:STANDARD
TZOFFSETFROM:-0500
TZOFFSETTO:-0600
TZNAME:CST
DTSTART:20261101T070000
END:STANDARD
END:VTIMEZONE
BEGIN:VEVENT
DTSTART;TZID=America/Chicago:20241219T160000
DTEND;TZID=America/Chicago:20241219T180000
DTSTAMP:20260425T190642
CREATED:20240802T131425Z
LAST-MODIFIED:20241213T184531Z
UID:10001012-1734624000-1734631200@stayinmcallen.com
SUMMARY:UTRGV Women's Basketball vs Texas A&M-Corpus Christi vs. Kansas City - Coat Drive
DESCRIPTION:UTRGV Women’s Basketball vs Texas A&M-Corpus Christi vs. Kansas City – Coat Drive\nTV: ESPN+ (USA) | Southland International\nStreaming Video: http://plus.espn.com/\nTickets: https://www.showpass.com/o/university-of-texas-rio-grande-valley-utrgv/
URL:https://stayinmcallen.com/events/utrgv-womens-basketball-vs-texas-am-corpus-christi-vs-kansas-city/
LOCATION:Edinburg\, TX\, UTRGV Fieldhouse
CATEGORIES:UTRGV Athletics
END:VEVENT
BEGIN:VEVENT
DTSTART;TZID=America/Chicago:20241219T160000
DTEND;TZID=America/Chicago:20241219T180000
DTSTAMP:20260425T190642
CREATED:20240802T131456Z
LAST-MODIFIED:20240802T131456Z
UID:10001017-1734624000-1734631200@stayinmcallen.com
SUMMARY:UTRGV Women's Basketball vs Texas A&M-Corpus Christi vs. Kansas City
DESCRIPTION:UTRGV Women’s Basketball vs Texas A&M-Corpus Christi vs. Kansas City\nStreaming Video: http://plus.espn.com/\n https://goutrgv.com/calendar.aspx?game_id=27607&sport_id=8
URL:https://stayinmcallen.com/events/utrgv-womens-basketball-vs-texas-am-corpus-christi-vs-kansas-city-2/
LOCATION:Edinburg\, TX\, UTRGV Fieldhouse
CATEGORIES:UTRGV Athletics
END:VEVENT
BEGIN:VEVENT
DTSTART;TZID=America/Chicago:20241219T183000
DTEND;TZID=America/Chicago:20241219T203000
DTSTAMP:20260425T190642
CREATED:20240802T131437Z
LAST-MODIFIED:20241213T184535Z
UID:10001013-1734633000-1734640200@stayinmcallen.com
SUMMARY:UTRGV Women's Basketball vs Eastern Michigan - Coat Drive • Cane’s Challenge
DESCRIPTION:UTRGV Women’s Basketball vs Eastern Michigan – Coat Drive • Cane’s Challenge\nTV: ESPN+ (USA) | Southland International\nStreaming Video: http://plus.espn.com/\nTickets: https://www.showpass.com/o/university-of-texas-rio-grande-valley-utrgv/
URL:https://stayinmcallen.com/events/utrgv-womens-basketball-vs-eastern-michigan/
LOCATION:Edinburg\, TX\, UTRGV Fieldhouse
CATEGORIES:UTRGV Athletics
END:VEVENT
BEGIN:VEVENT
DTSTART;TZID=America/Chicago:20241219T183000
DTEND;TZID=America/Chicago:20241219T203000
DTSTAMP:20260425T190642
CREATED:20240802T131510Z
LAST-MODIFIED:20240802T131510Z
UID:10001018-1734633000-1734640200@stayinmcallen.com
SUMMARY:UTRGV Women's Basketball vs Eastern Michigan
DESCRIPTION:UTRGV Women’s Basketball vs Eastern Michigan\nStreaming Video: http://plus.espn.com/\nTickets: https://www.showpass.com/2024-2025-basketball-season-tickets/\n https://goutrgv.com/calendar.aspx?game_id=27606&sport_id=8
URL:https://stayinmcallen.com/events/utrgv-womens-basketball-vs-eastern-michigan-2/
LOCATION:Edinburg\, TX\, UTRGV Fieldhouse
CATEGORIES:UTRGV Athletics
END:VEVENT
BEGIN:VEVENT
DTSTART;TZID=America/Chicago:20241220T160000
DTEND;TZID=America/Chicago:20241220T180000
DTSTAMP:20260425T190642
CREATED:20240802T131443Z
LAST-MODIFIED:20241220T191515Z
UID:10001014-1734710400-1734717600@stayinmcallen.com
SUMMARY:UTRGV Women's Basketball vs Texas A&M-Corpus Christi vs. Eastern Michigan - Coat Drive
DESCRIPTION:UTRGV Women’s Basketball vs Texas A&M-Corpus Christi vs. Eastern Michigan – Coat Drive\nTV: ESPN+ (USA) | Southland International\nStreaming Video: http://plus.espn.com/\nTickets: https://www.showpass.com/o/university-of-texas-rio-grande-valley-utrgv/
URL:https://stayinmcallen.com/events/utrgv-womens-basketball-vs-texas-am-corpus-christi-vs-eastern-michigan/
LOCATION:Edinburg\, TX\, UTRGV Fieldhouse
CATEGORIES:UTRGV Athletics
END:VEVENT
BEGIN:VEVENT
DTSTART;TZID=America/Chicago:20241220T160000
DTEND;TZID=America/Chicago:20241220T180000
DTSTAMP:20260425T190642
CREATED:20240802T131516Z
LAST-MODIFIED:20240802T131516Z
UID:10001019-1734710400-1734717600@stayinmcallen.com
SUMMARY:UTRGV Women's Basketball vs Texas A&M-Corpus Christi vs. Eastern Michigan
DESCRIPTION:UTRGV Women’s Basketball vs Texas A&M-Corpus Christi vs. Eastern Michigan\nStreaming Video: http://plus.espn.com/\n https://goutrgv.com/calendar.aspx?game_id=27608&sport_id=8
URL:https://stayinmcallen.com/events/utrgv-womens-basketball-vs-texas-am-corpus-christi-vs-eastern-michigan-2/
LOCATION:Edinburg\, TX\, UTRGV Fieldhouse
CATEGORIES:UTRGV Athletics
END:VEVENT
BEGIN:VEVENT
DTSTART;TZID=America/Chicago:20241220T183000
DTEND;TZID=America/Chicago:20241220T203000
DTSTAMP:20260425T190642
CREATED:20240802T131448Z
LAST-MODIFIED:20241220T191519Z
UID:10001015-1734719400-1734726600@stayinmcallen.com
SUMMARY:UTRGV Women's Basketball vs Kansas City - Coat Drive • Report Card Night
DESCRIPTION:UTRGV Women’s Basketball vs Kansas City – Coat Drive • Report Card Night\nTV: ESPN+ (USA) | Southland International\nStreaming Video: http://plus.espn.com/\nTickets: https://www.showpass.com/o/university-of-texas-rio-grande-valley-utrgv/
URL:https://stayinmcallen.com/events/utrgv-womens-basketball-vs-kansas-city/
LOCATION:Edinburg\, TX\, UTRGV Fieldhouse
CATEGORIES:UTRGV Athletics
END:VEVENT
BEGIN:VEVENT
DTSTART;TZID=America/Chicago:20241221T140000
DTEND;TZID=America/Chicago:20241221T160000
DTSTAMP:20260425T190642
CREATED:20240906T143006Z
LAST-MODIFIED:20241220T191523Z
UID:10001180-1734789600-1734796800@stayinmcallen.com
SUMMARY:UTRGV Men's Basketball vs College of Biblical Studies
DESCRIPTION:UTRGV Men’s Basketball vs College of Biblical Studies\nTV: ESPN+ (USA) | Southland International\nStreaming Video: http://plus.espn.com/\nTickets: https://www.showpass.com/o/university-of-texas-rio-grande-valley-utrgv/
URL:https://stayinmcallen.com/events/utrgv-mens-basketball-vs-college-of-biblical-studies/
LOCATION:Edinburg\, TX\, UTRGV Fieldhouse
CATEGORIES:UTRGV Athletics
END:VEVENT
BEGIN:VEVENT
DTSTART;VALUE=DATE:20241221
DTEND;VALUE=DATE:20241223
DTSTAMP:20260425T190642
CREATED:20240712T122550Z
LAST-MODIFIED:20241122T180232Z
UID:10000789-1734804000-1734890399@stayinmcallen.com
SUMMARY:UTRGV Volleyball vs NCAA Championships
DESCRIPTION:UTRGV Volleyball vs NCAA Championships
URL:https://stayinmcallen.com/events/utrgv-volleyball-vs-ncaa-championships-2/
LOCATION:TBD
CATEGORIES:UTRGV Athletics
END:VEVENT
BEGIN:VEVENT
DTSTART;TZID=America/Chicago:20241229T150000
DTEND;TZID=America/Chicago:20241229T170000
DTSTAMP:20260425T190642
CREATED:20240802T131501Z
LAST-MODIFIED:20241227T194518Z
UID:10001016-1735484400-1735491600@stayinmcallen.com
SUMMARY:UTRGV Women's Basketball at Texas
DESCRIPTION:UTRGV Women’s Basketball at Texas\nTV: SEC Network\nStreaming Video: https://www.secsports.com/watch\nStreaming Audio: https://texaslonghorns.com/sports/2014/11/19/GEN_1119144623.aspx
URL:https://stayinmcallen.com/events/utrgv-womens-basketball-at-texas/
LOCATION:Austin\, TX
CATEGORIES:UTRGV Athletics
END:VEVENT
BEGIN:VEVENT
DTSTART;TZID=America/Chicago:20241230T183000
DTEND;TZID=America/Chicago:20241230T203000
DTSTAMP:20260425T190642
CREATED:20240906T143027Z
LAST-MODIFIED:20241227T194522Z
UID:10001181-1735583400-1735590600@stayinmcallen.com
SUMMARY:UTRGV Men's Basketball vs Dallas Christian
DESCRIPTION:UTRGV Men’s Basketball vs Dallas Christian\nTV: ESPN+ (USA) | Southland International\nStreaming Video: http://plus.espn.com/\nTickets: https://www.showpass.com/o/university-of-texas-rio-grande-valley-utrgv/
URL:https://stayinmcallen.com/events/utrgv-mens-basketball-vs-dallas-christian/
LOCATION:Edinburg\, TX\, UTRGV Fieldhouse
CATEGORIES:UTRGV Athletics
END:VEVENT
BEGIN:VEVENT
DTSTART;TZID=America/Chicago:20250102T180000
DTEND;TZID=America/Chicago:20250102T200000
DTSTAMP:20260425T190642
CREATED:20240719T124316Z
LAST-MODIFIED:20241227T194526Z
UID:10000857-1735840800-1735848000@stayinmcallen.com
SUMMARY:UTRGV Women's Basketball at Southeastern
DESCRIPTION:UTRGV Women’s Basketball at Southeastern\nTV: ESPN+ (USA) | Southland International\nStreaming Video: http://plus.espn.com/
URL:https://stayinmcallen.com/events/utrgv-womens-basketball-at-southeastern/
LOCATION:Hammond\, LA
CATEGORIES:UTRGV Athletics
END:VEVENT
BEGIN:VEVENT
DTSTART;VALUE=DATE:20250103
DTEND;VALUE=DATE:20250105
DTSTAMP:20260425T190642
CREATED:20240719T124401Z
LAST-MODIFIED:20240719T124401Z
UID:10000863-1735927200-1736013599@stayinmcallen.com
SUMMARY:UTRGV Men's Basketball at New Orleans
DESCRIPTION:UTRGV Men’s Basketball at New Orleans\nTV: ESPN+ (USA)\nStreaming Video: http://plus.espn.com/\n https://goutrgv.com/calendar.aspx?game_id=27531&sport_id=3
URL:https://stayinmcallen.com/events/utrgv-mens-basketball-at-new-orleans-2/
LOCATION:New Orleans\, LA
CATEGORIES:UTRGV Athletics
END:VEVENT
BEGIN:VEVENT
DTSTART;TZID=America/Chicago:20250104T140000
DTEND;TZID=America/Chicago:20250104T160000
DTSTAMP:20260425T190642
CREATED:20240719T124322Z
LAST-MODIFIED:20250103T201517Z
UID:10000858-1735999200-1736006400@stayinmcallen.com
SUMMARY:UTRGV Women's Basketball at New Orleans
DESCRIPTION:UTRGV Women’s Basketball at New Orleans\nTV: ESPN+ (USA) | Southland International\nStreaming Video: http://plus.espn.com/
URL:https://stayinmcallen.com/events/utrgv-womens-basketball-at-new-orleans/
LOCATION:New Orleans\, LA
CATEGORIES:UTRGV Athletics
END:VEVENT
BEGIN:VEVENT
DTSTART;TZID=America/Chicago:20250104T170000
DTEND;TZID=America/Chicago:20250104T190000
DTSTAMP:20260425T190642
CREATED:20240719T124329Z
LAST-MODIFIED:20250103T201521Z
UID:10000859-1736010000-1736017200@stayinmcallen.com
SUMMARY:UTRGV Men's Basketball at New Orleans
DESCRIPTION:UTRGV Men’s Basketball at New Orleans\nTV: ESPN+ (USA) | Southland International\nStreaming Video: http://plus.espn.com/\nStreaming Audio: https://unoprivateers.com/watch/?Live=2274&type=Live
URL:https://stayinmcallen.com/events/utrgv-mens-basketball-at-new-orleans/
LOCATION:New Orleans\, LA
CATEGORIES:UTRGV Athletics
END:VEVENT
BEGIN:VEVENT
DTSTART;VALUE=DATE:20250105
DTEND;VALUE=DATE:20250107
DTSTAMP:20260425T190642
CREATED:20240719T124406Z
LAST-MODIFIED:20240719T124406Z
UID:10000864-1736100000-1736186399@stayinmcallen.com
SUMMARY:UTRGV Men's Basketball at Southeastern
DESCRIPTION:UTRGV Men’s Basketball at Southeastern\n https://goutrgv.com/calendar.aspx?game_id=27532&sport_id=3
URL:https://stayinmcallen.com/events/utrgv-mens-basketball-at-southeastern-2/
LOCATION:Hammond\, LA
CATEGORIES:UTRGV Athletics
END:VEVENT
BEGIN:VEVENT
DTSTART;TZID=America/Chicago:20250106T180000
DTEND;TZID=America/Chicago:20250106T200000
DTSTAMP:20260425T190642
CREATED:20240719T124335Z
LAST-MODIFIED:20250103T201525Z
UID:10000860-1736186400-1736193600@stayinmcallen.com
SUMMARY:UTRGV Men's Basketball at Southeastern
DESCRIPTION:UTRGV Men’s Basketball at Southeastern\nTV: ESPN+ (USA) | Southland International\nStreaming Video: https://plus.espn.com/
URL:https://stayinmcallen.com/events/utrgv-mens-basketball-at-southeastern/
LOCATION:Hammond\, LA
CATEGORIES:UTRGV Athletics
END:VEVENT
BEGIN:VEVENT
DTSTART;TZID=America/Chicago:20250109T183000
DTEND;TZID=America/Chicago:20250109T203000
DTSTAMP:20260425T190642
CREATED:20240719T124340Z
LAST-MODIFIED:20250103T201530Z
UID:10000861-1736447400-1736454600@stayinmcallen.com
SUMMARY:UTRGV Women's Basketball vs East Texas A&M - Hoops & Heels • Cane’s Challenge
DESCRIPTION:UTRGV Women’s Basketball vs East Texas A&M – Hoops & Heels • Cane’s Challenge\nTV: ESPN+ (USA) | Southland International\nStreaming Video: http://plus.espn.com/\nTickets: https://www.showpass.com/o/university-of-texas-rio-grande-valley-utrgv/
URL:https://stayinmcallen.com/events/utrgv-womens-basketball-vs-texas-am-commerce/
LOCATION:Edinburg\, TX\, UTRGV Fieldhouse
CATEGORIES:UTRGV Athletics
END:VEVENT
BEGIN:VEVENT
DTSTART;TZID=America/Chicago:20250109T183000
DTEND;TZID=America/Chicago:20250109T203000
DTSTAMP:20260425T190642
CREATED:20240719T124412Z
LAST-MODIFIED:20240719T124412Z
UID:10000865-1736447400-1736454600@stayinmcallen.com
SUMMARY:UTRGV Women's Basketball vs Texas A&M-Commerce
DESCRIPTION:UTRGV Women’s Basketball vs Texas A&M-Commerce\nStreaming Video: http://plus.espn.com/\nTickets: https://www.showpass.com/2024-2025-basketball-season-tickets/\n https://goutrgv.com/calendar.aspx?game_id=27504&sport_id=8
URL:https://stayinmcallen.com/events/utrgv-womens-basketball-vs-texas-am-commerce-2/
LOCATION:Edinburg\, TX\, UTRGV Fieldhouse
CATEGORIES:UTRGV Athletics
END:VEVENT
BEGIN:VEVENT
DTSTART;TZID=America/Chicago:20250111T100000
DTEND;TZID=America/Chicago:20250111T130000
DTSTAMP:20260425T190642
CREATED:20241206T183140Z
LAST-MODIFIED:20250110T204518Z
UID:10001481-1736589600-1736600400@stayinmcallen.com
SUMMARY:UTRGV Camps  Baseball Evaluation Camp (Grades 9-12)
DESCRIPTION:UTRGV Camps  Baseball Evaluation Camp (Grades 9-12)
URL:https://stayinmcallen.com/events/utrgv-camps-baseball-evaluation-camp-grades-9-12/
LOCATION:Edinburg\, TX\, UTRGV Baseball Stadium
CATEGORIES:UTRGV Athletics
END:VEVENT
BEGIN:VEVENT
DTSTART;TZID=America/Chicago:20250111T100000
DTEND;TZID=America/Chicago:20250111T130000
DTSTAMP:20260425T190642
CREATED:20241206T183142Z
LAST-MODIFIED:20241206T183142Z
UID:10001480-1736589600-1736600400@stayinmcallen.com
SUMMARY:UTRGV Camps  Baseball Evaluation Camp (Grades 9-12)
DESCRIPTION:UTRGV Camps  Baseball Evaluation Camp (Grades 9-12)
URL:https://stayinmcallen.com/events/utrgv-camps-baseball-evaluation-camp-grades-9-12-2/
LOCATION:Edinburg\, TX\, UTRGV Baseball Stadium
CATEGORIES:UTRGV Athletics
END:VEVENT
BEGIN:VEVENT
DTSTART;TZID=America/Chicago:20250111T120000
DTEND;TZID=America/Chicago:20250111T150000
DTSTAMP:20260425T190642
CREATED:20240816T134534Z
LAST-MODIFIED:20250110T204530Z
UID:10001084-1736596800-1736607600@stayinmcallen.com
SUMMARY:UTRGV Women's Swimming & Diving  Air Force
DESCRIPTION:UTRGV Women’s Swimming & Diving  Air Force\nTV: Air Force Falcons YouTube Channel\nStreaming Video: https://www.youtube.com/watch?v=5M8_ns1J9m4
URL:https://stayinmcallen.com/events/utrgv-womens-swimming-diving-air-force-invite/
LOCATION:USAF Academy\, CO
CATEGORIES:UTRGV Athletics
END:VEVENT
BEGIN:VEVENT
DTSTART;TZID=America/Chicago:20250111T120000
DTEND;TZID=America/Chicago:20250111T150000
DTSTAMP:20260425T190642
CREATED:20250110T204534Z
LAST-MODIFIED:20250110T204534Z
UID:10001848-1736596800-1736607600@stayinmcallen.com
SUMMARY:UTRGV Women's Swimming & Diving  Colorado School of Mines
DESCRIPTION:UTRGV Women’s Swimming & Diving  Colorado School of Mines\nTV: Air Force Falcons YouTube Channel\nStreaming Video: https://www.youtube.com/watch?v=5M8_ns1J9m4
URL:https://stayinmcallen.com/events/utrgv-womens-swimming-diving-colorado-school-of-mines/
LOCATION:USAF Academy\, CO
CATEGORIES:UTRGV Athletics
END:VEVENT
BEGIN:VEVENT
DTSTART;TZID=America/Chicago:20250111T120000
DTEND;TZID=America/Chicago:20250111T150000
DTSTAMP:20260425T190642
CREATED:20250110T204534Z
LAST-MODIFIED:20250110T204534Z
UID:10001847-1736596800-1736607600@stayinmcallen.com
SUMMARY:UTRGV Women's Swimming & Diving  Colorado School of Mines
DESCRIPTION:UTRGV Women’s Swimming & Diving  Colorado School of Mines\nTV: Air Force Falcons YouTube Channel\nStreaming Video: https://www.youtube.com/watch?v=5M8_ns1J9m4
URL:https://stayinmcallen.com/events/utrgv-womens-swimming-diving-colorado-school-of-mines-2/
LOCATION:USAF Academy\, CO
CATEGORIES:UTRGV Athletics
END:VEVENT
BEGIN:VEVENT
DTSTART;TZID=America/Chicago:20250111T120000
DTEND;TZID=America/Chicago:20250111T150000
DTSTAMP:20260425T190642
CREATED:20250110T204538Z
LAST-MODIFIED:20250110T204538Z
UID:10001849-1736596800-1736607600@stayinmcallen.com
SUMMARY:UTRGV Women's Swimming & Diving  Northern Colorado
DESCRIPTION:UTRGV Women’s Swimming & Diving  Northern Colorado\nTV: Air Force Falcons YouTube Channel\nStreaming Video: https://www.youtube.com/watch?v=5M8_ns1J9m4
URL:https://stayinmcallen.com/events/utrgv-womens-swimming-diving-northern-colorado/
LOCATION:USAF Academy\, CO
CATEGORIES:UTRGV Athletics
END:VEVENT
BEGIN:VEVENT
DTSTART;TZID=America/Chicago:20250111T120000
DTEND;TZID=America/Chicago:20250111T150000
DTSTAMP:20260425T190642
CREATED:20250110T204540Z
LAST-MODIFIED:20250110T204540Z
UID:10001850-1736596800-1736607600@stayinmcallen.com
SUMMARY:UTRGV Women's Swimming & Diving  Northern Colorado
DESCRIPTION:UTRGV Women’s Swimming & Diving  Northern Colorado\nTV: Air Force Falcons YouTube Channel\nStreaming Video: https://www.youtube.com/watch?v=5M8_ns1J9m4
URL:https://stayinmcallen.com/events/utrgv-womens-swimming-diving-northern-colorado-2/
LOCATION:USAF Academy\, CO
CATEGORIES:UTRGV Athletics
END:VEVENT
BEGIN:VEVENT
DTSTART;TZID=America/Chicago:20250111T130000
DTEND;TZID=America/Chicago:20250111T150000
DTSTAMP:20260425T190642
CREATED:20240719T124346Z
LAST-MODIFIED:20250110T204522Z
UID:10000862-1736600400-1736607600@stayinmcallen.com
SUMMARY:UTRGV Women's Basketball at Texas A&M-Corpus Christi
DESCRIPTION:UTRGV Women’s Basketball at Texas A&M-Corpus Christi\nTV: ESPN+ (USA) | Southland International\nStreaming Video: http://plus.espn.com/
URL:https://stayinmcallen.com/events/utrgv-womens-basketball-at-texas-am-corpus-christi-2/
LOCATION:Corpus Christi\, TX
CATEGORIES:UTRGV Athletics
END:VEVENT
BEGIN:VEVENT
DTSTART;TZID=America/Chicago:20250111T130000
DTEND;TZID=America/Chicago:20250111T160000
DTSTAMP:20260425T190642
CREATED:20241213T184643Z
LAST-MODIFIED:20250110T204526Z
UID:10001499-1736600400-1736611200@stayinmcallen.com
SUMMARY:POSTPONED UTRGV Men's Tennis at Oklahoma State
DESCRIPTION:POSTPONED UTRGV Men’s Tennis at Oklahoma State
URL:https://stayinmcallen.com/events/utrgv-mens-tennis-at-oklahoma-state-2/
LOCATION:Stillwater\, OK
CATEGORIES:UTRGV Athletics
END:VEVENT
BEGIN:VEVENT
DTSTART;TZID=America/Chicago:20250111T130000
DTEND;TZID=America/Chicago:20250111T160000
DTSTAMP:20260425T190642
CREATED:20241213T184649Z
LAST-MODIFIED:20241213T184649Z
UID:10001498-1736600400-1736611200@stayinmcallen.com
SUMMARY:UTRGV Men's Tennis at Oklahoma State
DESCRIPTION:UTRGV Men’s Tennis at Oklahoma State
URL:https://stayinmcallen.com/events/utrgv-mens-tennis-at-oklahoma-state-3/
LOCATION:Stillwater\, OK
CATEGORIES:UTRGV Athletics
END:VEVENT
BEGIN:VEVENT
DTSTART;TZID=America/Chicago:20250111T153000
DTEND;TZID=America/Chicago:20250111T173000
DTSTAMP:20260425T190642
CREATED:20240719T124353Z
LAST-MODIFIED:20250110T204544Z
UID:10000866-1736609400-1736616600@stayinmcallen.com
SUMMARY:UTRGV Men's Basketball at Texas A&M-Corpus Christi
DESCRIPTION:UTRGV Men’s Basketball at Texas A&M-Corpus Christi\nTV: ESPN+ (USA) | Southland International\nStreaming Video: https://www.espn.com/espnplus/player/_/id/2f991dde-c8d2-4062-8f1b-48c24f312a30
URL:https://stayinmcallen.com/events/utrgv-mens-basketball-at-texas-am-corpus-christi-3/
LOCATION:Corpus Christi\, TX
CATEGORIES:UTRGV Athletics
END:VEVENT
END:VCALENDAR