BEGIN:VCALENDAR
VERSION:2.0
PRODID:-//Stayinmcallen - ECPv6.15.20//NONSGML v1.0//EN
CALSCALE:GREGORIAN
METHOD:PUBLISH
X-ORIGINAL-URL:https://stayinmcallen.com
X-WR-CALDESC:Events for Stayinmcallen
REFRESH-INTERVAL;VALUE=DURATION:PT1H
X-Robots-Tag:noindex
X-PUBLISHED-TTL:PT1H
BEGIN:VTIMEZONE
TZID:America/Chicago
BEGIN:DAYLIGHT
TZOFFSETFROM:-0600
TZOFFSETTO:-0500
TZNAME:CDT
DTSTART:20240310T080000
END:DAYLIGHT
BEGIN:STANDARD
TZOFFSETFROM:-0500
TZOFFSETTO:-0600
TZNAME:CST
DTSTART:20241103T070000
END:STANDARD
BEGIN:DAYLIGHT
TZOFFSETFROM:-0600
TZOFFSETTO:-0500
TZNAME:CDT
DTSTART:20250309T080000
END:DAYLIGHT
BEGIN:STANDARD
TZOFFSETFROM:-0500
TZOFFSETTO:-0600
TZNAME:CST
DTSTART:20251102T070000
END:STANDARD
BEGIN:DAYLIGHT
TZOFFSETFROM:-0600
TZOFFSETTO:-0500
TZNAME:CDT
DTSTART:20260308T080000
END:DAYLIGHT
BEGIN:STANDARD
TZOFFSETFROM:-0500
TZOFFSETTO:-0600
TZNAME:CST
DTSTART:20261101T070000
END:STANDARD
END:VTIMEZONE
BEGIN:VEVENT
DTSTART;TZID=America/Chicago:20251025T110000
DTEND;TZID=America/Chicago:20251025T130000
DTSTAMP:20260424T164032
CREATED:20250419T005514Z
LAST-MODIFIED:20251022T174857Z
UID:10002394-1761390000-1761397200@stayinmcallen.com
SUMMARY:UTRGV Volleyball at Nicholls
DESCRIPTION:UTRGV Volleyball at Nicholls
URL:https://stayinmcallen.com/events/utrgv-volleyball-at-nicholls/
LOCATION:Thibodaux\, La.
CATEGORIES:UTRGV Athletics
END:VEVENT
BEGIN:VEVENT
DTSTART;TZID=America/Chicago:20251025T190000
DTEND;TZID=America/Chicago:20251025T220000
DTSTAMP:20260424T164032
CREATED:20250214T223137Z
LAST-MODIFIED:20251022T174901Z
UID:10002044-1761418800-1761429600@stayinmcallen.com
SUMMARY:UTRGV Football vs Incarnate Word - Homecoming
DESCRIPTION:UTRGV Football vs Incarnate Word – Homecoming\nTV: ESPN+ (USA) | Southland International\nRadio: Ultra 90.1 FM | Pure Country 95.7 FM | KYWW 1530 AM Puro Tejano | KGBT-FM 98.5 La Preferida\nStreaming Video: http://southland.org/espn\nStreaming Audio: https://player.amperwave.net/13749\nTickets: https://www.showpass.com/utrgv-football-2025/
URL:https://stayinmcallen.com/events/utrgv-football-vs-incarnate-word/
LOCATION:Edinburg\, Texas\, Robert & Janet Vackar Stadium
CATEGORIES:UTRGV Athletics
END:VEVENT
BEGIN:VEVENT
DTSTART;VALUE=DATE:20251027
DTEND;VALUE=DATE:20251029
DTSTAMP:20260424T164032
CREATED:20250816T045650Z
LAST-MODIFIED:20251022T174905Z
UID:10002953-1761591600-1761677999@stayinmcallen.com
SUMMARY:UTRGV Women's Golf  Bear Brawl
DESCRIPTION:UTRGV Women’s Golf  Bear Brawl
URL:https://stayinmcallen.com/events/utrgv-womens-golf-bear-brawl/
LOCATION:Waco\, Texas
CATEGORIES:UTRGV Athletics
END:VEVENT
BEGIN:VEVENT
DTSTART;TZID=America/Chicago:20251028T180000
DTEND;TZID=America/Chicago:20251028T200000
DTSTAMP:20260424T164032
CREATED:20250726T035420Z
LAST-MODIFIED:20251022T174921Z
UID:10002814-1761674400-1761681600@stayinmcallen.com
SUMMARY:UTRGV Men's Soccer at Stetson
DESCRIPTION:UTRGV Men’s Soccer at Stetson\nTV: ESPN+\nStreaming Video: https://www.espn.com/watch/
URL:https://stayinmcallen.com/events/utrgv-mens-soccer-at-stetson/
LOCATION:Deland\, Fla.
CATEGORIES:UTRGV Athletics
END:VEVENT
BEGIN:VEVENT
DTSTART;TZID=America/Chicago:20251028T180000
DTEND;TZID=America/Chicago:20251028T200000
DTSTAMP:20260424T164032
CREATED:20250726T035428Z
LAST-MODIFIED:20250726T035428Z
UID:10002815-1761674400-1761681600@stayinmcallen.com
SUMMARY:UTRGV Men's Soccer at Stetson
DESCRIPTION:UTRGV Men’s Soccer at Stetson
URL:https://stayinmcallen.com/events/utrgv-mens-soccer-at-stetson-2/
LOCATION:Deland\, Fla.
CATEGORIES:UTRGV Athletics
END:VEVENT
BEGIN:VEVENT
DTSTART;TZID=America/Chicago:20251030T183000
DTEND;TZID=America/Chicago:20251030T203000
DTSTAMP:20260424T164032
CREATED:20250419T005522Z
LAST-MODIFIED:20251029T185011Z
UID:10002395-1761849000-1761856200@stayinmcallen.com
SUMMARY:UTRGV Women's Soccer vs Lamar
DESCRIPTION:UTRGV Women’s Soccer vs Lamar\nTV: ESPN+ (USA) | Southland International\nStreaming Video: https://www.southland.org/espn
URL:https://stayinmcallen.com/events/utrgv-womens-soccer-vs-lamar/
LOCATION:Edinburg\, Texas\, UTRGV Soccer and Track & Field Complex
CATEGORIES:UTRGV Athletics
END:VEVENT
BEGIN:VEVENT
DTSTART;TZID=America/Chicago:20251030T183000
DTEND;TZID=America/Chicago:20251030T203000
DTSTAMP:20260424T164032
CREATED:20250419T005526Z
LAST-MODIFIED:20251029T185029Z
UID:10002396-1761849000-1761856200@stayinmcallen.com
SUMMARY:UTRGV Volleyball vs Texas A&M-Corpus Christi - South Texas Showdown\, presented by Rally Credit Union - Kills & Thrills Night
DESCRIPTION:UTRGV Volleyball vs Texas A&M-Corpus Christi – South Texas Showdown\, presented by Rally Credit Union – Kills & Thrills Night TV: ESPN+ (USA) | Southland International Streaming Video: https://www.southland.org/espn Tickets: https://www.showpass.com/o/university-of-texas-rio-grande-valley-utrgv/
URL:https://stayinmcallen.com/events/utrgv-volleyball-vs-texas-am-corpus-christi-5/
LOCATION:Edinburg\, Texas\, UTRGV Fieldhouse
CATEGORIES:UTRGV Athletics
END:VEVENT
BEGIN:VEVENT
DTSTART;VALUE=DATE:20251030
DTEND;VALUE=DATE:20251101
DTSTAMP:20260424T164032
CREATED:20250830T055646Z
LAST-MODIFIED:20251029T185015Z
UID:10003026-1761850800-1761937199@stayinmcallen.com
SUMMARY:UTRGV Men's Cross Country  SLC Championships
DESCRIPTION:UTRGV Men’s Cross Country  SLC Championships
URL:https://stayinmcallen.com/events/utrgv-mens-cross-country-slc-championships/
LOCATION:Natchitoches\, La.
CATEGORIES:UTRGV Athletics
END:VEVENT
BEGIN:VEVENT
DTSTART;VALUE=DATE:20251030
DTEND;VALUE=DATE:20251101
DTSTAMP:20260424T164032
CREATED:20250830T055653Z
LAST-MODIFIED:20250830T055653Z
UID:10003025-1761850800-1761937199@stayinmcallen.com
SUMMARY:UTRGV Men's Cross Country  SLC Championships
DESCRIPTION:UTRGV Men’s Cross Country  SLC Championships
URL:https://stayinmcallen.com/events/utrgv-mens-cross-country-slc-championships-2/
LOCATION:Natchitoches\, La.
CATEGORIES:UTRGV Athletics
END:VEVENT
BEGIN:VEVENT
DTSTART;VALUE=DATE:20251030
DTEND;VALUE=DATE:20251101
DTSTAMP:20260424T164032
CREATED:20250830T055655Z
LAST-MODIFIED:20251029T185026Z
UID:10003027-1761850800-1761937199@stayinmcallen.com
SUMMARY:UTRGV Women's Cross Country  SLC Championships
DESCRIPTION:UTRGV Women’s Cross Country  SLC Championships
URL:https://stayinmcallen.com/events/utrgv-womens-cross-country-slc-championships/
LOCATION:Natchitoches\, La.
CATEGORIES:UTRGV Athletics
END:VEVENT
BEGIN:VEVENT
DTSTART;VALUE=DATE:20251030
DTEND;VALUE=DATE:20251102
DTSTAMP:20260424T164032
CREATED:20250823T052648Z
LAST-MODIFIED:20251029T185022Z
UID:10003001-1761850800-1762023599@stayinmcallen.com
SUMMARY:UTRGV Men's Tennis at Ralston/Neufeld Coaches Challenge
DESCRIPTION:UTRGV Men’s Tennis at Ralston/Neufeld Coaches Challenge
URL:https://stayinmcallen.com/events/utrgv-mens-tennis-at-ralston-neufeld-coaches-challenge/
LOCATION:Dallas\, Texas
CATEGORIES:UTRGV Athletics
END:VEVENT
BEGIN:VEVENT
DTSTART;VALUE=DATE:20251030
DTEND;VALUE=DATE:20251102
DTSTAMP:20260424T164032
CREATED:20250823T052731Z
LAST-MODIFIED:20251029T185018Z
UID:10003003-1761850800-1762023599@stayinmcallen.com
SUMMARY:UTRGV Men's Tennis at UIW Invitational
DESCRIPTION:UTRGV Men’s Tennis at UIW Invitational
URL:https://stayinmcallen.com/events/utrgv-mens-tennis-at-uiw-invitational/
LOCATION:San Antonio\, Texas
CATEGORIES:UTRGV Athletics
END:VEVENT
BEGIN:VEVENT
DTSTART;VALUE=DATE:20251030
DTEND;VALUE=DATE:20251102
DTSTAMP:20260424T164032
CREATED:20250823T052736Z
LAST-MODIFIED:20250823T052736Z
UID:10003002-1761850800-1762023599@stayinmcallen.com
SUMMARY:UTRGV Men's Tennis at UIW Invitational
DESCRIPTION:UTRGV Men’s Tennis at UIW Invitational
URL:https://stayinmcallen.com/events/utrgv-mens-tennis-at-uiw-invitational-2/
LOCATION:San Antonio\, Texas
CATEGORIES:UTRGV Athletics
END:VEVENT
BEGIN:VEVENT
DTSTART;TZID=America/Chicago:20251101T120000
DTEND;TZID=America/Chicago:20251101T150000
DTSTAMP:20260424T164032
CREATED:20250719T033758Z
LAST-MODIFIED:20251029T185037Z
UID:10002716-1761998400-1762009200@stayinmcallen.com
SUMMARY:UTRGV Women's Swimming & Diving  West Florida
DESCRIPTION:UTRGV Women’s Swimming & Diving  West Florida
URL:https://stayinmcallen.com/events/utrgv-womens-swimming-diving-west-florida/
LOCATION:Pensacola\, Fla.
CATEGORIES:UTRGV Athletics
END:VEVENT
BEGIN:VEVENT
DTSTART;TZID=America/Chicago:20251101T120000
DTEND;TZID=America/Chicago:20251101T150000
DTSTAMP:20260424T164032
CREATED:20251029T185033Z
LAST-MODIFIED:20251029T185033Z
UID:10003197-1761998400-1762009200@stayinmcallen.com
SUMMARY:UTRGV Women's Swimming & Diving  Montevallo
DESCRIPTION:UTRGV Women’s Swimming & Diving  Montevallo
URL:https://stayinmcallen.com/events/utrgv-womens-swimming-diving-montevallo/
LOCATION:Pensacola\, Fla.
CATEGORIES:UTRGV Athletics
END:VEVENT
BEGIN:VEVENT
DTSTART;TZID=America/Chicago:20251101T130000
DTEND;TZID=America/Chicago:20251101T150000
DTSTAMP:20260424T164032
CREATED:20250419T005531Z
LAST-MODIFIED:20251029T185041Z
UID:10002397-1762002000-1762009200@stayinmcallen.com
SUMMARY:UTRGV Volleyball at Texas A&M-Corpus Christi
DESCRIPTION:UTRGV Volleyball at Texas A&M-Corpus Christi\nTV: ESPN+ (USA)\nStreaming Video: https://www.southland.org/espn
URL:https://stayinmcallen.com/events/utrgv-volleyball-at-texas-am-corpus-christi-3/
LOCATION:Corpus Christi\, Texas
CATEGORIES:UTRGV Athletics
END:VEVENT
BEGIN:VEVENT
DTSTART;TZID=America/Chicago:20251101T180000
DTEND;TZID=America/Chicago:20251101T210000
DTSTAMP:20260424T164032
CREATED:20250214T223142Z
LAST-MODIFIED:20251029T185046Z
UID:10002045-1762020000-1762030800@stayinmcallen.com
SUMMARY:UTRGV Football at Stephen F. Austin
DESCRIPTION:UTRGV Football at Stephen F. Austin\nTV: ESPN+ (USA) | Southland International\nRadio: Ultra 90.1 FM | Pure Country 95.7 FM\nStreaming Video: http://southland.org/espn\nStreaming Audio: https://player.amperwave.net/13749\nTickets: https://sfajacks.evenue.net/events/FBS
URL:https://stayinmcallen.com/events/utrgv-football-at-stephen-f-austin/
LOCATION:Nacogdoches\, Texas\, Homer Bryce Stadium
CATEGORIES:UTRGV Athletics
END:VEVENT
BEGIN:VEVENT
DTSTART;VALUE=DATE:20251103
DTEND;VALUE=DATE:20251105
DTSTAMP:20260424T164032
CREATED:20250419T005541Z
LAST-MODIFIED:20251022T175020Z
UID:10002399-1762192800-1762279199@stayinmcallen.com
SUMMARY:UTRGV Women's Soccer vs Quarterfinals
DESCRIPTION:UTRGV Women’s Soccer vs Quarterfinals\nTV: ESPN+ (USA) | Southland International\nStreaming Video: https://www.southland.org/espn
URL:https://stayinmcallen.com/events/utrgv-womens-soccer-vs-quarterfinals-2/
LOCATION:Beaumont\, Texas
CATEGORIES:UTRGV Athletics
END:VEVENT
BEGIN:VEVENT
DTSTART;TZID=America/Chicago:20251103T183000
DTEND;TZID=America/Chicago:20251103T203000
DTSTAMP:20260424T164032
CREATED:20250830T055717Z
LAST-MODIFIED:20251029T185104Z
UID:10003028-1762194600-1762201800@stayinmcallen.com
SUMMARY:UTRGV Women's Basketball vs St. Mary's - Monday Madness
DESCRIPTION:UTRGV Women’s Basketball vs St. Mary’s – Monday Madness\nTV: ESPN+ (USA) | Southland International\nStreaming Video: https://www.southland.org/espn\nTickets: https://www.showpass.com/o/university-of-texas-rio-grande-valley-utrgv/
URL:https://stayinmcallen.com/events/utrgv-womens-basketball-vs-st-marys-2/
LOCATION:Edinburg\, Texas\, UTRGV Fieldhouse
CATEGORIES:UTRGV Athletics
END:VEVENT
BEGIN:VEVENT
DTSTART;TZID=America/Chicago:20251103T183000
DTEND;TZID=America/Chicago:20251103T203000
DTSTAMP:20260424T164032
CREATED:20250830T055731Z
LAST-MODIFIED:20250830T055731Z
UID:10003030-1762194600-1762201800@stayinmcallen.com
SUMMARY:UTRGV Women's Basketball vs St. Mary's
DESCRIPTION:UTRGV Women’s Basketball vs St. Mary’s\nTV: ESPN+ (USA) | Southland International\nStreaming Video: https://www.southland.org/espn\nTickets: https://www.showpass.com/o/university-of-texas-rio-grande-valley-utrgv/
URL:https://stayinmcallen.com/events/utrgv-womens-basketball-vs-st-marys-3/
LOCATION:Edinburg\, Texas\, UTRGV Fieldhouse
CATEGORIES:UTRGV Athletics
END:VEVENT
BEGIN:VEVENT
DTSTART;TZID=America/Chicago:20251103T190000
DTEND;TZID=America/Chicago:20251103T210000
DTSTAMP:20260424T164032
CREATED:20251015T164539Z
LAST-MODIFIED:20251029T185108Z
UID:10003171-1762196400-1762203600@stayinmcallen.com
SUMMARY:UTRGV Men's Basketball at Baylor
DESCRIPTION:UTRGV Men’s Basketball at Baylor\nTV: ESPN+\nStreaming Video: https://plus.espn.com/
URL:https://stayinmcallen.com/events/utrgv-mens-basketball-at-baylor/
LOCATION:Waco\, Texas
CATEGORIES:UTRGV Athletics
END:VEVENT
BEGIN:VEVENT
DTSTART;TZID=America/Chicago:20251105T180000
DTEND;TZID=America/Chicago:20251105T200000
DTSTAMP:20260424T164032
CREATED:20250726T035449Z
LAST-MODIFIED:20251029T185128Z
UID:10002816-1762365600-1762372800@stayinmcallen.com
SUMMARY:UTRGV Men's Soccer at Oregon State
DESCRIPTION:UTRGV Men’s Soccer at Oregon State
URL:https://stayinmcallen.com/events/utrgv-mens-soccer-at-oregon-state/
LOCATION:Corvallis\, Ore.
CATEGORIES:UTRGV Athletics
END:VEVENT
BEGIN:VEVENT
DTSTART;TZID=America/Chicago:20251105T180000
DTEND;TZID=America/Chicago:20251105T200000
DTSTAMP:20260424T164032
CREATED:20250726T035507Z
LAST-MODIFIED:20250726T035507Z
UID:10002817-1762365600-1762372800@stayinmcallen.com
SUMMARY:UTRGV Men's Soccer at Oregon State
DESCRIPTION:UTRGV Men’s Soccer at Oregon State
URL:https://stayinmcallen.com/events/utrgv-mens-soccer-at-oregon-state-2/
LOCATION:Corvallis\, Ore.
CATEGORIES:UTRGV Athletics
END:VEVENT
BEGIN:VEVENT
DTSTART;VALUE=DATE:20251105
DTEND;VALUE=DATE:20251107
DTSTAMP:20260424T164032
CREATED:20250419T005545Z
LAST-MODIFIED:20251022T175028Z
UID:10002400-1762365600-1762451999@stayinmcallen.com
SUMMARY:UTRGV Women's Soccer vs Semifinals
DESCRIPTION:UTRGV Women’s Soccer vs Semifinals\nTV: ESPN+ (USA) | Southland International\nStreaming Video: https://www.southland.org/espn
URL:https://stayinmcallen.com/events/utrgv-womens-soccer-vs-semifinals/
LOCATION:Beaumont\, Texas
CATEGORIES:UTRGV Athletics
END:VEVENT
BEGIN:VEVENT
DTSTART;VALUE=DATE:20251105
DTEND;VALUE=DATE:20251109
DTSTAMP:20260424T164032
CREATED:20250823T052745Z
LAST-MODIFIED:20251105T200640Z
UID:10003004-1762365600-1762624799@stayinmcallen.com
SUMMARY:UTRGV Women's Tennis at Baylor Invite
DESCRIPTION:UTRGV Women’s Tennis at Baylor Invite
URL:https://stayinmcallen.com/events/utrgv-womens-tennis-at-baylor-invite/
LOCATION:Waco\, Texas
CATEGORIES:UTRGV Athletics
END:VEVENT
BEGIN:VEVENT
DTSTART;TZID=America/Chicago:20251106T183000
DTEND;TZID=America/Chicago:20251106T203000
DTSTAMP:20260424T164032
CREATED:20250419T005550Z
LAST-MODIFIED:20251105T200644Z
UID:10002401-1762453800-1762461000@stayinmcallen.com
SUMMARY:UTRGV Volleyball vs UIW - Senior Night
DESCRIPTION:UTRGV Volleyball vs UIW – Senior Night\nTV: ESPN+ (USA) | Southland International\nStreaming Video: https://www.southland.org/espn\nTickets: https://www.showpass.com/o/university-of-texas-rio-grande-valley-utrgv/
URL:https://stayinmcallen.com/events/utrgv-volleyball-vs-incarnate-word-5/
LOCATION:Edinburg\, Texas\, UTRGV Fieldhouse
CATEGORIES:UTRGV Athletics
END:VEVENT
BEGIN:VEVENT
DTSTART;TZID=America/Chicago:20251106T183000
DTEND;TZID=America/Chicago:20251106T213000
DTSTAMP:20260424T164032
CREATED:20251029T185131Z
LAST-MODIFIED:20251105T200648Z
UID:10003198-1762453800-1762464600@stayinmcallen.com
SUMMARY:UTRGV Baseball vs Orange & Gray World Series Game 1
DESCRIPTION:UTRGV Baseball vs Orange & Gray World Series Game 1
URL:https://stayinmcallen.com/events/utrgv-baseball-vs-orange-gray-world-series-game-1/
LOCATION:Edinburg\, Texas\, UTRGV Baseball Stadium
CATEGORIES:UTRGV Athletics
END:VEVENT
BEGIN:VEVENT
DTSTART;TZID=America/Chicago:20251107T183000
DTEND;TZID=America/Chicago:20251107T203000
DTSTAMP:20260424T164032
CREATED:20250830T055728Z
LAST-MODIFIED:20251105T200652Z
UID:10003029-1762540200-1762547400@stayinmcallen.com
SUMMARY:UTRGV Women's Basketball vs Arlington Baptist
DESCRIPTION:UTRGV Women’s Basketball vs Arlington Baptist\nTV: ESPN+ (USA) | Southland International\nStreaming Video: https://www.southland.org/espn\nTickets: https://www.showpass.com/o/university-of-texas-rio-grande-valley-utrgv/
URL:https://stayinmcallen.com/events/utrgv-womens-basketball-vs-arlington-baptist-3/
LOCATION:Edinburg\, Texas\, UTRGV Fieldhouse
CATEGORIES:UTRGV Athletics
END:VEVENT
BEGIN:VEVENT
DTSTART;TZID=America/Chicago:20251107T183000
DTEND;TZID=America/Chicago:20251107T203000
DTSTAMP:20260424T164032
CREATED:20250830T055740Z
LAST-MODIFIED:20250830T055740Z
UID:10003031-1762540200-1762547400@stayinmcallen.com
SUMMARY:UTRGV Women's Basketball vs Arlington Baptist
DESCRIPTION:UTRGV Women’s Basketball vs Arlington Baptist\nTV: ESPN+ (USA) | Southland International\nStreaming Video: https://www.southland.org/espn\nTickets: https://www.showpass.com/o/university-of-texas-rio-grande-valley-utrgv/
URL:https://stayinmcallen.com/events/utrgv-womens-basketball-vs-arlington-baptist-4/
LOCATION:Edinburg\, Texas\, UTRGV Fieldhouse
CATEGORIES:UTRGV Athletics
END:VEVENT
BEGIN:VEVENT
DTSTART;TZID=America/Chicago:20251107T183000
DTEND;TZID=America/Chicago:20251107T213000
DTSTAMP:20260424T164032
CREATED:20251029T185139Z
LAST-MODIFIED:20251105T200656Z
UID:10003199-1762540200-1762551000@stayinmcallen.com
SUMMARY:UTRGV Baseball vs Orange & Gray World Series Game 2
DESCRIPTION:UTRGV Baseball vs Orange & Gray World Series Game 2
URL:https://stayinmcallen.com/events/utrgv-baseball-vs-orange-gray-world-series-game-2/
LOCATION:Edinburg\, Texas\, UTRGV Baseball Stadium
CATEGORIES:UTRGV Athletics
END:VEVENT
END:VCALENDAR