BEGIN:VCALENDAR
VERSION:2.0
PRODID:-//Stayinmcallen - ECPv6.15.20//NONSGML v1.0//EN
CALSCALE:GREGORIAN
METHOD:PUBLISH
X-WR-CALNAME:Stayinmcallen
X-ORIGINAL-URL:https://stayinmcallen.com
X-WR-CALDESC:Events for Stayinmcallen
REFRESH-INTERVAL;VALUE=DURATION:PT1H
X-Robots-Tag:noindex
X-PUBLISHED-TTL:PT1H
BEGIN:VTIMEZONE
TZID:America/Chicago
BEGIN:DAYLIGHT
TZOFFSETFROM:-0600
TZOFFSETTO:-0500
TZNAME:CDT
DTSTART:20250309T080000
END:DAYLIGHT
BEGIN:STANDARD
TZOFFSETFROM:-0500
TZOFFSETTO:-0600
TZNAME:CST
DTSTART:20251102T070000
END:STANDARD
BEGIN:DAYLIGHT
TZOFFSETFROM:-0600
TZOFFSETTO:-0500
TZNAME:CDT
DTSTART:20260308T080000
END:DAYLIGHT
BEGIN:STANDARD
TZOFFSETFROM:-0500
TZOFFSETTO:-0600
TZNAME:CST
DTSTART:20261101T070000
END:STANDARD
BEGIN:DAYLIGHT
TZOFFSETFROM:-0600
TZOFFSETTO:-0500
TZNAME:CDT
DTSTART:20270314T080000
END:DAYLIGHT
BEGIN:STANDARD
TZOFFSETFROM:-0500
TZOFFSETTO:-0600
TZNAME:CST
DTSTART:20271107T070000
END:STANDARD
END:VTIMEZONE
BEGIN:VEVENT
DTSTART;TZID=America/Chicago:20260405T143000
DTEND;TZID=America/Chicago:20260405T163000
DTSTAMP:20260424T105551
CREATED:20250830T060914Z
LAST-MODIFIED:20260311T173603Z
UID:10003069-1775399400-1775406600@stayinmcallen.com
SUMMARY:UTRGV Women's Basketball vs Championship
DESCRIPTION:UTRGV Women’s Basketball vs Championship\nTV: ABC
URL:https://stayinmcallen.com/events/utrgv-womens-basketball-vs-championship-9/
LOCATION:Phoenix\, Ariz.\, Mortgage Matchup Center
CATEGORIES:UTRGV Athletics
END:VEVENT
BEGIN:VEVENT
DTSTART;VALUE=DATE:20260405
DTEND;VALUE=DATE:20260407
DTSTAMP:20260424T105551
CREATED:20250816T050933Z
LAST-MODIFIED:20260402T071432Z
UID:10002969-1775415600-1775501999@stayinmcallen.com
SUMMARY:UTRGV Men's Golf  Tiger Intercollegiate
DESCRIPTION:UTRGV Men’s Golf  Tiger Intercollegiate
URL:https://stayinmcallen.com/events/utrgv-mens-golf-tiger-intercollegiate-2/
LOCATION:Columbia\, Mo.
CATEGORIES:UTRGV Athletics
END:VEVENT
BEGIN:VEVENT
DTSTART;TZID=America/Chicago:20260406T110000
DTEND;TZID=America/Chicago:20260406T140000
DTSTAMP:20260424T105551
CREATED:20251228T151209Z
LAST-MODIFIED:20260402T071436Z
UID:10003416-1775473200-1775484000@stayinmcallen.com
SUMMARY:UTRGV Women's Tennis vs Nicholls
DESCRIPTION:UTRGV Women’s Tennis vs Nicholls
URL:https://stayinmcallen.com/events/utrgv-womens-tennis-vs-nicholls/
LOCATION:Edinburg\, Texas\, Orville I. Cox Tennis Center
CATEGORIES:UTRGV Athletics
END:VEVENT
BEGIN:VEVENT
DTSTART;TZID=America/Chicago:20260406T150000
DTEND;TZID=America/Chicago:20260406T180000
DTSTAMP:20260424T105551
CREATED:20251217T032959Z
LAST-MODIFIED:20260402T071444Z
UID:10003356-1775487600-1775498400@stayinmcallen.com
SUMMARY:UTRGV Men's Tennis vs Nicholls
DESCRIPTION:UTRGV Men’s Tennis vs Nicholls
URL:https://stayinmcallen.com/events/utrgv-mens-tennis-vs-nicholls/
LOCATION:Edinburg\, Texas\, Orville I. Cox Tennis Center
CATEGORIES:UTRGV Athletics
END:VEVENT
BEGIN:VEVENT
DTSTART;TZID=America/Chicago:20260406T183000
DTEND;TZID=America/Chicago:20260406T213000
DTSTAMP:20260424T105551
CREATED:20251105T201957Z
LAST-MODIFIED:20260402T071447Z
UID:10003244-1775500200-1775511000@stayinmcallen.com
SUMMARY:UTRGV Baseball vs Houston Christian University - Upside Down Night
DESCRIPTION:UTRGV Baseball vs Houston Christian University – Upside Down Night\nStreaming Video: https://www.southland.org/espn\nStreaming Audio: https://www.southland.org/watch\nTickets: http://utrgvtickets.com/
URL:https://stayinmcallen.com/events/utrgv-baseball-vs-houston-christian-university/
LOCATION:Edinburg\, Texas\, UTRGV Baseball Stadium
CATEGORIES:UTRGV Athletics
END:VEVENT
BEGIN:VEVENT
DTSTART;TZID=America/Chicago:20260406T193000
DTEND;TZID=America/Chicago:20260406T213000
DTSTAMP:20260424T105551
CREATED:20250809T043758Z
LAST-MODIFIED:20260303T165214Z
UID:10002911-1775503800-1775511000@stayinmcallen.com
SUMMARY:UTRGV Men's Basketball vs Championship
DESCRIPTION:UTRGV Men’s Basketball vs Championship\nTV: TBS\nRadio: Westwood One
URL:https://stayinmcallen.com/events/utrgv-mens-basketball-vs-championship-5/
LOCATION:Indianapolis\, Ind.\, Lucas Oil Stadium
CATEGORIES:UTRGV Athletics
END:VEVENT
BEGIN:VEVENT
DTSTART;TZID=America/Chicago:20260410T160000
DTEND;TZID=America/Chicago:20260410T235900
DTSTAMP:20260424T105551
CREATED:20251228T151227Z
LAST-MODIFIED:20260409T105045Z
UID:10003417-1775836800-1775865540@stayinmcallen.com
SUMMARY:UTRGV Men's Track & Field  Cactus Cup
DESCRIPTION:UTRGV Men’s Track & Field  Cactus Cup
URL:https://stayinmcallen.com/events/utrgv-mens-track-field-texas-am-kingsville/
LOCATION:Kingsville\, Texas
CATEGORIES:UTRGV Athletics
END:VEVENT
BEGIN:VEVENT
DTSTART;TZID=America/Chicago:20260410T160000
DTEND;TZID=America/Chicago:20260410T235900
DTSTAMP:20260424T105551
CREATED:20251228T151231Z
LAST-MODIFIED:20260409T105039Z
UID:10003418-1775836800-1775865540@stayinmcallen.com
SUMMARY:UTRGV Women's Track & Field  Cactus Cup
DESCRIPTION:UTRGV Women’s Track & Field  Cactus Cup
URL:https://stayinmcallen.com/events/utrgv-womens-track-field-texas-am-kingsville/
LOCATION:Kingsville\, Texas
CATEGORIES:UTRGV Athletics
END:VEVENT
BEGIN:VEVENT
DTSTART;TZID=America/Chicago:20260410T180000
DTEND;TZID=America/Chicago:20260410T210000
DTSTAMP:20260424T105551
CREATED:20250830T060955Z
LAST-MODIFIED:20260409T105042Z
UID:10003073-1775844000-1775854800@stayinmcallen.com
SUMMARY:UTRGV Baseball at Stephen F. Austin
DESCRIPTION:UTRGV Baseball at Stephen F. Austin\nStreaming Video: https://www.southland.org/espn\nStreaming Audio: https://www.southland.org/watch
URL:https://stayinmcallen.com/events/utrgv-baseball-at-stephen-f-austin-4/
LOCATION:Nacogdoches\, Texas\, Pilgrim’s Park
CATEGORIES:UTRGV Athletics
END:VEVENT
BEGIN:VEVENT
DTSTART;VALUE=DATE:20260410
DTEND;VALUE=DATE:20260412
DTSTAMP:20260424T105552
CREATED:20251217T033046Z
LAST-MODIFIED:20260326T055444Z
UID:10003357-1775847600-1775933999@stayinmcallen.com
SUMMARY:UTRGV Men's Tennis vs Abilene Christian
DESCRIPTION:UTRGV Men’s Tennis vs Abilene Christian
URL:https://stayinmcallen.com/events/utrgv-mens-tennis-vs-abilene-christian-2/
LOCATION:Waco\, Texas
CATEGORIES:UTRGV Athletics
END:VEVENT
BEGIN:VEVENT
DTSTART;TZID=America/Chicago:20260411T110000
DTEND;TZID=America/Chicago:20260411T140000
DTSTAMP:20260424T105552
CREATED:20251228T151236Z
LAST-MODIFIED:20260326T055447Z
UID:10003419-1775905200-1775916000@stayinmcallen.com
SUMMARY:UTRGV Women's Tennis at UTSA
DESCRIPTION:UTRGV Women’s Tennis at UTSA
URL:https://stayinmcallen.com/events/utrgv-womens-tennis-at-utsa-2/
LOCATION:San Antonio\, Texas
CATEGORIES:UTRGV Athletics
END:VEVENT
BEGIN:VEVENT
DTSTART;TZID=America/Chicago:20260411T130000
DTEND;TZID=America/Chicago:20260411T160000
DTSTAMP:20260424T105552
CREATED:20251228T150757Z
LAST-MODIFIED:20260409T105049Z
UID:10003405-1775912400-1775923200@stayinmcallen.com
SUMMARY:UTRGV Women's Tennis at Southeastern
DESCRIPTION:UTRGV Women’s Tennis at Southeastern
URL:https://stayinmcallen.com/events/utrgv-womens-tennis-at-southeastern/
LOCATION:Hammond\, La.
CATEGORIES:UTRGV Athletics
END:VEVENT
BEGIN:VEVENT
DTSTART;TZID=America/Chicago:20260411T140000
DTEND;TZID=America/Chicago:20260411T170000
DTSTAMP:20260424T105552
CREATED:20260112T122243Z
LAST-MODIFIED:20260409T105052Z
UID:10003463-1775916000-1775926800@stayinmcallen.com
SUMMARY:UTRGV Football vs Orange & White Game
DESCRIPTION:UTRGV Football vs Orange & White Game
URL:https://stayinmcallen.com/events/utrgv-football-vs-orange-white-game/
LOCATION:Brownsville\, Texas\, Sams Memorial Stadium
CATEGORIES:UTRGV Athletics
END:VEVENT
BEGIN:VEVENT
DTSTART;TZID=America/Chicago:20260411T180000
DTEND;TZID=America/Chicago:20260411T210000
DTSTAMP:20260424T105552
CREATED:20250830T060959Z
LAST-MODIFIED:20260409T105055Z
UID:10003074-1775930400-1775941200@stayinmcallen.com
SUMMARY:UTRGV Baseball at Stephen F. Austin
DESCRIPTION:UTRGV Baseball at Stephen F. Austin\nStreaming Video: https://www.southland.org/espn\nStreaming Audio: https://www.southland.org/watch
URL:https://stayinmcallen.com/events/utrgv-baseball-at-stephen-f-austin-5/
LOCATION:Nacogdoches\, Texas\, Pilgrim’s Park
CATEGORIES:UTRGV Athletics
END:VEVENT
BEGIN:VEVENT
DTSTART;TZID=America/Chicago:20260412T130000
DTEND;TZID=America/Chicago:20260412T160000
DTSTAMP:20260424T105552
CREATED:20250830T061006Z
LAST-MODIFIED:20260409T105059Z
UID:10003075-1775998800-1776009600@stayinmcallen.com
SUMMARY:UTRGV Baseball at Stephen F. Austin
DESCRIPTION:UTRGV Baseball at Stephen F. Austin\nStreaming Video: https://www.southland.org/espn\nStreaming Audio: https://www.southland.org/watch
URL:https://stayinmcallen.com/events/utrgv-baseball-at-stephen-f-austin-6/
LOCATION:Nacogdoches\, Texas\, Pilgrim’s Park
CATEGORIES:UTRGV Athletics
END:VEVENT
BEGIN:VEVENT
DTSTART;TZID=America/Chicago:20260412T180000
DTEND;TZID=America/Chicago:20260412T210000
DTSTAMP:20260424T105552
CREATED:20251217T033053Z
LAST-MODIFIED:20260409T105102Z
UID:10003358-1776016800-1776027600@stayinmcallen.com
SUMMARY:UTRGV Men's Tennis at Baylor
DESCRIPTION:UTRGV Men’s Tennis at Baylor
URL:https://stayinmcallen.com/events/utrgv-mens-tennis-at-baylor-4/
LOCATION:Waco\, Texas
CATEGORIES:UTRGV Athletics
END:VEVENT
BEGIN:VEVENT
DTSTART;VALUE=DATE:20260412
DTEND;VALUE=DATE:20260415
DTSTAMP:20260424T105552
CREATED:20250816T050938Z
LAST-MODIFIED:20260409T105113Z
UID:10002970-1776020400-1776193199@stayinmcallen.com
SUMMARY:UTRGV Women's Golf  SLC Championships
DESCRIPTION:UTRGV Women’s Golf  SLC Championships
URL:https://stayinmcallen.com/events/utrgv-womens-golf-slc-championships/
LOCATION:San Marcos\, Texas
CATEGORIES:UTRGV Athletics
END:VEVENT
BEGIN:VEVENT
DTSTART;TZID=America/Chicago:20260413T110000
DTEND;TZID=America/Chicago:20260413T140000
DTSTAMP:20260424T105552
CREATED:20251228T150726Z
LAST-MODIFIED:20260409T105105Z
UID:10003404-1776078000-1776088800@stayinmcallen.com
SUMMARY:UTRGV Women's Tennis at McNeese
DESCRIPTION:UTRGV Women’s Tennis at McNeese
URL:https://stayinmcallen.com/events/utrgv-womens-tennis-at-mcneese/
LOCATION:Lake Charles\, La.
CATEGORIES:UTRGV Athletics
END:VEVENT
BEGIN:VEVENT
DTSTART;TZID=America/Chicago:20260414T180000
DTEND;TZID=America/Chicago:20260414T210000
DTSTAMP:20260424T105552
CREATED:20251105T202035Z
LAST-MODIFIED:20260409T105108Z
UID:10003245-1776189600-1776200400@stayinmcallen.com
SUMMARY:UTRGV Baseball at Sam Houston
DESCRIPTION:UTRGV Baseball at Sam Houston\nStreaming Video: https://plus.espn.com/
URL:https://stayinmcallen.com/events/utrgv-baseball-at-sam-houston/
LOCATION:Huntsville\, Texas\, Don Sanders Stadium
CATEGORIES:UTRGV Athletics
END:VEVENT
BEGIN:VEVENT
DTSTART;VALUE=DATE:20260415
DTEND;VALUE=DATE:20260418
DTSTAMP:20260424T105552
CREATED:20260318T182015Z
LAST-MODIFIED:20260417T151903Z
UID:10003636-1776279600-1776452399@stayinmcallen.com
SUMMARY:UTRGV Women's Track & Field  Bryan Clay Invitational
DESCRIPTION:UTRGV Women’s Track & Field  Bryan Clay Invitational\nStreaming Video: https://www.flotrack.org/signup?redirect=/live/212767&utm_campaign=627583bryanclayinvita&utm_medium=partner&utm_source=participatingteams&utm_content=signup&contract_id=0063m00000vfgbmaau&coverage_id=14569752
URL:https://stayinmcallen.com/events/utrgv-womens-track-field-bryan-clay-invitational/
LOCATION:Azusa\, Calif.
CATEGORIES:UTRGV Athletics
END:VEVENT
BEGIN:VEVENT
DTSTART;VALUE=DATE:20260415
DTEND;VALUE=DATE:20260418
DTSTAMP:20260424T105552
CREATED:20260318T182020Z
LAST-MODIFIED:20260417T151856Z
UID:10003637-1776279600-1776452399@stayinmcallen.com
SUMMARY:UTRGV Men's Track & Field  Bryan Clay Invitational
DESCRIPTION:UTRGV Men’s Track & Field  Bryan Clay Invitational\nStreaming Video: https://www.flotrack.org/signup?redirect=/live/212767&utm_campaign=627583bryanclayinvita&utm_medium=partner&utm_source=participatingteams&utm_content=signup&contract_id=0063m00000vfgbmaau&coverage_id=14569752
URL:https://stayinmcallen.com/events/utrgv-mens-track-field-bryan-clay-invitational/
LOCATION:Azusa\, Calif.
CATEGORIES:UTRGV Athletics
END:VEVENT
BEGIN:VEVENT
DTSTART;VALUE=DATE:20260416
DTEND;VALUE=DATE:20260418
DTSTAMP:20260424T105552
CREATED:20260104T154321Z
LAST-MODIFIED:20260311T173739Z
UID:10003454-1776366000-1776452399@stayinmcallen.com
SUMMARY:UTRGV Men's Track & Field  Golden Hour Invitational
DESCRIPTION:UTRGV Men’s Track & Field  Golden Hour Invitational
URL:https://stayinmcallen.com/events/utrgv-mens-track-field-golden-hour-invitational/
LOCATION:Jacksonville\, Fla.
CATEGORIES:UTRGV Athletics
END:VEVENT
BEGIN:VEVENT
DTSTART;VALUE=DATE:20260416
DTEND;VALUE=DATE:20260418
DTSTAMP:20260424T105552
CREATED:20260104T154325Z
LAST-MODIFIED:20260311T173746Z
UID:10003455-1776366000-1776452399@stayinmcallen.com
SUMMARY:UTRGV Women's Track & Field  Golden Hour Invitational
DESCRIPTION:UTRGV Women’s Track & Field  Golden Hour Invitational
URL:https://stayinmcallen.com/events/utrgv-womens-track-field-golden-hour-invitational/
LOCATION:Jacksonville\, Fla.
CATEGORIES:UTRGV Athletics
END:VEVENT
BEGIN:VEVENT
DTSTART;TZID=America/Chicago:20260417T183000
DTEND;TZID=America/Chicago:20260417T213000
DTSTAMP:20260424T105552
CREATED:20250830T061017Z
LAST-MODIFIED:20260417T151900Z
UID:10003076-1776450600-1776461400@stayinmcallen.com
SUMMARY:UTRGV Baseball vs Southeastern - 956 Night\, presented by Payne Auto Group
DESCRIPTION:UTRGV Baseball vs Southeastern – 956 Night\, presented by Payne Auto Group TV: ESPNU Streaming Video: https://www.southland.org/espn Tickets: http://utrgvtickets.com/
URL:https://stayinmcallen.com/events/utrgv-baseball-vs-southeastern-2/
LOCATION:Edinburg\, Texas\, UTRGV Baseball Stadium
CATEGORIES:UTRGV Athletics
END:VEVENT
BEGIN:VEVENT
DTSTART;TZID=America/Chicago:20260418T100000
DTEND;TZID=America/Chicago:20260418T130000
DTSTAMP:20260424T105552
CREATED:20260409T075023Z
LAST-MODIFIED:20260417T151907Z
UID:10003664-1776506400-1776517200@stayinmcallen.com
SUMMARY:UTRGV Camps  Free Brownsville Soccer Clinic
DESCRIPTION:UTRGV Camps  Free Brownsville Soccer Clinic
URL:https://stayinmcallen.com/events/utrgv-camps-free-brownsville-soccer-clinic/
LOCATION:Brownsville\, Texas\, Brownsville Sports Park
CATEGORIES:UTRGV Athletics
END:VEVENT
BEGIN:VEVENT
DTSTART;TZID=America/Chicago:20260418T140000
DTEND;TZID=America/Chicago:20260418T170000
DTSTAMP:20260424T105552
CREATED:20250830T061026Z
LAST-MODIFIED:20260417T151910Z
UID:10003077-1776520800-1776531600@stayinmcallen.com
SUMMARY:UTRGV Baseball vs Southeastern - Rally Towel Giveaway\, Presented by Vaquero Outfitters • Earth Day
DESCRIPTION:UTRGV Baseball vs Southeastern – Rally Towel Giveaway\, Presented by Vaquero Outfitters • Earth Day Streaming Video: https://www.southland.org/espn Streaming Audio: https://www.southland.org/watch Tickets: http://utrgvtickets.com/
URL:https://stayinmcallen.com/events/utrgv-baseball-vs-southeastern-3/
LOCATION:Edinburg\, Texas\, UTRGV Baseball Stadium
CATEGORIES:UTRGV Athletics
END:VEVENT
BEGIN:VEVENT
DTSTART;TZID=America/Chicago:20260418T183000
DTEND;TZID=America/Chicago:20260418T213000
DTSTAMP:20260424T105552
CREATED:20250830T060935Z
LAST-MODIFIED:20260417T151913Z
UID:10003072-1776537000-1776547800@stayinmcallen.com
SUMMARY:UTRGV Baseball vs Southeastern - Rally Towel Giveaway\, Presented by Vaquero Outfitters • Earth Day
DESCRIPTION:UTRGV Baseball vs Southeastern – Rally Towel Giveaway\, Presented by Vaquero Outfitters • Earth Day Streaming Video: https://www.southland.org/espn Streaming Audio: https://www.southland.org/watch Tickets: http://utrgvtickets.com/
URL:https://stayinmcallen.com/events/utrgv-baseball-vs-southeastern/
LOCATION:Edinburg\, Texas\, UTRGV Baseball Stadium
CATEGORIES:UTRGV Athletics
END:VEVENT
BEGIN:VEVENT
DTSTART;TZID=America/Chicago:20260419T100000
DTEND;TZID=America/Chicago:20260419T130000
DTSTAMP:20260424T105552
CREATED:20251228T151331Z
LAST-MODIFIED:20260417T151920Z
UID:10003421-1776592800-1776603600@stayinmcallen.com
SUMMARY:UTRGV Women's Tennis vs Northwestern State
DESCRIPTION:UTRGV Women’s Tennis vs Northwestern State
URL:https://stayinmcallen.com/events/utrgv-womens-tennis-vs-first-round/
LOCATION:Beaumont\, Texas\, Beaumont Municipal Tennis Center
CATEGORIES:UTRGV Athletics
END:VEVENT
BEGIN:VEVENT
DTSTART;VALUE=DATE:20260419
DTEND;VALUE=DATE:20260422
DTSTAMP:20260424T105552
CREATED:20250816T050943Z
LAST-MODIFIED:20260417T151937Z
UID:10002971-1776625200-1776797999@stayinmcallen.com
SUMMARY:UTRGV Men's Golf  SLC Championships
DESCRIPTION:UTRGV Men’s Golf  SLC Championships
URL:https://stayinmcallen.com/events/utrgv-mens-golf-slc-championships/
LOCATION:Kerrville\, Texas
CATEGORIES:UTRGV Athletics
END:VEVENT
BEGIN:VEVENT
DTSTART;TZID=America/Chicago:20260420T100000
DTEND;TZID=America/Chicago:20260420T130000
DTSTAMP:20260424T105552
CREATED:20251217T033137Z
LAST-MODIFIED:20260417T151923Z
UID:10003360-1776679200-1776690000@stayinmcallen.com
SUMMARY:UTRGV Men's Tennis vs Texas A&M-Corpus Christi
DESCRIPTION:UTRGV Men’s Tennis vs Texas A&M-Corpus Christi
URL:https://stayinmcallen.com/events/utrgv-mens-tennis-vs-semifinals-2/
LOCATION:Beaumont\, Texas\, Beaumont Municipal Tennis Center
CATEGORIES:UTRGV Athletics
END:VEVENT
END:VCALENDAR