BEGIN:VCALENDAR
VERSION:2.0
PRODID:-//Stayinmcallen - ECPv6.15.20//NONSGML v1.0//EN
CALSCALE:GREGORIAN
METHOD:PUBLISH
X-ORIGINAL-URL:https://stayinmcallen.com
X-WR-CALDESC:Events for Stayinmcallen
REFRESH-INTERVAL;VALUE=DURATION:PT1H
X-Robots-Tag:noindex
X-PUBLISHED-TTL:PT1H
BEGIN:VTIMEZONE
TZID:America/Chicago
BEGIN:DAYLIGHT
TZOFFSETFROM:-0600
TZOFFSETTO:-0500
TZNAME:CDT
DTSTART:20250309T080000
END:DAYLIGHT
BEGIN:STANDARD
TZOFFSETFROM:-0500
TZOFFSETTO:-0600
TZNAME:CST
DTSTART:20251102T070000
END:STANDARD
BEGIN:DAYLIGHT
TZOFFSETFROM:-0600
TZOFFSETTO:-0500
TZNAME:CDT
DTSTART:20260308T080000
END:DAYLIGHT
BEGIN:STANDARD
TZOFFSETFROM:-0500
TZOFFSETTO:-0600
TZNAME:CST
DTSTART:20261101T070000
END:STANDARD
BEGIN:DAYLIGHT
TZOFFSETFROM:-0600
TZOFFSETTO:-0500
TZNAME:CDT
DTSTART:20270314T080000
END:DAYLIGHT
BEGIN:STANDARD
TZOFFSETFROM:-0500
TZOFFSETTO:-0600
TZNAME:CST
DTSTART:20271107T070000
END:STANDARD
END:VTIMEZONE
BEGIN:VEVENT
DTSTART;TZID=America/Chicago:20260214T160000
DTEND;TZID=America/Chicago:20260214T190000
DTSTAMP:20260424T103608
CREATED:20251217T032310Z
LAST-MODIFIED:20260214T153719Z
UID:10003347-1771084800-1771095600@stayinmcallen.com
SUMMARY:UTRGV Men's Tennis vs UC San Diego
DESCRIPTION:UTRGV Men’s Tennis vs UC San Diego
URL:https://stayinmcallen.com/events/utrgv-mens-tennis-vs-uc-san-diego/
LOCATION:Moscow\, Idaho
CATEGORIES:UTRGV Athletics
END:VEVENT
BEGIN:VEVENT
DTSTART;TZID=America/Chicago:20260214T163000
DTEND;TZID=America/Chicago:20260214T183000
DTSTAMP:20260424T103609
CREATED:20250809T043505Z
LAST-MODIFIED:20260214T153723Z
UID:10002887-1771086600-1771093800@stayinmcallen.com
SUMMARY:UTRGV Men's Basketball vs Stephen F. Austin - Breast Cancer Awareness Day
DESCRIPTION:UTRGV Men’s Basketball vs Stephen F. Austin – Breast Cancer Awareness Day\nStreaming Video: https://www.southland.org/espn\nStreaming Audio: https://www.southland.org/watch\nTickets: http://utrgvtickets.com/
URL:https://stayinmcallen.com/events/utrgv-mens-basketball-vs-stephen-f-austin-4/
LOCATION:Edinburg\, Texas\, UTRGV Fieldhouse
CATEGORIES:UTRGV Athletics
END:VEVENT
BEGIN:VEVENT
DTSTART;TZID=America/Chicago:20260214T183000
DTEND;TZID=America/Chicago:20260214T213000
DTSTAMP:20260424T103609
CREATED:20251105T201349Z
LAST-MODIFIED:20260214T153716Z
UID:10003231-1771093800-1771104600@stayinmcallen.com
SUMMARY:UTRGV Baseball vs Kansas - Pack the Park
DESCRIPTION:UTRGV Baseball vs Kansas – Pack the Park\nStreaming Video: https://www.southland.org/espn\nStreaming Audio: https://www.southland.org/watch\nTickets: http://utrgvtickets.com/
URL:https://stayinmcallen.com/events/utrgv-baseball-vs-kansas-2/
LOCATION:Edinburg\, Texas\, UTRGV Baseball Stadium
CATEGORIES:UTRGV Athletics
END:VEVENT
BEGIN:VEVENT
DTSTART;TZID=America/Chicago:20260215T110000
DTEND;TZID=America/Chicago:20260215T140000
DTSTAMP:20260424T103609
CREATED:20260129T022351Z
LAST-MODIFIED:20260215T194942Z
UID:10003514-1771153200-1771164000@stayinmcallen.com
SUMMARY:UTRGV Women's Tennis at Texas
DESCRIPTION:UTRGV Women’s Tennis at Texas\nStreaming Video: https://texaslonghorns.com/sports/2018/3/28/tennis-live-video-playsight
URL:https://stayinmcallen.com/events/utrgv-womens-tennis-at-texas-2/
LOCATION:Austin\, Texas
CATEGORIES:UTRGV Athletics
END:VEVENT
BEGIN:VEVENT
DTSTART;TZID=America/Chicago:20260215T130000
DTEND;TZID=America/Chicago:20260215T160000
DTSTAMP:20260424T103609
CREATED:20251105T201353Z
LAST-MODIFIED:20260215T194938Z
UID:10003232-1771160400-1771171200@stayinmcallen.com
SUMMARY:UTRGV Baseball vs Kansas - Family Fun Day • Winter Texan Day • Classic Rock Day
DESCRIPTION:UTRGV Baseball vs Kansas – Family Fun Day • Winter Texan Day • Classic Rock Day\nStreaming Video: https://www.southland.org/espn\nStreaming Audio: https://www.southland.org/watch\nTickets: http://utrgvtickets.com/
URL:https://stayinmcallen.com/events/utrgv-baseball-vs-kansas-3/
LOCATION:Edinburg\, Texas\, UTRGV Baseball Stadium
CATEGORIES:UTRGV Athletics
END:VEVENT
BEGIN:VEVENT
DTSTART;TZID=America/Chicago:20260215T150000
DTEND;TZID=America/Chicago:20260215T180000
DTSTAMP:20260424T103609
CREATED:20251225T125820Z
LAST-MODIFIED:20260207T151202Z
UID:10003396-1771167600-1771178400@stayinmcallen.com
SUMMARY:UTRGV Women's Tennis at Texas
DESCRIPTION:UTRGV Women’s Tennis at Texas
URL:https://stayinmcallen.com/events/utrgv-womens-tennis-at-texas/
LOCATION:Austin\, Texas
CATEGORIES:UTRGV Athletics
END:VEVENT
BEGIN:VEVENT
DTSTART;VALUE=DATE:20260215
DTEND;VALUE=DATE:20260217
DTSTAMP:20260424T103609
CREATED:20250816T050527Z
LAST-MODIFIED:20260215T194950Z
UID:10002957-1771178400-1771264799@stayinmcallen.com
SUMMARY:UTRGV Men's Golf  Border Olympics
DESCRIPTION:UTRGV Men’s Golf  Border Olympics
URL:https://stayinmcallen.com/events/utrgv-mens-golf-border-olympics-2/
LOCATION:Laredo\, Texas
CATEGORIES:UTRGV Athletics
END:VEVENT
BEGIN:VEVENT
DTSTART;VALUE=DATE:20260215
DTEND;VALUE=DATE:20260217
DTSTAMP:20260424T103609
CREATED:20250816T050535Z
LAST-MODIFIED:20260215T194946Z
UID:10002958-1771178400-1771264799@stayinmcallen.com
SUMMARY:UTRGV Women's Golf  Islander Classic
DESCRIPTION:UTRGV Women’s Golf  Islander Classic
URL:https://stayinmcallen.com/events/utrgv-womens-golf-islander-classic-3/
LOCATION:Corpus Christi\, Texas
CATEGORIES:UTRGV Athletics
END:VEVENT
BEGIN:VEVENT
DTSTART;TZID=America/Chicago:20260216T183000
DTEND;TZID=America/Chicago:20260216T203000
DTSTAMP:20260424T103609
CREATED:20250809T043514Z
LAST-MODIFIED:20260215T194954Z
UID:10002888-1771266600-1771273800@stayinmcallen.com
SUMMARY:UTRGV Men's Basketball vs Lamar - Monday Madness • Battle of the Colleges
DESCRIPTION:UTRGV Men’s Basketball vs Lamar – Monday Madness • Battle of the Colleges\nStreaming Video: https://www.southland.org/espn\nStreaming Audio: https://www.southland.org/watch\nTickets: http://utrgvtickets.com/
URL:https://stayinmcallen.com/events/utrgv-mens-basketball-vs-lamar-3/
LOCATION:Edinburg\, Texas\, UTRGV Fieldhouse
CATEGORIES:UTRGV Athletics
END:VEVENT
BEGIN:VEVENT
DTSTART;TZID=America/Chicago:20260217T183000
DTEND;TZID=America/Chicago:20260217T213000
DTSTAMP:20260424T103609
CREATED:20251105T201421Z
LAST-MODIFIED:20260215T195000Z
UID:10003233-1771353000-1771363800@stayinmcallen.com
SUMMARY:UTRGV Baseball vs Texas Tech - Orange Out
DESCRIPTION:UTRGV Baseball vs Texas Tech – Orange Out\nStreaming Video: https://www.southland.org/espn\nStreaming Audio: https://www.southland.org/watch\nTickets: http://utrgvtickets.com/
URL:https://stayinmcallen.com/events/utrgv-baseball-vs-texas-tech/
LOCATION:Edinburg\, Texas\, UTRGV Baseball Stadium
CATEGORIES:UTRGV Athletics
END:VEVENT
BEGIN:VEVENT
DTSTART;TZID=America/Chicago:20260219T110000
DTEND;TZID=America/Chicago:20260219T140000
DTSTAMP:20260424T103609
CREATED:20251225T125838Z
LAST-MODIFIED:20260215T195006Z
UID:10003397-1771498800-1771509600@stayinmcallen.com
SUMMARY:UTRGV Women's Tennis vs Utah State
DESCRIPTION:UTRGV Women’s Tennis vs Utah State
URL:https://stayinmcallen.com/events/utrgv-womens-tennis-vs-utah-state/
LOCATION:Edinburg\, Texas\, Orville I. Cox Tennis Center
CATEGORIES:UTRGV Athletics
END:VEVENT
BEGIN:VEVENT
DTSTART;TZID=America/Chicago:20260219T183000
DTEND;TZID=America/Chicago:20260219T203000
DTSTAMP:20260424T103609
CREATED:20250809T043521Z
LAST-MODIFIED:20260215T195011Z
UID:10002889-1771525800-1771533000@stayinmcallen.com
SUMMARY:UTRGV Women's Basketball at McNeese
DESCRIPTION:UTRGV Women’s Basketball at McNeese\nStreaming Video: https://www.southland.org/espn
URL:https://stayinmcallen.com/events/utrgv-womens-basketball-at-mcneese-2/
LOCATION:Lake Charles\, La.\, Townsley Law Arena
CATEGORIES:UTRGV Athletics
END:VEVENT
BEGIN:VEVENT
DTSTART;TZID=America/Chicago:20260220T183000
DTEND;TZID=America/Chicago:20260220T213000
DTSTAMP:20260424T103609
CREATED:20251105T201428Z
LAST-MODIFIED:20260215T195015Z
UID:10003234-1771612200-1771623000@stayinmcallen.com
SUMMARY:UTRGV Baseball at Houston
DESCRIPTION:UTRGV Baseball at Houston\nStreaming Video: https://plus.espn.com/
URL:https://stayinmcallen.com/events/utrgv-baseball-at-houston-3/
LOCATION:Houston\, Texas
CATEGORIES:UTRGV Athletics
END:VEVENT
BEGIN:VEVENT
DTSTART;TZID=America/Chicago:20260221T110000
DTEND;TZID=America/Chicago:20260221T140000
DTSTAMP:20260424T103609
CREATED:20251225T125853Z
LAST-MODIFIED:20260215T195021Z
UID:10003398-1771671600-1771682400@stayinmcallen.com
SUMMARY:UTRGV Women's Tennis at Baylor
DESCRIPTION:UTRGV Women’s Tennis at Baylor
URL:https://stayinmcallen.com/events/utrgv-womens-tennis-at-baylor/
LOCATION:Waco\, Texas
CATEGORIES:UTRGV Athletics
END:VEVENT
BEGIN:VEVENT
DTSTART;TZID=America/Chicago:20260221T130000
DTEND;TZID=America/Chicago:20260221T150000
DTSTAMP:20260424T103609
CREATED:20250809T043534Z
LAST-MODIFIED:20260215T195033Z
UID:10002891-1771678800-1771686000@stayinmcallen.com
SUMMARY:UTRGV Women's Basketball at Southeastern
DESCRIPTION:UTRGV Women’s Basketball at Southeastern\nStreaming Video: https://www.southland.org/espn
URL:https://stayinmcallen.com/events/utrgv-womens-basketball-at-southeastern-2/
LOCATION:Hammond\, La.\, University Center
CATEGORIES:UTRGV Athletics
END:VEVENT
BEGIN:VEVENT
DTSTART;TZID=America/Chicago:20260221T150000
DTEND;TZID=America/Chicago:20260221T180000
DTSTAMP:20260424T103609
CREATED:20251225T125913Z
LAST-MODIFIED:20260215T195029Z
UID:10003399-1771686000-1771696800@stayinmcallen.com
SUMMARY:UTRGV Women's Tennis at Baylor
DESCRIPTION:UTRGV Women’s Tennis at Baylor
URL:https://stayinmcallen.com/events/utrgv-womens-tennis-at-baylor-2/
LOCATION:Waco\, Texas
CATEGORIES:UTRGV Athletics
END:VEVENT
BEGIN:VEVENT
DTSTART;TZID=America/Chicago:20260221T153000
DTEND;TZID=America/Chicago:20260221T173000
DTSTAMP:20260424T103609
CREATED:20250809T043526Z
LAST-MODIFIED:20260215T195026Z
UID:10002890-1771687800-1771695000@stayinmcallen.com
SUMMARY:UTRGV Men's Basketball at Southeastern
DESCRIPTION:UTRGV Men’s Basketball at Southeastern\nStreaming Video: https://www.southland.org/espn
URL:https://stayinmcallen.com/events/utrgv-mens-basketball-at-southeastern-3/
LOCATION:Hammond\, La.\, University Center
CATEGORIES:UTRGV Athletics
END:VEVENT
BEGIN:VEVENT
DTSTART;TZID=America/Chicago:20260221T183000
DTEND;TZID=America/Chicago:20260221T213000
DTSTAMP:20260424T103609
CREATED:20251105T201440Z
LAST-MODIFIED:20260215T195037Z
UID:10003235-1771698600-1771709400@stayinmcallen.com
SUMMARY:UTRGV Baseball at Houston
DESCRIPTION:UTRGV Baseball at Houston\nStreaming Video: https://plus.espn.com/
URL:https://stayinmcallen.com/events/utrgv-baseball-at-houston-4/
LOCATION:Houston\, Texas
CATEGORIES:UTRGV Athletics
END:VEVENT
BEGIN:VEVENT
DTSTART;TZID=America/Chicago:20260222T130000
DTEND;TZID=America/Chicago:20260222T160000
DTSTAMP:20260424T103609
CREATED:20251105T201443Z
LAST-MODIFIED:20260215T195043Z
UID:10003236-1771765200-1771776000@stayinmcallen.com
SUMMARY:UTRGV Baseball at Houston
DESCRIPTION:UTRGV Baseball at Houston\nStreaming Video: https://plus.espn.com/
URL:https://stayinmcallen.com/events/utrgv-baseball-at-houston-5/
LOCATION:Houston\, Texas
CATEGORIES:UTRGV Athletics
END:VEVENT
BEGIN:VEVENT
DTSTART;VALUE=DATE:20260222
DTEND;VALUE=DATE:20260224
DTSTAMP:20260424T103609
CREATED:20250816T050610Z
LAST-MODIFIED:20260223T081458Z
UID:10002959-1771783200-1771869599@stayinmcallen.com
SUMMARY:UTRGV Men's Golf  Military City Collegiate
DESCRIPTION:UTRGV Men’s Golf  Military City Collegiate
URL:https://stayinmcallen.com/events/utrgv-mens-golf-lone-star-shootout/
LOCATION:San Antonio\, Texas
CATEGORIES:UTRGV Athletics
END:VEVENT
BEGIN:VEVENT
DTSTART;TZID=America/Chicago:20260223T183000
DTEND;TZID=America/Chicago:20260223T203000
DTSTAMP:20260424T103609
CREATED:20250809T043540Z
LAST-MODIFIED:20260223T081504Z
UID:10002892-1771871400-1771878600@stayinmcallen.com
SUMMARY:UTRGV Men's Basketball at McNeese
DESCRIPTION:UTRGV Men’s Basketball at McNeese\nStreaming Video: https://www.southland.org/espn
URL:https://stayinmcallen.com/events/utrgv-mens-basketball-at-mcneese-3/
LOCATION:Lake Charles\, La.\, Townsley Law Arena
CATEGORIES:UTRGV Athletics
END:VEVENT
BEGIN:VEVENT
DTSTART;VALUE=DATE:20260224
DTEND;VALUE=DATE:20260228
DTSTAMP:20260424T103609
CREATED:20250712T033732Z
LAST-MODIFIED:20260224T113210Z
UID:10002690-1771956000-1772215199@stayinmcallen.com
SUMMARY:UTRGV Women's Swimming & Diving  MPSF Swimming & Diving Championships
DESCRIPTION:UTRGV Women’s Swimming & Diving  MPSF Swimming & Diving Championships
URL:https://stayinmcallen.com/events/utrgv-womens-swimming-diving-mpsf-swimming-diving-championships/
LOCATION:Pharr\, Texas\, City of Pharr-PSJA Natatorium
CATEGORIES:UTRGV Athletics
END:VEVENT
BEGIN:VEVENT
DTSTART;VALUE=DATE:20260224
DTEND;VALUE=DATE:20260228
DTSTAMP:20260424T103609
CREATED:20250712T033751Z
LAST-MODIFIED:20250712T033751Z
UID:10002691-1771956000-1772215199@stayinmcallen.com
SUMMARY:UTRGV Women's Swimming & Diving  MPSF Swimming & Diving Championships
DESCRIPTION:UTRGV Women’s Swimming & Diving  MPSF Swimming & Diving Championships\nStreaming Video: http://plus.espn.com/
URL:https://stayinmcallen.com/events/utrgv-womens-swimming-diving-mpsf-swimming-diving-championships-2/
LOCATION:Pharr\, TX\, City of Pharr-PSJA Natatorium
CATEGORIES:UTRGV Athletics
END:VEVENT
BEGIN:VEVENT
DTSTART;TZID=America/Chicago:20260224T183000
DTEND;TZID=America/Chicago:20260224T213000
DTSTAMP:20260424T103609
CREATED:20251105T201455Z
LAST-MODIFIED:20260224T113143Z
UID:10003237-1771957800-1771968600@stayinmcallen.com
SUMMARY:UTRGV Baseball at Texas
DESCRIPTION:UTRGV Baseball at Texas\nStreaming Video: https://www.espn.com/watch/player/_/id/9808a7bb-c36d-4ae6-be65-6eb07a5e7aa0\nStreaming Audio: https://texaslonghorns.com/sports/2014/11/19/GEN_1119144623
URL:https://stayinmcallen.com/events/utrgv-baseball-at-texas-3/
LOCATION:Austin\, Texas
CATEGORIES:UTRGV Athletics
END:VEVENT
BEGIN:VEVENT
DTSTART;TZID=America/Chicago:20260225T083000
DTEND;TZID=America/Chicago:20260225T235900
DTSTAMP:20260424T103609
CREATED:20251225T125935Z
LAST-MODIFIED:20260224T113221Z
UID:10003400-1772008200-1772063940@stayinmcallen.com
SUMMARY:UTRGV Women's Track & Field  Southland Conference Indoor Championships
DESCRIPTION:UTRGV Women’s Track & Field  Southland Conference Indoor Championships
URL:https://stayinmcallen.com/events/utrgv-womens-track-field-southland-conference-indoor-championships/
LOCATION:Birmingham\, Ala.
CATEGORIES:UTRGV Athletics
END:VEVENT
BEGIN:VEVENT
DTSTART;TZID=America/Chicago:20260225T083000
DTEND;TZID=America/Chicago:20260225T235900
DTSTAMP:20260424T103609
CREATED:20251225T125939Z
LAST-MODIFIED:20260224T113216Z
UID:10003401-1772008200-1772063940@stayinmcallen.com
SUMMARY:UTRGV Men's Track & Field  Southland Conference Indoor Championships
DESCRIPTION:UTRGV Men’s Track & Field  Southland Conference Indoor Championships
URL:https://stayinmcallen.com/events/utrgv-mens-track-field-southland-conference-indoor-championships/
LOCATION:Birmingham\, Ala.
CATEGORIES:UTRGV Athletics
END:VEVENT
BEGIN:VEVENT
DTSTART;TZID=America/Chicago:20260226T120000
DTEND;TZID=America/Chicago:20260226T140000
DTSTAMP:20260424T103609
CREATED:20250809T043553Z
LAST-MODIFIED:20260224T113229Z
UID:10002893-1772107200-1772114400@stayinmcallen.com
SUMMARY:UTRGV Women's Basketball vs Northwestern State - School Day\, presented by Whataburger
DESCRIPTION:UTRGV Women’s Basketball vs Northwestern State – School Day\, presented by Whataburger Streaming Video: https://www.southland.org/espn Streaming Audio: https://www.southland.org/watch Tickets: https://www.showpass.com/o/university-of-texas-rio-grande-valley-utrgv/
URL:https://stayinmcallen.com/events/utrgv-womens-basketball-vs-northwestern-state/
LOCATION:Edinburg\, Texas\, UTRGV Fieldhouse
CATEGORIES:UTRGV Athletics
END:VEVENT
BEGIN:VEVENT
DTSTART;VALUE=DATE:20260226
DTEND;VALUE=DATE:20260228
DTSTAMP:20260424T103609
CREATED:20250816T050628Z
LAST-MODIFIED:20260224T113149Z
UID:10002960-1772128800-1772215199@stayinmcallen.com
SUMMARY:UTRGV Women's Golf  South Texas Match Play
DESCRIPTION:UTRGV Women’s Golf  South Texas Match Play
URL:https://stayinmcallen.com/events/utrgv-womens-golf-south-texas-match-play/
LOCATION:Corpus Christi\, Texas
CATEGORIES:UTRGV Athletics
END:VEVENT
BEGIN:VEVENT
DTSTART;TZID=America/Chicago:20260227T140000
DTEND;TZID=America/Chicago:20260227T170000
DTSTAMP:20260424T103609
CREATED:20251217T032459Z
LAST-MODIFIED:20260224T113155Z
UID:10003349-1772200800-1772211600@stayinmcallen.com
SUMMARY:UTRGV Men's Tennis at Jackson State
DESCRIPTION:UTRGV Men’s Tennis at Jackson State
URL:https://stayinmcallen.com/events/utrgv-mens-tennis-at-jackson-state/
LOCATION:Jackson\, Miss.
CATEGORIES:UTRGV Athletics
END:VEVENT
BEGIN:VEVENT
DTSTART;TZID=America/Chicago:20260227T180000
DTEND;TZID=America/Chicago:20260227T210000
DTSTAMP:20260424T103609
CREATED:20250830T060539Z
LAST-MODIFIED:20260224T113205Z
UID:10003048-1772215200-1772226000@stayinmcallen.com
SUMMARY:UTRGV Baseball at Lamar
DESCRIPTION:UTRGV Baseball at Lamar\nStreaming Video: https://www.southland.org/espn\nStreaming Audio: https://www.southland.org/watch
URL:https://stayinmcallen.com/events/utrgv-baseball-at-lamar-2/
LOCATION:Beaumont\, Texas
CATEGORIES:UTRGV Athletics
END:VEVENT
END:VCALENDAR