BEGIN:VCALENDAR
VERSION:2.0
PRODID:-//Stayinmcallen - ECPv6.15.20//NONSGML v1.0//EN
CALSCALE:GREGORIAN
METHOD:PUBLISH
X-ORIGINAL-URL:https://stayinmcallen.com
X-WR-CALDESC:Events for Stayinmcallen
REFRESH-INTERVAL;VALUE=DURATION:PT1H
X-Robots-Tag:noindex
X-PUBLISHED-TTL:PT1H
BEGIN:VTIMEZONE
TZID:America/Chicago
BEGIN:DAYLIGHT
TZOFFSETFROM:-0600
TZOFFSETTO:-0500
TZNAME:CDT
DTSTART:20240310T080000
END:DAYLIGHT
BEGIN:STANDARD
TZOFFSETFROM:-0500
TZOFFSETTO:-0600
TZNAME:CST
DTSTART:20241103T070000
END:STANDARD
BEGIN:DAYLIGHT
TZOFFSETFROM:-0600
TZOFFSETTO:-0500
TZNAME:CDT
DTSTART:20250309T080000
END:DAYLIGHT
BEGIN:STANDARD
TZOFFSETFROM:-0500
TZOFFSETTO:-0600
TZNAME:CST
DTSTART:20251102T070000
END:STANDARD
BEGIN:DAYLIGHT
TZOFFSETFROM:-0600
TZOFFSETTO:-0500
TZNAME:CDT
DTSTART:20260308T080000
END:DAYLIGHT
BEGIN:STANDARD
TZOFFSETFROM:-0500
TZOFFSETTO:-0600
TZNAME:CST
DTSTART:20261101T070000
END:STANDARD
END:VTIMEZONE
BEGIN:VEVENT
DTSTART;TZID=America/Chicago:20250912T180000
DTEND;TZID=America/Chicago:20250912T200000
DTSTAMP:20260425T112058
CREATED:20250726T035112Z
LAST-MODIFIED:20250726T035112Z
UID:10002793-1757700000-1757707200@stayinmcallen.com
SUMMARY:UTRGV Volleyball at Eastern Kentucky
DESCRIPTION:UTRGV Volleyball at Eastern Kentucky
URL:https://stayinmcallen.com/events/utrgv-volleyball-at-eastern-kentucky-2/
LOCATION:Richmond\, KY
CATEGORIES:UTRGV Athletics
END:VEVENT
BEGIN:VEVENT
DTSTART;TZID=America/Chicago:20250912T180000
DTEND;TZID=America/Chicago:20250912T200000
DTSTAMP:20260425T112058
CREATED:20250726T035115Z
LAST-MODIFIED:20250906T061944Z
UID:10002789-1757700000-1757707200@stayinmcallen.com
SUMMARY:UTRGV Men's Soccer at Incarnate Word
DESCRIPTION:UTRGV Men’s Soccer at Incarnate Word
URL:https://stayinmcallen.com/events/utrgv-mens-soccer-at-incarnate-word-3/
LOCATION:San Antonio\, Texas
CATEGORIES:UTRGV Athletics
END:VEVENT
BEGIN:VEVENT
DTSTART;TZID=America/Chicago:20250912T180000
DTEND;TZID=America/Chicago:20250912T200000
DTSTAMP:20260425T112058
CREATED:20250726T035116Z
LAST-MODIFIED:20250726T035116Z
UID:10002794-1757700000-1757707200@stayinmcallen.com
SUMMARY:UTRGV Men's Soccer at Incarnate Word
DESCRIPTION:UTRGV Men’s Soccer at Incarnate Word
URL:https://stayinmcallen.com/events/utrgv-mens-soccer-at-incarnate-word-4/
LOCATION:San Antonio\, Texas
CATEGORIES:UTRGV Athletics
END:VEVENT
BEGIN:VEVENT
DTSTART;TZID=America/Chicago:20250913T150000
DTEND;TZID=America/Chicago:20250913T170000
DTSTAMP:20260425T112058
CREATED:20250726T035119Z
LAST-MODIFIED:20250913T064848Z
UID:10002795-1757775600-1757782800@stayinmcallen.com
SUMMARY:UTRGV Volleyball vs Akron
DESCRIPTION:UTRGV Volleyball vs Akron
URL:https://stayinmcallen.com/events/utrgv-volleyball-vs-akron/
LOCATION:Richmond\, Ky.
CATEGORIES:UTRGV Athletics
END:VEVENT
BEGIN:VEVENT
DTSTART;TZID=America/Chicago:20250913T150000
DTEND;TZID=America/Chicago:20250913T170000
DTSTAMP:20260425T112058
CREATED:20250726T035120Z
LAST-MODIFIED:20250726T035120Z
UID:10002798-1757775600-1757782800@stayinmcallen.com
SUMMARY:UTRGV Volleyball vs Akron
DESCRIPTION:UTRGV Volleyball vs Akron
URL:https://stayinmcallen.com/events/utrgv-volleyball-vs-akron-2/
LOCATION:Richmond\, KY
CATEGORIES:UTRGV Athletics
END:VEVENT
BEGIN:VEVENT
DTSTART;TZID=America/Chicago:20250913T190000
DTEND;TZID=America/Chicago:20250913T220000
DTSTAMP:20260425T112058
CREATED:20250214T223117Z
LAST-MODIFIED:20250913T064855Z
UID:10002039-1757790000-1757800800@stayinmcallen.com
SUMMARY:UTRGV Football vs Langston - UTRGV's 10th Anniversary
DESCRIPTION:UTRGV Football vs Langston – UTRGV’s 10th Anniversary\nTV: ESPN+ (USA) | Southland International\nRadio: Ultra 90.1 FM | Pure Country 95.7 FM | KYWW 1530 AM Puro Tejano | KGBT-FM 98.5 La Preferida\nStreaming Video: http://southland.org/espn\nStreaming Audio: https://radioparami.com/\nTickets: https://www.showpass.com/utrgv-football-2025/
URL:https://stayinmcallen.com/events/utrgv-football-vs-north-american/
LOCATION:Edinburg\, Texas\, Robert & Janet Vackar Stadium
CATEGORIES:UTRGV Athletics
END:VEVENT
BEGIN:VEVENT
DTSTART;VALUE=DATE:20250913
DTEND;VALUE=DATE:20250916
DTSTAMP:20260425T112058
CREATED:20250816T050720Z
LAST-MODIFIED:20250913T064859Z
UID:10002962-1757790000-1757962799@stayinmcallen.com
SUMMARY:UTRGV Men's Golf  JT Poston Invitational
DESCRIPTION:UTRGV Men’s Golf  JT Poston Invitational
URL:https://stayinmcallen.com/events/utrgv-mens-golf-jt-poston-invitational-2/
LOCATION:Waynesville\, N.C.
CATEGORIES:UTRGV Athletics
END:VEVENT
BEGIN:VEVENT
DTSTART;TZID=America/Chicago:20250914T130000
DTEND;TZID=America/Chicago:20250914T150000
DTSTAMP:20260425T112058
CREATED:20250726T035125Z
LAST-MODIFIED:20250913T064902Z
UID:10002796-1757854800-1757862000@stayinmcallen.com
SUMMARY:UTRGV Women's Soccer at Texas Southern
DESCRIPTION:UTRGV Women’s Soccer at Texas Southern
URL:https://stayinmcallen.com/events/utrgv-womens-soccer-at-texas-southern/
LOCATION:Houston\, Texas
CATEGORIES:UTRGV Athletics
END:VEVENT
BEGIN:VEVENT
DTSTART;TZID=America/Chicago:20250914T130000
DTEND;TZID=America/Chicago:20250914T150000
DTSTAMP:20260425T112058
CREATED:20250726T035128Z
LAST-MODIFIED:20250726T035128Z
UID:10002799-1757854800-1757862000@stayinmcallen.com
SUMMARY:UTRGV Women's Soccer at Texas Southern
DESCRIPTION:UTRGV Women’s Soccer at Texas Southern
URL:https://stayinmcallen.com/events/utrgv-womens-soccer-at-texas-southern-2/
LOCATION:Houston\, Texas
CATEGORIES:UTRGV Athletics
END:VEVENT
BEGIN:VEVENT
DTSTART;VALUE=DATE:20250914
DTEND;VALUE=DATE:20250916
DTSTAMP:20260425T112058
CREATED:20250816T045206Z
LAST-MODIFIED:20250913T064908Z
UID:10002948-1757876400-1757962799@stayinmcallen.com
SUMMARY:UTRGV Women's Golf  Lady Clerico
DESCRIPTION:UTRGV Women’s Golf  Lady Clerico
URL:https://stayinmcallen.com/events/utrgv-womens-golf-lady-clerico/
LOCATION:Bartlesville\, Okla.
CATEGORIES:UTRGV Athletics
END:VEVENT
BEGIN:VEVENT
DTSTART;TZID=America/Chicago:20250917T183000
DTEND;TZID=America/Chicago:20250917T203000
DTSTAMP:20260425T112058
CREATED:20250726T035129Z
LAST-MODIFIED:20250913T064912Z
UID:10002797-1758133800-1758141000@stayinmcallen.com
SUMMARY:UTRGV Men's Soccer vs Houston Christian University
DESCRIPTION:UTRGV Men’s Soccer vs Houston Christian University\nTV: ESPN+ (USA) | Southland International\nStreaming Video: https://www.espn.com/watch/
URL:https://stayinmcallen.com/events/utrgv-mens-soccer-vs-houston-christian/
LOCATION:Edinburg\, Texas\, UTRGV Soccer and Track & Field Complex
CATEGORIES:UTRGV Athletics
END:VEVENT
BEGIN:VEVENT
DTSTART;TZID=America/Chicago:20250917T183000
DTEND;TZID=America/Chicago:20250917T203000
DTSTAMP:20260425T112058
CREATED:20250726T035132Z
LAST-MODIFIED:20250726T035132Z
UID:10002800-1758133800-1758141000@stayinmcallen.com
SUMMARY:UTRGV Men's Soccer vs Houston Christian
DESCRIPTION:UTRGV Men’s Soccer vs Houston Christian\nTV: ESPN+ (USA)\nStreaming Video: http://plus.espn.com/
URL:https://stayinmcallen.com/events/utrgv-mens-soccer-vs-houston-christian-2/
LOCATION:Edinburg\, Texas\, UTRGV Soccer and Track & Field Complex
CATEGORIES:UTRGV Athletics
END:VEVENT
BEGIN:VEVENT
DTSTART;VALUE=DATE:20250917
DTEND;VALUE=DATE:20250919
DTSTAMP:20260425T112058
CREATED:20250419T005401Z
LAST-MODIFIED:20250419T005401Z
UID:10002378-1758135600-1758221999@stayinmcallen.com
SUMMARY:UTRGV Women's Soccer vs Northwestern State
DESCRIPTION:UTRGV Women’s Soccer vs Northwestern State\nTV: TV: ESPN+ (USA) | Southland International\nStreaming Video: https://www.southland.org/espn
URL:https://stayinmcallen.com/events/utrgv-womens-soccer-vs-northwestern-state-2/
LOCATION:Edinburg\, TX\, UTRGV Soccer and Track & Field Complex
CATEGORIES:UTRGV Athletics
END:VEVENT
BEGIN:VEVENT
DTSTART;TZID=America/Chicago:20250918T183000
DTEND;TZID=America/Chicago:20250918T203000
DTSTAMP:20260425T112058
CREATED:20250419T005332Z
LAST-MODIFIED:20250913T064939Z
UID:10002373-1758220200-1758227400@stayinmcallen.com
SUMMARY:UTRGV Women's Soccer vs Northwestern State
DESCRIPTION:UTRGV Women’s Soccer vs Northwestern State\nTV: ESPN+ (USA) | Southland International\nStreaming Video: https://www.southland.org/espn
URL:https://stayinmcallen.com/events/utrgv-womens-soccer-vs-northwestern-state/
LOCATION:Edinburg\, Texas\, UTRGV Soccer and Track & Field Complex
CATEGORIES:UTRGV Athletics
END:VEVENT
BEGIN:VEVENT
DTSTART;VALUE=DATE:20250918
DTEND;VALUE=DATE:20250921
DTSTAMP:20260425T112058
CREATED:20250823T052207Z
LAST-MODIFIED:20250920T071847Z
UID:10002991-1758222000-1758394799@stayinmcallen.com
SUMMARY:UTRGV Women's Tennis at Rice Invitational
DESCRIPTION:UTRGV Women’s Tennis at Rice Invitational
URL:https://stayinmcallen.com/events/utrgv-womens-tennis-at-rice-invitational-2/
LOCATION:Houston\, Texas
CATEGORIES:UTRGV Athletics
END:VEVENT
BEGIN:VEVENT
DTSTART;VALUE=DATE:20250918
DTEND;VALUE=DATE:20250921
DTSTAMP:20260425T112058
CREATED:20250823T052209Z
LAST-MODIFIED:20250823T052209Z
UID:10002990-1758222000-1758394799@stayinmcallen.com
SUMMARY:UTRGV Women's Tennis at Rice Invitational
DESCRIPTION:UTRGV Women’s Tennis at Rice Invitational
URL:https://stayinmcallen.com/events/utrgv-womens-tennis-at-rice-invitational-3/
LOCATION:Houston\, Texas
CATEGORIES:UTRGV Athletics
END:VEVENT
BEGIN:VEVENT
DTSTART;TZID=America/Chicago:20250919T170000
DTEND;TZID=America/Chicago:20250919T190000
DTSTAMP:20260425T112058
CREATED:20250726T035139Z
LAST-MODIFIED:20250913T064946Z
UID:10002801-1758301200-1758308400@stayinmcallen.com
SUMMARY:UTRGV Volleyball at James Madison
DESCRIPTION:UTRGV Volleyball at James Madison
URL:https://stayinmcallen.com/events/utrgv-volleyball-at-james-madison/
LOCATION:Harrisonburg\, Va.
CATEGORIES:UTRGV Athletics
END:VEVENT
BEGIN:VEVENT
DTSTART;TZID=America/Chicago:20250919T183000
DTEND;TZID=America/Chicago:20250919T203000
DTSTAMP:20260425T112058
CREATED:20250726T035144Z
LAST-MODIFIED:20250913T064942Z
UID:10002802-1758306600-1758313800@stayinmcallen.com
SUMMARY:UTRGV Men's Soccer vs Lindenwood
DESCRIPTION:UTRGV Men’s Soccer vs Lindenwood\nTV: ESPN+ (USA) | Southland International\nStreaming Video: https://www.espn.com/watch/
URL:https://stayinmcallen.com/events/utrgv-mens-soccer-vs-lindenwood/
LOCATION:Edinburg\, Texas\, UTRGV Soccer and Track & Field Complex
CATEGORIES:UTRGV Athletics
END:VEVENT
BEGIN:VEVENT
DTSTART;TZID=America/Chicago:20250919T183000
DTEND;TZID=America/Chicago:20250919T203000
DTSTAMP:20260425T112058
CREATED:20250726T035152Z
LAST-MODIFIED:20250726T035152Z
UID:10002805-1758306600-1758313800@stayinmcallen.com
SUMMARY:UTRGV Men's Soccer vs Lindenwood
DESCRIPTION:UTRGV Men’s Soccer vs Lindenwood\nTV: ESPN+ (USA)\nStreaming Video: http://plus.espn.com/
URL:https://stayinmcallen.com/events/utrgv-mens-soccer-vs-lindenwood-2/
LOCATION:Edinburg\, Texas\, UTRGV Soccer and Track & Field Complex
CATEGORIES:UTRGV Athletics
END:VEVENT
BEGIN:VEVENT
DTSTART;TZID=America/Chicago:20250920T093000
DTEND;TZID=America/Chicago:20250920T123000
DTSTAMP:20260425T112058
CREATED:20250816T045236Z
LAST-MODIFIED:20250920T071851Z
UID:10002949-1758360600-1758371400@stayinmcallen.com
SUMMARY:UTRGV Camps  Baseball Evaluation Camp III (Ages 14+)
DESCRIPTION:UTRGV Camps  Baseball Evaluation Camp III (Ages 14+)
URL:https://stayinmcallen.com/events/utrgv-camps-baseball-evaluation-camp-iii-ages-14/
LOCATION:Edinburg\, TX\, UTRGV Baseball Stadium
CATEGORIES:UTRGV Athletics
END:VEVENT
BEGIN:VEVENT
DTSTART;TZID=America/Chicago:20250920T150000
DTEND;TZID=America/Chicago:20250920T170000
DTSTAMP:20260425T112058
CREATED:20250726T035148Z
LAST-MODIFIED:20250920T071854Z
UID:10002803-1758380400-1758387600@stayinmcallen.com
SUMMARY:UTRGV Volleyball vs William & Mary
DESCRIPTION:UTRGV Volleyball vs William & Mary
URL:https://stayinmcallen.com/events/utrgv-volleyball-vs-william-mary/
LOCATION:Harrisonburg\, Va.
CATEGORIES:UTRGV Athletics
END:VEVENT
BEGIN:VEVENT
DTSTART;TZID=America/Chicago:20250920T150000
DTEND;TZID=America/Chicago:20250920T170000
DTSTAMP:20260425T112058
CREATED:20250726T035155Z
LAST-MODIFIED:20250726T035155Z
UID:10002806-1758380400-1758387600@stayinmcallen.com
SUMMARY:UTRGV Volleyball vs William & Mary
DESCRIPTION:UTRGV Volleyball vs William & Mary
URL:https://stayinmcallen.com/events/utrgv-volleyball-vs-william-mary-2/
LOCATION:Harrisonburg\, VA
CATEGORIES:UTRGV Athletics
END:VEVENT
BEGIN:VEVENT
DTSTART;TZID=America/Chicago:20250920T190000
DTEND;TZID=America/Chicago:20250920T220000
DTSTAMP:20260425T112058
CREATED:20250214T223120Z
LAST-MODIFIED:20250920T071858Z
UID:10002040-1758394800-1758405600@stayinmcallen.com
SUMMARY:UTRGV Football vs Texas Wesleyan - Hispanic Heritage/956 Night
DESCRIPTION:UTRGV Football vs Texas Wesleyan – Hispanic Heritage/956 Night\nTV: ESPN+ (USA) | Southland International\nRadio: Ultra 90.1 FM | Pure Country 95.7 FM | KYWW 1530 AM Puro Tejano | KGBT-FM 98.5 La Preferida\nStreaming Video: http://southland.org/espn\nStreaming Audio: https://radioparami.com/
URL:https://stayinmcallen.com/events/utrgv-football-vs-texas-wesleyan/
LOCATION:Edinburg\, Texas\, Robert & Janet Vackar Stadium
CATEGORIES:UTRGV Athletics
END:VEVENT
BEGIN:VEVENT
DTSTART;VALUE=DATE:20250920
DTEND;VALUE=DATE:20250922
DTSTAMP:20260425T112058
CREATED:20250419T005408Z
LAST-MODIFIED:20250419T005408Z
UID:10002379-1758394800-1758481199@stayinmcallen.com
SUMMARY:UTRGV Women's Soccer vs Southeastern
DESCRIPTION:UTRGV Women’s Soccer vs Southeastern\nTV: TV: ESPN+ (USA) | Southland International\nStreaming Video: https://www.southland.org/espn
URL:https://stayinmcallen.com/events/utrgv-womens-soccer-vs-southeastern-2/
LOCATION:Edinburg\, TX\, UTRGV Soccer and Track & Field Complex
CATEGORIES:UTRGV Athletics
END:VEVENT
BEGIN:VEVENT
DTSTART;TZID=America/Chicago:20250921T100000
DTEND;TZID=America/Chicago:20250921T120000
DTSTAMP:20260425T112058
CREATED:20250726T035155Z
LAST-MODIFIED:20250920T071901Z
UID:10002804-1758448800-1758456000@stayinmcallen.com
SUMMARY:UTRGV Volleyball vs Delaware State
DESCRIPTION:UTRGV Volleyball vs Delaware State
URL:https://stayinmcallen.com/events/utrgv-volleyball-vs-delaware-state/
LOCATION:Harrisonburg\, Va.
CATEGORIES:UTRGV Athletics
END:VEVENT
BEGIN:VEVENT
DTSTART;TZID=America/Chicago:20250921T100000
DTEND;TZID=America/Chicago:20250921T120000
DTSTAMP:20260425T112058
CREATED:20250726T035202Z
LAST-MODIFIED:20250726T035202Z
UID:10002807-1758448800-1758456000@stayinmcallen.com
SUMMARY:UTRGV Volleyball vs Delaware State
DESCRIPTION:UTRGV Volleyball vs Delaware State
URL:https://stayinmcallen.com/events/utrgv-volleyball-vs-delaware-state-2/
LOCATION:Harrisonburg\, VA
CATEGORIES:UTRGV Athletics
END:VEVENT
BEGIN:VEVENT
DTSTART;TZID=America/Chicago:20250921T110000
DTEND;TZID=America/Chicago:20250921T130000
DTSTAMP:20260425T112058
CREATED:20250419T005339Z
LAST-MODIFIED:20250920T071907Z
UID:10002374-1758452400-1758459600@stayinmcallen.com
SUMMARY:UTRGV Women's Soccer vs Southeastern
DESCRIPTION:UTRGV Women’s Soccer vs Southeastern\nTV: ESPN+ (USA) | Southland International\nStreaming Video: https://www.southland.org/espn
URL:https://stayinmcallen.com/events/utrgv-womens-soccer-vs-southeastern/
LOCATION:Edinburg\, Texas\, UTRGV Soccer and Track & Field Complex
CATEGORIES:UTRGV Athletics
END:VEVENT
BEGIN:VEVENT
DTSTART;VALUE=DATE:20250922
DTEND;VALUE=DATE:20250924
DTSTAMP:20260425T112058
CREATED:20250816T045318Z
LAST-MODIFIED:20250920T071911Z
UID:10002950-1758567600-1758653999@stayinmcallen.com
SUMMARY:UTRGV Women's Golf  Red Raider Invitational
DESCRIPTION:UTRGV Women’s Golf  Red Raider Invitational
URL:https://stayinmcallen.com/events/utrgv-womens-golf-red-raider-invitational-2/
LOCATION:Lubbock\, Texas
CATEGORIES:UTRGV Athletics
END:VEVENT
BEGIN:VEVENT
DTSTART;TZID=America/Chicago:20250924T120000
DTEND;TZID=America/Chicago:20250924T140000
DTSTAMP:20260425T112058
CREATED:20250419T005345Z
LAST-MODIFIED:20250920T071915Z
UID:10002375-1758715200-1758722400@stayinmcallen.com
SUMMARY:UTRGV Volleyball vs Lamar - Kids Day\, presented by Whataburger
DESCRIPTION:UTRGV Volleyball vs Lamar – Kids Day\, presented by Whataburger TV: ESPN+ (USA) | Southland International Streaming Video: https://www.southland.org/espn Tickets: https://www.showpass.com/o/university-of-texas-rio-grande-valley-utrgv/
URL:https://stayinmcallen.com/events/utrgv-volleyball-vs-lamar/
LOCATION:Edinburg\, Texas\, UTRGV Fieldhouse
CATEGORIES:UTRGV Athletics
END:VEVENT
BEGIN:VEVENT
DTSTART;TZID=America/Chicago:20250925T190000
DTEND;TZID=America/Chicago:20250925T210000
DTSTAMP:20260425T112058
CREATED:20250726T035208Z
LAST-MODIFIED:20250920T071919Z
UID:10002809-1758826800-1758834000@stayinmcallen.com
SUMMARY:UTRGV Men's Soccer at Texas A&M International
DESCRIPTION:UTRGV Men’s Soccer at Texas A&M International\nTV: FloCollege\nStreaming Video: https://www.flocollege.com/signup?redirect=/live/186029&utm_campaign=743947utrgvvstamiumen&utm_medium=partner&utm_source=multiple&utm_content=signup&contract_id=0063m00000n3zkcaam&coverage_id=14436827&sp=&sp=conf-partner
URL:https://stayinmcallen.com/events/utrgv-mens-soccer-at-texas-am-international/
LOCATION:Laredo\, Texas
CATEGORIES:UTRGV Athletics
END:VEVENT
END:VCALENDAR