BEGIN:VCALENDAR
VERSION:2.0
PRODID:-//Stayinmcallen - ECPv6.15.20//NONSGML v1.0//EN
CALSCALE:GREGORIAN
METHOD:PUBLISH
X-ORIGINAL-URL:https://stayinmcallen.com
X-WR-CALDESC:Events for Stayinmcallen
REFRESH-INTERVAL;VALUE=DURATION:PT1H
X-Robots-Tag:noindex
X-PUBLISHED-TTL:PT1H
BEGIN:VTIMEZONE
TZID:America/Chicago
BEGIN:DAYLIGHT
TZOFFSETFROM:-0600
TZOFFSETTO:-0500
TZNAME:CDT
DTSTART:20240310T080000
END:DAYLIGHT
BEGIN:STANDARD
TZOFFSETFROM:-0500
TZOFFSETTO:-0600
TZNAME:CST
DTSTART:20241103T070000
END:STANDARD
BEGIN:DAYLIGHT
TZOFFSETFROM:-0600
TZOFFSETTO:-0500
TZNAME:CDT
DTSTART:20250309T080000
END:DAYLIGHT
BEGIN:STANDARD
TZOFFSETFROM:-0500
TZOFFSETTO:-0600
TZNAME:CST
DTSTART:20251102T070000
END:STANDARD
BEGIN:DAYLIGHT
TZOFFSETFROM:-0600
TZOFFSETTO:-0500
TZNAME:CDT
DTSTART:20260308T080000
END:DAYLIGHT
BEGIN:STANDARD
TZOFFSETFROM:-0500
TZOFFSETTO:-0600
TZNAME:CST
DTSTART:20261101T070000
END:STANDARD
END:VTIMEZONE
BEGIN:VEVENT
DTSTART;TZID=America/Chicago:20251115T093000
DTEND;TZID=America/Chicago:20251115T123000
DTSTAMP:20260425T091011
CREATED:20251022T175158Z
LAST-MODIFIED:20251111T041420Z
UID:10003193-1763199000-1763209800@stayinmcallen.com
SUMMARY:UTRGV Women's Tennis vs UTRGV Tennis Pro-Am
DESCRIPTION:UTRGV Women’s Tennis vs UTRGV Tennis Pro-Am
URL:https://stayinmcallen.com/events/utrgv-womens-tennis-vs-utrgv-tennis-pro-am-2/
LOCATION:Edinburg\, Texas\, Orville I. Cox Tennis Center
CATEGORIES:UTRGV Athletics
END:VEVENT
BEGIN:VEVENT
DTSTART;TZID=America/Chicago:20251115T093000
DTEND;TZID=America/Chicago:20251115T123000
DTSTAMP:20260425T091011
CREATED:20251022T175202Z
LAST-MODIFIED:20251111T041424Z
UID:10003194-1763199000-1763209800@stayinmcallen.com
SUMMARY:UTRGV Men's Tennis vs UTRGV Tennis Pro-Am
DESCRIPTION:UTRGV Men’s Tennis vs UTRGV Tennis Pro-Am
URL:https://stayinmcallen.com/events/utrgv-mens-tennis-vs-utrgv-tennis-pro-am-2/
LOCATION:Edinburg\, TX\, Orville I. Cox Tennis Center
CATEGORIES:UTRGV Athletics
END:VEVENT
BEGIN:VEVENT
DTSTART;TZID=America/Chicago:20251115T110000
DTEND;TZID=America/Chicago:20251115T130000
DTSTAMP:20260425T091011
CREATED:20250419T005612Z
LAST-MODIFIED:20251111T041430Z
UID:10002405-1763204400-1763211600@stayinmcallen.com
SUMMARY:UTRGV Volleyball at East Texas A&M
DESCRIPTION:UTRGV Volleyball at East Texas A&M\nTV: ESPN+ (USA) | Southland International\nStreaming Video: https://www.southland.org/espn
URL:https://stayinmcallen.com/events/utrgv-volleyball-at-east-texas-am/
LOCATION:Commerce\, Texas
CATEGORIES:UTRGV Athletics
END:VEVENT
BEGIN:VEVENT
DTSTART;TZID=America/Chicago:20251115T180000
DTEND;TZID=America/Chicago:20251115T210000
DTSTAMP:20260425T091011
CREATED:20250214T223149Z
LAST-MODIFIED:20251111T041434Z
UID:10002047-1763229600-1763240400@stayinmcallen.com
SUMMARY:UTRGV Football at McNeese
DESCRIPTION:UTRGV Football at McNeese\nTV: ESPN+\nRadio: Ultra 90.1 FM | Pure Country 95.7 FM\nStreaming Video: http://southland.org/espn\nStreaming Audio: https://player.amperwave.net/13749\nTickets: https://www.ticketreturn.com/prod2new//Buy.asp?EventID=351079
URL:https://stayinmcallen.com/events/utrgv-football-at-mcneese/
LOCATION:Lake Charles\, La.\, Navarre Stadium
CATEGORIES:UTRGV Athletics
END:VEVENT
BEGIN:VEVENT
DTSTART;TZID=America/Chicago:20251117T183000
DTEND;TZID=America/Chicago:20251117T203000
DTSTAMP:20260425T091011
CREATED:20251015T164733Z
LAST-MODIFIED:20251111T041438Z
UID:10003175-1763404200-1763411400@stayinmcallen.com
SUMMARY:UTRGV Men's Basketball vs Southwestern Adventist - Monday Madness
DESCRIPTION:UTRGV Men’s Basketball vs Southwestern Adventist – Monday Madness\nStreaming Video: https://www.southland.org/espn\nStreaming Audio: https://www.southland.org/watch\nTickets: http://utrgvtickets.com/
URL:https://stayinmcallen.com/events/utrgv-mens-basketball-vs-southwestern-adventist-3/
LOCATION:Edinburg\, TX\, UTRGV Fieldhouse
CATEGORIES:UTRGV Athletics
END:VEVENT
BEGIN:VEVENT
DTSTART;TZID=America/Chicago:20251117T190000
DTEND;TZID=America/Chicago:20251117T210000
DTSTAMP:20260425T091011
CREATED:20250830T055847Z
LAST-MODIFIED:20251111T041442Z
UID:10003037-1763406000-1763413200@stayinmcallen.com
SUMMARY:UTRGV Women's Basketball at Texas State
DESCRIPTION:UTRGV Women’s Basketball at Texas State\nStreaming Video: https://www.espn.com/watch/player/_/eventCalendarId/401826601?gameId=401826601&sourceLang=en&om-navmethod=espn:globalsearch:results\nStreaming Audio: https://ktswblog.net/
URL:https://stayinmcallen.com/events/utrgv-womens-basketball-at-texas-state-2/
LOCATION:San Marcos\, Texas\, Strahan Arena at the University Events Center
CATEGORIES:UTRGV Athletics
END:VEVENT
BEGIN:VEVENT
DTSTART;VALUE=DATE:20251119
DTEND;VALUE=DATE:20251121
DTSTAMP:20260425T091011
CREATED:20250726T035549Z
LAST-MODIFIED:20251029T185359Z
UID:10002819-1763575200-1763661599@stayinmcallen.com
SUMMARY:UTRGV Men's Soccer vs First Round
DESCRIPTION:UTRGV Men’s Soccer vs First Round
URL:https://stayinmcallen.com/events/utrgv-mens-soccer-vs-first-round-3/
LOCATION:Campus Site
CATEGORIES:UTRGV Athletics
END:VEVENT
BEGIN:VEVENT
DTSTART;VALUE=DATE:20251119
DTEND;VALUE=DATE:20251121
DTSTAMP:20260425T091011
CREATED:20250726T035553Z
LAST-MODIFIED:20251022T175217Z
UID:10002820-1763575200-1763661599@stayinmcallen.com
SUMMARY:UTRGV Women's Soccer vs Second Round
DESCRIPTION:UTRGV Women’s Soccer vs Second Round
URL:https://stayinmcallen.com/events/utrgv-womens-soccer-vs-second-round-2/
LOCATION:Campus Site
CATEGORIES:UTRGV Athletics
END:VEVENT
BEGIN:VEVENT
DTSTART;VALUE=DATE:20251119
DTEND;VALUE=DATE:20251121
DTSTAMP:20260425T091011
CREATED:20250726T035600Z
LAST-MODIFIED:20250726T035600Z
UID:10002822-1763575200-1763661599@stayinmcallen.com
SUMMARY:UTRGV Men's Soccer vs First Round
DESCRIPTION:UTRGV Men’s Soccer vs First Round
URL:https://stayinmcallen.com/events/utrgv-mens-soccer-vs-first-round-4/
LOCATION:Campus Site
CATEGORIES:UTRGV Athletics
END:VEVENT
BEGIN:VEVENT
DTSTART;VALUE=DATE:20251119
DTEND;VALUE=DATE:20251121
DTSTAMP:20260425T091011
CREATED:20250726T035603Z
LAST-MODIFIED:20250726T035603Z
UID:10002823-1763575200-1763661599@stayinmcallen.com
SUMMARY:UTRGV Women's Soccer vs Second Round
DESCRIPTION:UTRGV Women’s Soccer vs Second Round
URL:https://stayinmcallen.com/events/utrgv-womens-soccer-vs-second-round-3/
LOCATION:Campus Site
CATEGORIES:UTRGV Athletics
END:VEVENT
BEGIN:VEVENT
DTSTART;VALUE=DATE:20251119
DTEND;VALUE=DATE:20251122
DTSTAMP:20260425T091011
CREATED:20250719T033914Z
LAST-MODIFIED:20251118T044929Z
UID:10002719-1763575200-1763747999@stayinmcallen.com
SUMMARY:UTRGV Women's Swimming & Diving  NAU Diving Invite (Dive Only)
DESCRIPTION:UTRGV Women’s Swimming & Diving  NAU Diving Invite (Dive Only)
URL:https://stayinmcallen.com/events/utrgv-womens-swimming-diving-nau-diving-invite-dive-only/
LOCATION:Flagstaff\, Ariz.
CATEGORIES:UTRGV Athletics
END:VEVENT
BEGIN:VEVENT
DTSTART;VALUE=DATE:20251119
DTEND;VALUE=DATE:20251122
DTSTAMP:20260425T091011
CREATED:20250719T033929Z
LAST-MODIFIED:20250719T033929Z
UID:10002721-1763575200-1763747999@stayinmcallen.com
SUMMARY:UTRGV Women's Swimming & Diving  NAU Diving Invite (Dive Only)
DESCRIPTION:UTRGV Women’s Swimming & Diving  NAU Diving Invite (Dive Only)
URL:https://stayinmcallen.com/events/utrgv-womens-swimming-diving-nau-diving-invite-dive-only-2/
LOCATION:Flagstaff\, AZ
CATEGORIES:UTRGV Athletics
END:VEVENT
BEGIN:VEVENT
DTSTART;VALUE=DATE:20251120
DTEND;VALUE=DATE:20251122
DTSTAMP:20260425T091011
CREATED:20250719T033925Z
LAST-MODIFIED:20250719T033925Z
UID:10002720-1763661600-1763747999@stayinmcallen.com
SUMMARY:UTRGV Women's Swimming & Diving  Idaho Invite (Swim Only)
DESCRIPTION:UTRGV Women’s Swimming & Diving  Idaho Invite (Swim Only)
URL:https://stayinmcallen.com/events/utrgv-womens-swimming-diving-idaho-invite-swim-only-3/
LOCATION:Boise\, ID
CATEGORIES:UTRGV Athletics
END:VEVENT
BEGIN:VEVENT
DTSTART;VALUE=DATE:20251120
DTEND;VALUE=DATE:20251123
DTSTAMP:20260425T091011
CREATED:20250719T033910Z
LAST-MODIFIED:20251118T044937Z
UID:10002718-1763661600-1763834399@stayinmcallen.com
SUMMARY:UTRGV Women's Swimming & Diving  NW Collegiate Invite (Swim Only)
DESCRIPTION:UTRGV Women’s Swimming & Diving  NW Collegiate Invite (Swim Only)
URL:https://stayinmcallen.com/events/utrgv-womens-swimming-diving-idaho-invite-swim-only-2/
LOCATION:Boise\, Idaho
CATEGORIES:UTRGV Athletics
END:VEVENT
BEGIN:VEVENT
DTSTART;TZID=America/Chicago:20251120T183000
DTEND;TZID=America/Chicago:20251120T203000
DTSTAMP:20260425T091011
CREATED:20250830T055937Z
LAST-MODIFIED:20251118T044933Z
UID:10003040-1763663400-1763670600@stayinmcallen.com
SUMMARY:UTRGV Women's Basketball vs Houston - Pack the House\, presented by Vaquero Outfitters
DESCRIPTION:UTRGV Women’s Basketball vs Houston – Pack the House\, presented by Vaquero Outfitters Streaming Video: https://www.southland.org/espn Streaming Audio: https://www.southland.org/watch Tickets: https://www.showpass.com/o/university-of-texas-rio-grande-valley-utrgv/
URL:https://stayinmcallen.com/events/utrgv-womens-basketball-vs-houston/
LOCATION:Edinburg\, Texas\, UTRGV Fieldhouse
CATEGORIES:UTRGV Athletics
END:VEVENT
BEGIN:VEVENT
DTSTART;TZID=America/Chicago:20251121T130000
DTEND;TZID=America/Chicago:20251121T150000
DTSTAMP:20260425T091011
CREATED:20250419T005623Z
LAST-MODIFIED:20251118T044940Z
UID:10002406-1763730000-1763737200@stayinmcallen.com
SUMMARY:UTRGV Volleyball vs #7 Houston Christian University
DESCRIPTION:UTRGV Volleyball vs #7 Houston Christian University\nTV: ESPN+ (USA) | Southland International\nStreaming Video: https://www.southland.org/espn
URL:https://stayinmcallen.com/events/utrgv-volleyball-vs-quarterfinals-3/
LOCATION:Commerce\, Texas
CATEGORIES:UTRGV Athletics
END:VEVENT
BEGIN:VEVENT
DTSTART;VALUE=DATE:20251121
DTEND;VALUE=DATE:20251123
DTSTAMP:20260425T091011
CREATED:20250726T035607Z
LAST-MODIFIED:20251022T175307Z
UID:10002821-1763748000-1763834399@stayinmcallen.com
SUMMARY:UTRGV Women's Soccer vs Third Round
DESCRIPTION:UTRGV Women’s Soccer vs Third Round
URL:https://stayinmcallen.com/events/utrgv-womens-soccer-vs-third-round-2/
LOCATION:Campus Site
CATEGORIES:UTRGV Athletics
END:VEVENT
BEGIN:VEVENT
DTSTART;VALUE=DATE:20251121
DTEND;VALUE=DATE:20251123
DTSTAMP:20260425T091011
CREATED:20250830T055858Z
LAST-MODIFIED:20251118T044944Z
UID:10003038-1763748000-1763834399@stayinmcallen.com
SUMMARY:UTRGV Men's Cross Country  NCAA Championships
DESCRIPTION:UTRGV Men’s Cross Country  NCAA Championships
URL:https://stayinmcallen.com/events/utrgv-mens-cross-country-ncaa-championships/
LOCATION:Columbia\, Mo.
CATEGORIES:UTRGV Athletics
END:VEVENT
BEGIN:VEVENT
DTSTART;VALUE=DATE:20251121
DTEND;VALUE=DATE:20251123
DTSTAMP:20260425T091011
CREATED:20250830T055907Z
LAST-MODIFIED:20251118T044948Z
UID:10003039-1763748000-1763834399@stayinmcallen.com
SUMMARY:UTRGV Women's Cross Country  NCAA Championships
DESCRIPTION:UTRGV Women’s Cross Country  NCAA Championships
URL:https://stayinmcallen.com/events/utrgv-womens-cross-country-ncaa-championships/
LOCATION:Columbia\, Mo.
CATEGORIES:UTRGV Athletics
END:VEVENT
BEGIN:VEVENT
DTSTART;VALUE=DATE:20251121
DTEND;VALUE=DATE:20251123
DTSTAMP:20260425T091011
CREATED:20250830T055927Z
LAST-MODIFIED:20250830T055927Z
UID:10003041-1763748000-1763834399@stayinmcallen.com
SUMMARY:UTRGV Women's Cross Country  NCAA Championships
DESCRIPTION:UTRGV Women’s Cross Country  NCAA Championships
URL:https://stayinmcallen.com/events/utrgv-womens-cross-country-ncaa-championships-2/
LOCATION:Columbia\, Mo.
CATEGORIES:UTRGV Athletics
END:VEVENT
BEGIN:VEVENT
DTSTART;TZID=America/Chicago:20251122T140000
DTEND;TZID=America/Chicago:20251122T160000
DTSTAMP:20260425T091011
CREATED:20250419T005627Z
LAST-MODIFIED:20251118T044951Z
UID:10002407-1763820000-1763827200@stayinmcallen.com
SUMMARY:UTRGV Volleyball vs # 3 Southeastern/#6 Texas A&M-Corpus Christi
DESCRIPTION:UTRGV Volleyball vs # 3 Southeastern/#6 Texas A&M-Corpus Christi\nTV: ESPN+ (USA) | Southland International\nStreaming Video: https://www.southland.org/espn
URL:https://stayinmcallen.com/events/utrgv-volleyball-vs-semifinals-3/
LOCATION:Commerce\, Texas
CATEGORIES:UTRGV Athletics
END:VEVENT
BEGIN:VEVENT
DTSTART;TZID=America/Chicago:20251122T160000
DTEND;TZID=America/Chicago:20251122T180000
DTSTAMP:20260425T091011
CREATED:20251015T164838Z
LAST-MODIFIED:20251118T044955Z
UID:10003176-1763827200-1763834400@stayinmcallen.com
SUMMARY:UTRGV Men's Basketball at Missouri State
DESCRIPTION:UTRGV Men’s Basketball at Missouri State\nStreaming Video: https://www.espn.com/watch/
URL:https://stayinmcallen.com/events/utrgv-mens-basketball-at-missouri-state/
LOCATION:Springfield\, Mo.\, Great Southern Bank Arena
CATEGORIES:UTRGV Athletics
END:VEVENT
BEGIN:VEVENT
DTSTART;TZID=America/Chicago:20251122T170000
DTEND;TZID=America/Chicago:20251122T200000
DTSTAMP:20260425T091011
CREATED:20250214T223152Z
LAST-MODIFIED:20251118T044959Z
UID:10002048-1763830800-1763841600@stayinmcallen.com
SUMMARY:UTRGV Football vs East Texas A&M - Senior Day
DESCRIPTION:UTRGV Football vs East Texas A&M – Senior Day\nTV: ESPN+ (USA) | Southland International\nRadio: Ultra 90.1 FM | Pure Country 95.7 FM | KYWW 1530 AM Puro Tejano | KGBT-FM 98.5 La Preferida\nStreaming Video: http://southland.org/espn\nStreaming Audio: https://player.amperwave.net/13749\nTickets: https://www.showpass.com/utrgv-football-2025/
URL:https://stayinmcallen.com/events/utrgv-football-vs-east-texas-am/
LOCATION:Edinburg\, Texas\, Robert & Janet Vackar Stadium
CATEGORIES:UTRGV Athletics
END:VEVENT
BEGIN:VEVENT
DTSTART;VALUE=DATE:20251122
DTEND;VALUE=DATE:20251124
DTSTAMP:20260425T091011
CREATED:20250726T035616Z
LAST-MODIFIED:20251029T185316Z
UID:10002824-1763834400-1763920799@stayinmcallen.com
SUMMARY:UTRGV Men's Soccer vs Second Round
DESCRIPTION:UTRGV Men’s Soccer vs Second Round
URL:https://stayinmcallen.com/events/utrgv-mens-soccer-vs-second-round-4/
LOCATION:Campus Site
CATEGORIES:UTRGV Athletics
END:VEVENT
BEGIN:VEVENT
DTSTART;VALUE=DATE:20251122
DTEND;VALUE=DATE:20251124
DTSTAMP:20260425T091011
CREATED:20250830T060023Z
LAST-MODIFIED:20250830T060023Z
UID:10003043-1763834400-1763920799@stayinmcallen.com
SUMMARY:UTRGV Women's Basketball at Texas Christian
DESCRIPTION:UTRGV Women’s Basketball at Texas Christian
URL:https://stayinmcallen.com/events/utrgv-womens-basketball-at-texas-christian-2/
LOCATION:Fort Worth\, Texas
CATEGORIES:UTRGV Athletics
END:VEVENT
BEGIN:VEVENT
DTSTART;TZID=America/Chicago:20251123T140000
DTEND;TZID=America/Chicago:20251123T160000
DTSTAMP:20260425T091011
CREATED:20250419T005634Z
LAST-MODIFIED:20251118T045023Z
UID:10002408-1763906400-1763913600@stayinmcallen.com
SUMMARY:UTRGV Volleyball vs Championship
DESCRIPTION:UTRGV Volleyball vs Championship\nTV: ESPN+ (USA) | Southland International\nStreaming Video: https://www.southland.org/espn
URL:https://stayinmcallen.com/events/utrgv-volleyball-vs-championship-4/
LOCATION:Commerce\, Texas
CATEGORIES:UTRGV Athletics
END:VEVENT
BEGIN:VEVENT
DTSTART;TZID=America/Chicago:20251123T160000
DTEND;TZID=America/Chicago:20251123T180000
DTSTAMP:20260425T091011
CREATED:20250830T055954Z
LAST-MODIFIED:20251118T045006Z
UID:10003042-1763913600-1763920800@stayinmcallen.com
SUMMARY:UTRGV Women's Basketball at Texas Christian
DESCRIPTION:UTRGV Women’s Basketball at Texas Christian\nStreaming Video: https://www.espn.com/watch/catalog/01209caa-9a9a-4275-b784-c8cdff2fbd7c/southland-conference#bucketId=29784&sourceCollection=Browse_By_Top_Conferences\nStreaming Audio: https://thevarsitynetwork.com/audioapplink/source/texas-christian-university:oas-1541/content/texaschristian:allaccess-Live-944
URL:https://stayinmcallen.com/events/utrgv-womens-basketball-at-texas-christian/
LOCATION:Fort Worth\, Texas\, Schollmaier Arena
CATEGORIES:UTRGV Athletics
END:VEVENT
BEGIN:VEVENT
DTSTART;TZID=America/Chicago:20251124T190000
DTEND;TZID=America/Chicago:20251124T210000
DTSTAMP:20260425T091011
CREATED:20251015T164912Z
LAST-MODIFIED:20251118T045026Z
UID:10003177-1764010800-1764018000@stayinmcallen.com
SUMMARY:UTRGV Men's Basketball at Illinois
DESCRIPTION:UTRGV Men’s Basketball at Illinois\nTV: Big Ten Network\nStreaming Video: https://bigten.org/btn/watch-live/\nStreaming Audio: https://thevarsitynetwork.com/audioapplink/source/oas-1032/content/uillinois:allaccess-Live-6662
URL:https://stayinmcallen.com/events/utrgv-mens-basketball-at-illinois/
LOCATION:Champaign\, Ill.\, State Farm Center
CATEGORIES:UTRGV Athletics
END:VEVENT
BEGIN:VEVENT
DTSTART;VALUE=DATE:20251126
DTEND;VALUE=DATE:20251128
DTSTAMP:20260425T091011
CREATED:20250726T035623Z
LAST-MODIFIED:20251022T175341Z
UID:10002825-1764180000-1764266399@stayinmcallen.com
SUMMARY:UTRGV Women's Soccer vs Quarterfinals
DESCRIPTION:UTRGV Women’s Soccer vs Quarterfinals
URL:https://stayinmcallen.com/events/utrgv-womens-soccer-vs-quarterfinals-3/
LOCATION:Campus Site
CATEGORIES:UTRGV Athletics
END:VEVENT
BEGIN:VEVENT
DTSTART;VALUE=DATE:20251126
DTEND;VALUE=DATE:20251128
DTSTAMP:20260425T091011
CREATED:20250726T035655Z
LAST-MODIFIED:20250726T035655Z
UID:10002834-1764180000-1764266399@stayinmcallen.com
SUMMARY:UTRGV Women's Soccer vs Quarterfinals
DESCRIPTION:UTRGV Women’s Soccer vs Quarterfinals
URL:https://stayinmcallen.com/events/utrgv-womens-soccer-vs-quarterfinals-4/
LOCATION:Campus Site
CATEGORIES:UTRGV Athletics
END:VEVENT
END:VCALENDAR