BEGIN:VCALENDAR
VERSION:2.0
PRODID:-//Stayinmcallen - ECPv6.15.20//NONSGML v1.0//EN
CALSCALE:GREGORIAN
METHOD:PUBLISH
X-WR-CALNAME:Stayinmcallen
X-ORIGINAL-URL:https://stayinmcallen.com
X-WR-CALDESC:Events for Stayinmcallen
REFRESH-INTERVAL;VALUE=DURATION:PT1H
X-Robots-Tag:noindex
X-PUBLISHED-TTL:PT1H
BEGIN:VTIMEZONE
TZID:America/Chicago
BEGIN:DAYLIGHT
TZOFFSETFROM:-0600
TZOFFSETTO:-0500
TZNAME:CDT
DTSTART:20240310T080000
END:DAYLIGHT
BEGIN:STANDARD
TZOFFSETFROM:-0500
TZOFFSETTO:-0600
TZNAME:CST
DTSTART:20241103T070000
END:STANDARD
BEGIN:DAYLIGHT
TZOFFSETFROM:-0600
TZOFFSETTO:-0500
TZNAME:CDT
DTSTART:20250309T080000
END:DAYLIGHT
BEGIN:STANDARD
TZOFFSETFROM:-0500
TZOFFSETTO:-0600
TZNAME:CST
DTSTART:20251102T070000
END:STANDARD
BEGIN:DAYLIGHT
TZOFFSETFROM:-0600
TZOFFSETTO:-0500
TZNAME:CDT
DTSTART:20260308T080000
END:DAYLIGHT
BEGIN:STANDARD
TZOFFSETFROM:-0500
TZOFFSETTO:-0600
TZNAME:CST
DTSTART:20261101T070000
END:STANDARD
END:VTIMEZONE
BEGIN:VEVENT
DTSTART;TZID=America/Chicago:20250928T130000
DTEND;TZID=America/Chicago:20250928T150000
DTSTAMP:20260425T112005
CREATED:20250419T005400Z
LAST-MODIFIED:20250927T074859Z
UID:10002377-1759064400-1759071600@stayinmcallen.com
SUMMARY:UTRGV Women's Soccer at Stephen F. Austin
DESCRIPTION:UTRGV Women’s Soccer at Stephen F. Austin\nTV: TV: ESPN+ (USA) | Southland International\nStreaming Video: https://www.southland.org/espn
URL:https://stayinmcallen.com/events/utrgv-womens-soccer-at-stephen-f-austin/
LOCATION:Nacogdoches\, Texas
CATEGORIES:UTRGV Athletics
END:VEVENT
BEGIN:VEVENT
DTSTART;VALUE=DATE:20250928
DTEND;VALUE=DATE:20250930
DTSTAMP:20260425T112005
CREATED:20250816T050849Z
LAST-MODIFIED:20250927T074903Z
UID:10002966-1759086000-1759172399@stayinmcallen.com
SUMMARY:UTRGV Men's Golf  Bayou City Collegiate Classic
DESCRIPTION:UTRGV Men’s Golf  Bayou City Collegiate Classic
URL:https://stayinmcallen.com/events/utrgv-mens-golf-bayou-city-collegiate-classic-3/
LOCATION:Houston\, Texas
CATEGORIES:UTRGV Athletics
END:VEVENT
BEGIN:VEVENT
DTSTART;TZID=America/Chicago:20250930T210000
DTEND;TZID=America/Chicago:20250930T230000
DTSTAMP:20260425T112005
CREATED:20250726T035230Z
LAST-MODIFIED:20250927T074909Z
UID:10002810-1759266000-1759273200@stayinmcallen.com
SUMMARY:UTRGV Men's Soccer at Grand Canyon
DESCRIPTION:UTRGV Men’s Soccer at Grand Canyon\nTV: ESPN+\nStreaming Video: https://plus.espn.com/
URL:https://stayinmcallen.com/events/utrgv-mens-soccer-at-grand-canyon-2/
LOCATION:Phoenix\, Ariz.
CATEGORIES:UTRGV Athletics
END:VEVENT
BEGIN:VEVENT
DTSTART;TZID=America/Chicago:20251002T183000
DTEND;TZID=America/Chicago:20251002T203000
DTSTAMP:20260425T112005
CREATED:20250419T005410Z
LAST-MODIFIED:20250927T074914Z
UID:10002381-1759429800-1759437000@stayinmcallen.com
SUMMARY:UTRGV Volleyball vs Northwestern State - Breast Cancer Awareness Night - Pink Out
DESCRIPTION:UTRGV Volleyball vs Northwestern State – Breast Cancer Awareness Night – Pink Out\nTV: ESPN+ (USA) | Southland International\nStreaming Video: https://www.southland.org/espn\nTickets: https://www.showpass.com/o/university-of-texas-rio-grande-valley-utrgv/
URL:https://stayinmcallen.com/events/utrgv-volleyball-vs-northwestern-state-3/
LOCATION:Edinburg\, Texas\, UTRGV Fieldhouse
CATEGORIES:UTRGV Athletics
END:VEVENT
BEGIN:VEVENT
DTSTART;TZID=America/Chicago:20251002T190000
DTEND;TZID=America/Chicago:20251002T210000
DTSTAMP:20260425T112005
CREATED:20250419T005406Z
LAST-MODIFIED:20250927T074918Z
UID:10002380-1759431600-1759438800@stayinmcallen.com
SUMMARY:UTRGV Women's Soccer at Houston Christian University
DESCRIPTION:UTRGV Women’s Soccer at Houston Christian University\nTV: TV: ESPN+ (USA) | Southland International\nStreaming Video: https://www.southland.org/espn
URL:https://stayinmcallen.com/events/utrgv-womens-soccer-at-houston-christian-2/
LOCATION:Houston\, Texas
CATEGORIES:UTRGV Athletics
END:VEVENT
BEGIN:VEVENT
DTSTART;VALUE=DATE:20251003
DTEND;VALUE=DATE:20251005
DTSTAMP:20260425T112005
CREATED:20250823T052358Z
LAST-MODIFIED:20250927T074922Z
UID:10002992-1759518000-1759604399@stayinmcallen.com
SUMMARY:UTRGV Women's Tennis at River State Shoot-Out
DESCRIPTION:UTRGV Women’s Tennis at River State Shoot-Out
URL:https://stayinmcallen.com/events/utrgv-womens-tennis-at-river-state-shoot-out/
LOCATION:San Marcos\, Texas
CATEGORIES:UTRGV Athletics
END:VEVENT
BEGIN:VEVENT
DTSTART;VALUE=DATE:20251003
DTEND;VALUE=DATE:20251005
DTSTAMP:20260425T112005
CREATED:20250823T052401Z
LAST-MODIFIED:20250823T052401Z
UID:10002993-1759518000-1759604399@stayinmcallen.com
SUMMARY:UTRGV Women's Tennis at River State Shoot-Out
DESCRIPTION:UTRGV Women’s Tennis at River State Shoot-Out
URL:https://stayinmcallen.com/events/utrgv-womens-tennis-at-river-state-shoot-out-2/
LOCATION:San Marcos\, Texas
CATEGORIES:UTRGV Athletics
END:VEVENT
BEGIN:VEVENT
DTSTART;TZID=America/Chicago:20251004T120000
DTEND;TZID=America/Chicago:20251004T140000
DTSTAMP:20260425T112005
CREATED:20250419T005414Z
LAST-MODIFIED:20250927T074926Z
UID:10002382-1759579200-1759586400@stayinmcallen.com
SUMMARY:UTRGV Volleyball vs East Texas A&M
DESCRIPTION:UTRGV Volleyball vs East Texas A&M\nTV: ESPN+ (USA) | Southland International\nStreaming Video: https://www.southland.org/espn\nTickets: https://www.showpass.com/o/university-of-texas-rio-grande-valley-utrgv/
URL:https://stayinmcallen.com/events/utrgv-volleyball-vs-east-texas-am/
LOCATION:Edinburg\, Texas\, UTRGV Fieldhouse
CATEGORIES:UTRGV Athletics
END:VEVENT
BEGIN:VEVENT
DTSTART;TZID=America/Chicago:20251004T190000
DTEND;TZID=America/Chicago:20251004T220000
DTSTAMP:20260425T112005
CREATED:20250214T223128Z
LAST-MODIFIED:20250927T074937Z
UID:10002042-1759604400-1759615200@stayinmcallen.com
SUMMARY:UTRGV Football vs Houston Christian University - Breast Cancer Awareness presented by H-E-B
DESCRIPTION:UTRGV Football vs Houston Christian University – Breast Cancer Awareness presented by H-E-B\nTV: ESPN+ (USA) | Southland International\nRadio: Ultra 90.1 FM | Pure Country 95.7 FM | KYWW 1530 AM Puro Tejano | KGBT-FM 98.5 La Preferida\nStreaming Video: http://southland.org/espn\nStreaming Audio: https://player.amperwave.net/13749\nTickets: https://www.showpass.com/utrgv-football-2025/
URL:https://stayinmcallen.com/events/utrgv-football-vs-houston-christian/
LOCATION:Edinburg\, Texas\, Robert & Janet Vackar Stadium
CATEGORIES:UTRGV Athletics
END:VEVENT
BEGIN:VEVENT
DTSTART;VALUE=DATE:20251004
DTEND;VALUE=DATE:20251007
DTSTAMP:20260425T112005
CREATED:20250816T050742Z
LAST-MODIFIED:20250927T074941Z
UID:10002964-1759604400-1759777199@stayinmcallen.com
SUMMARY:UTRGV Men's Golf  Trinity Forrest Invitational
DESCRIPTION:UTRGV Men’s Golf  Trinity Forrest Invitational
URL:https://stayinmcallen.com/events/utrgv-mens-golf-trinity-forrest-invitational/
LOCATION:Dallas\, Texas
CATEGORIES:UTRGV Athletics
END:VEVENT
BEGIN:VEVENT
DTSTART;TZID=America/Chicago:20251005T110000
DTEND;TZID=America/Chicago:20251005T130000
DTSTAMP:20260425T112005
CREATED:20250419T005421Z
LAST-MODIFIED:20250927T074944Z
UID:10002383-1759662000-1759669200@stayinmcallen.com
SUMMARY:UTRGV Women's Soccer vs Incarnate Word
DESCRIPTION:UTRGV Women’s Soccer vs Incarnate Word\nTV: ESPN+ (USA) | Southland International\nStreaming Video: https://www.southland.org/espn
URL:https://stayinmcallen.com/events/utrgv-womens-soccer-vs-incarnate-word/
LOCATION:Edinburg\, Texas\, UTRGV Soccer and Track & Field Complex
CATEGORIES:UTRGV Athletics
END:VEVENT
BEGIN:VEVENT
DTSTART;TZID=America/Chicago:20251006T180000
DTEND;TZID=America/Chicago:20251006T210000
DTSTAMP:20260425T112005
CREATED:20250830T055330Z
LAST-MODIFIED:20250927T074948Z
UID:10003013-1759773600-1759784400@stayinmcallen.com
SUMMARY:UTRGV Camps  Baseball Kids Under the Lights (ages 5-12)
DESCRIPTION:UTRGV Camps  Baseball Kids Under the Lights (ages 5-12)
URL:https://stayinmcallen.com/events/utrgv-camps-baseball-kids-under-the-lights-ages-5-12-3/
LOCATION:Edinburg\, UTRGV Baseball Stadium
CATEGORIES:UTRGV Athletics
END:VEVENT
BEGIN:VEVENT
DTSTART;TZID=America/Chicago:20251006T180000
DTEND;TZID=America/Chicago:20251006T210000
DTSTAMP:20260425T112005
CREATED:20250830T055339Z
LAST-MODIFIED:20250830T055339Z
UID:10003015-1759773600-1759784400@stayinmcallen.com
SUMMARY:UTRGV Camps  Baseball Kids Under the Lights (ages 5-12)
DESCRIPTION:UTRGV Camps  Baseball Kids Under the Lights (ages 5-12)
URL:https://stayinmcallen.com/events/utrgv-camps-baseball-kids-under-the-lights-ages-5-12-4/
LOCATION:Edinburg\, UTRGV Baseball Stadium
CATEGORIES:UTRGV Athletics
END:VEVENT
BEGIN:VEVENT
DTSTART;TZID=America/Chicago:20251007T180000
DTEND;TZID=America/Chicago:20251007T210000
DTSTAMP:20260425T112005
CREATED:20250830T055334Z
LAST-MODIFIED:20250927T074951Z
UID:10003014-1759860000-1759870800@stayinmcallen.com
SUMMARY:UTRGV Camps  Baseball Kids Under the Lights (ages 13+)
DESCRIPTION:UTRGV Camps  Baseball Kids Under the Lights (ages 13+)
URL:https://stayinmcallen.com/events/utrgv-camps-baseball-kids-under-the-lights-ages-13-3/
LOCATION:Edinburg\, UTRGV Baseball Stadium
CATEGORIES:UTRGV Athletics
END:VEVENT
BEGIN:VEVENT
DTSTART;TZID=America/Chicago:20251007T180000
DTEND;TZID=America/Chicago:20251007T210000
DTSTAMP:20260425T112005
CREATED:20250830T055343Z
LAST-MODIFIED:20250830T055343Z
UID:10003016-1759860000-1759870800@stayinmcallen.com
SUMMARY:UTRGV Camps  Baseball Kids Under the Lights (ages 13+)
DESCRIPTION:UTRGV Camps  Baseball Kids Under the Lights (ages 13+)
URL:https://stayinmcallen.com/events/utrgv-camps-baseball-kids-under-the-lights-ages-13-4/
LOCATION:Edinburg\, UTRGV Baseball Stadium
CATEGORIES:UTRGV Athletics
END:VEVENT
BEGIN:VEVENT
DTSTART;TZID=America/Chicago:20251007T190000
DTEND;TZID=America/Chicago:20251007T210000
DTSTAMP:20260425T112005
CREATED:20250726T035254Z
LAST-MODIFIED:20250927T074956Z
UID:10002812-1759863600-1759870800@stayinmcallen.com
SUMMARY:UTRGV Men's Soccer at SMU
DESCRIPTION:UTRGV Men’s Soccer at SMU\nTV: ESPN+\nStreaming Video: https://www.espn.com/search/_/q/smu/o/watch/appearance/dark
URL:https://stayinmcallen.com/events/utrgv-mens-soccer-at-smu-3/
LOCATION:Dallas\, Texas
CATEGORIES:UTRGV Athletics
END:VEVENT
BEGIN:VEVENT
DTSTART;TZID=America/Chicago:20251007T190000
DTEND;TZID=America/Chicago:20251007T210000
DTSTAMP:20260425T112005
CREATED:20250726T035300Z
LAST-MODIFIED:20250726T035300Z
UID:10002811-1759863600-1759870800@stayinmcallen.com
SUMMARY:UTRGV Men's Soccer at SMU
DESCRIPTION:UTRGV Men’s Soccer at SMU
URL:https://stayinmcallen.com/events/utrgv-mens-soccer-at-smu-4/
LOCATION:Dallas\, Texas
CATEGORIES:UTRGV Athletics
END:VEVENT
BEGIN:VEVENT
DTSTART;VALUE=DATE:20251008
DTEND;VALUE=DATE:20251010
DTSTAMP:20260425T112005
CREATED:20250419T005501Z
LAST-MODIFIED:20250419T005501Z
UID:10002389-1759950000-1760036399@stayinmcallen.com
SUMMARY:UTRGV Women's Soccer at McNeese
DESCRIPTION:UTRGV Women’s Soccer at McNeese\nTV: TV: ESPN+ (USA) | Southland International\nStreaming Video: https://www.southland.org/espn
URL:https://stayinmcallen.com/events/utrgv-womens-soccer-at-mcneese-2/
LOCATION:Lake Charles\, LA
CATEGORIES:UTRGV Athletics
END:VEVENT
BEGIN:VEVENT
DTSTART;VALUE=DATE:20251008
DTEND;VALUE=DATE:20251014
DTSTAMP:20260425T112005
CREATED:20250823T052441Z
LAST-MODIFIED:20251008T155122Z
UID:10002994-1759950000-1760381999@stayinmcallen.com
SUMMARY:UTRGV Women's Tennis at ITA Texas Regional
DESCRIPTION:UTRGV Women’s Tennis at ITA Texas Regional
URL:https://stayinmcallen.com/events/utrgv-womens-tennis-at-ita-texas-regional/
LOCATION:Fort Worth\, Texas
CATEGORIES:UTRGV Athletics
END:VEVENT
BEGIN:VEVENT
DTSTART;TZID=America/Chicago:20251009T180000
DTEND;TZID=America/Chicago:20251009T200000
DTSTAMP:20260425T112005
CREATED:20250419T005431Z
LAST-MODIFIED:20251008T155126Z
UID:10002385-1760032800-1760040000@stayinmcallen.com
SUMMARY:UTRGV Volleyball at Incarnate Word
DESCRIPTION:UTRGV Volleyball at Incarnate Word\nTV: ESPN+ (USA)\nStreaming Video: https://www.southland.org/espn
URL:https://stayinmcallen.com/events/utrgv-volleyball-at-incarnate-word-2/
LOCATION:San Antonio\, Texas
CATEGORIES:UTRGV Athletics
END:VEVENT
BEGIN:VEVENT
DTSTART;TZID=America/Chicago:20251009T190000
DTEND;TZID=America/Chicago:20251009T210000
DTSTAMP:20260425T112005
CREATED:20250419T005426Z
LAST-MODIFIED:20251008T155131Z
UID:10002384-1760036400-1760043600@stayinmcallen.com
SUMMARY:UTRGV Women's Soccer at McNeese
DESCRIPTION:UTRGV Women’s Soccer at McNeese
URL:https://stayinmcallen.com/events/utrgv-womens-soccer-at-mcneese/
LOCATION:Lake Charles\, La.
CATEGORIES:UTRGV Athletics
END:VEVENT
BEGIN:VEVENT
DTSTART;TZID=America/Chicago:20251011T110000
DTEND;TZID=America/Chicago:20251011T140000
DTSTAMP:20260425T112005
CREATED:20250719T033640Z
LAST-MODIFIED:20251008T155135Z
UID:10002706-1760180400-1760191200@stayinmcallen.com
SUMMARY:UTRGV Women's Swimming & Diving  UT Permian Basin
DESCRIPTION:UTRGV Women’s Swimming & Diving  UT Permian Basin
URL:https://stayinmcallen.com/events/utrgv-womens-swimming-diving-ut-permian-basin/
LOCATION:Midland\, Texas
CATEGORIES:UTRGV Athletics
END:VEVENT
BEGIN:VEVENT
DTSTART;TZID=America/Chicago:20251011T110000
DTEND;TZID=America/Chicago:20251011T140000
DTSTAMP:20260425T112005
CREATED:20250719T033652Z
LAST-MODIFIED:20250719T033652Z
UID:10002708-1760180400-1760191200@stayinmcallen.com
SUMMARY:UTRGV Women's Swimming & Diving  UT Permian Basin
DESCRIPTION:UTRGV Women’s Swimming & Diving  UT Permian Basin
URL:https://stayinmcallen.com/events/utrgv-womens-swimming-diving-ut-permian-basin-2/
LOCATION:Odessa\, TX
CATEGORIES:UTRGV Athletics
END:VEVENT
BEGIN:VEVENT
DTSTART;TZID=America/Chicago:20251011T130000
DTEND;TZID=America/Chicago:20251011T150000
DTSTAMP:20260425T112005
CREATED:20250419T005435Z
LAST-MODIFIED:20251008T154941Z
UID:10002386-1760187600-1760194800@stayinmcallen.com
SUMMARY:UTRGV Volleyball at Houston Christian University
DESCRIPTION:UTRGV Volleyball at Houston Christian University\nTV: ESPN+ (USA)\nStreaming Video: https://www.southland.org/espn
URL:https://stayinmcallen.com/events/utrgv-volleyball-at-houston-christian-5/
LOCATION:Houston\, Texas
CATEGORIES:UTRGV Athletics
END:VEVENT
BEGIN:VEVENT
DTSTART;TZID=America/Chicago:20251014T190000
DTEND;TZID=America/Chicago:20251014T210000
DTSTAMP:20260425T112005
CREATED:20250726T035315Z
LAST-MODIFIED:20251008T154945Z
UID:10002813-1760468400-1760475600@stayinmcallen.com
SUMMARY:UTRGV Men's Soccer at Omaha
DESCRIPTION:UTRGV Men’s Soccer at Omaha
URL:https://stayinmcallen.com/events/utrgv-mens-soccer-at-omaha-2/
LOCATION:Omaha\, Neb.
CATEGORIES:UTRGV Athletics
END:VEVENT
BEGIN:VEVENT
DTSTART;VALUE=DATE:20251014
DTEND;VALUE=DATE:20251019
DTSTAMP:20260425T112005
CREATED:20250823T052523Z
LAST-MODIFIED:20250823T052523Z
UID:10002996-1760468400-1760813999@stayinmcallen.com
SUMMARY:UTRGV Men's Tennis at ITA Texas Regional
DESCRIPTION:UTRGV Men’s Tennis at ITA Texas Regional
URL:https://stayinmcallen.com/events/utrgv-mens-tennis-at-ita-texas-regional-2/
LOCATION:College Station\, Texas
CATEGORIES:UTRGV Athletics
END:VEVENT
BEGIN:VEVENT
DTSTART;TZID=America/Chicago:20251016T183000
DTEND;TZID=America/Chicago:20251016T203000
DTSTAMP:20260425T112005
CREATED:20250419T005439Z
LAST-MODIFIED:20251015T164255Z
UID:10002387-1760639400-1760646600@stayinmcallen.com
SUMMARY:UTRGV Volleyball vs Southeastern - Dads and Daughters Night
DESCRIPTION:UTRGV Volleyball vs Southeastern – Dads and Daughters Night\nTV: ESPN+ (USA) | Southland International\nStreaming Video: https://www.southland.org/espn\nTickets: https://www.showpass.com/o/university-of-texas-rio-grande-valley-utrgv/
URL:https://stayinmcallen.com/events/utrgv-volleyball-vs-southeastern/
LOCATION:Edinburg\, Texas\, UTRGV Fieldhouse
CATEGORIES:UTRGV Athletics
END:VEVENT
BEGIN:VEVENT
DTSTART;TZID=America/Chicago:20251016T190000
DTEND;TZID=America/Chicago:20251016T210000
DTSTAMP:20260425T112005
CREATED:20250419T005444Z
LAST-MODIFIED:20251015T164303Z
UID:10002388-1760641200-1760648400@stayinmcallen.com
SUMMARY:UTRGV Women's Soccer at Nicholls
DESCRIPTION:UTRGV Women’s Soccer at Nicholls\nTV: ESPN+ (USA) | Southland International\nStreaming Video: https://www.southland.org/espn
URL:https://stayinmcallen.com/events/utrgv-womens-soccer-at-nicholls/
LOCATION:Thibodeaux\, La.
CATEGORIES:UTRGV Athletics
END:VEVENT
BEGIN:VEVENT
DTSTART;VALUE=DATE:20251016
DTEND;VALUE=DATE:20251018
DTSTAMP:20260425T112005
CREATED:20250830T055440Z
LAST-MODIFIED:20250830T055440Z
UID:10003019-1760641200-1760727599@stayinmcallen.com
SUMMARY:UTRGV Women's Cross Country  Arturo Barrios Invitational
DESCRIPTION:UTRGV Women’s Cross Country  Arturo Barrios Invitational
URL:https://stayinmcallen.com/events/utrgv-womens-cross-country-arturo-barrios-invitational-4/
LOCATION:Bryan-College Station\, Texas
CATEGORIES:UTRGV Athletics
END:VEVENT
BEGIN:VEVENT
DTSTART;VALUE=DATE:20251016
DTEND;VALUE=DATE:20251018
DTSTAMP:20260425T112005
CREATED:20250830T055445Z
LAST-MODIFIED:20250830T055445Z
UID:10003020-1760641200-1760727599@stayinmcallen.com
SUMMARY:UTRGV Men's Cross Country  Arturo Barrios Invitational
DESCRIPTION:UTRGV Men’s Cross Country  Arturo Barrios Invitational
URL:https://stayinmcallen.com/events/utrgv-mens-cross-country-arturo-barrios-invitational-4/
LOCATION:Bryan-College Station\, Texas
CATEGORIES:UTRGV Athletics
END:VEVENT
END:VCALENDAR