BEGIN:VCALENDAR
VERSION:2.0
PRODID:-//Stayinmcallen - ECPv6.15.20//NONSGML v1.0//EN
CALSCALE:GREGORIAN
METHOD:PUBLISH
X-WR-CALNAME:Stayinmcallen
X-ORIGINAL-URL:https://stayinmcallen.com
X-WR-CALDESC:Events for Stayinmcallen
REFRESH-INTERVAL;VALUE=DURATION:PT1H
X-Robots-Tag:noindex
X-PUBLISHED-TTL:PT1H
BEGIN:VTIMEZONE
TZID:America/Chicago
BEGIN:DAYLIGHT
TZOFFSETFROM:-0600
TZOFFSETTO:-0500
TZNAME:CDT
DTSTART:20230312T080000
END:DAYLIGHT
BEGIN:STANDARD
TZOFFSETFROM:-0500
TZOFFSETTO:-0600
TZNAME:CST
DTSTART:20231105T070000
END:STANDARD
BEGIN:DAYLIGHT
TZOFFSETFROM:-0600
TZOFFSETTO:-0500
TZNAME:CDT
DTSTART:20240310T080000
END:DAYLIGHT
BEGIN:STANDARD
TZOFFSETFROM:-0500
TZOFFSETTO:-0600
TZNAME:CST
DTSTART:20241103T070000
END:STANDARD
BEGIN:DAYLIGHT
TZOFFSETFROM:-0600
TZOFFSETTO:-0500
TZNAME:CDT
DTSTART:20250309T080000
END:DAYLIGHT
BEGIN:STANDARD
TZOFFSETFROM:-0500
TZOFFSETTO:-0600
TZNAME:CST
DTSTART:20251102T070000
END:STANDARD
END:VTIMEZONE
BEGIN:VEVENT
DTSTART;TZID=America/Chicago:20241003T180000
DTEND;TZID=America/Chicago:20241003T200000
DTSTAMP:20260425T190523
CREATED:20240712T122154Z
LAST-MODIFIED:20240927T152049Z
UID:10000749-1727978400-1727985600@stayinmcallen.com
SUMMARY:UTRGV Volleyball at Incarnate Word
DESCRIPTION:UTRGV Volleyball at Incarnate Word\nTV: ESPN+ (USA) | Southland International\nStreaming Video: http://plus.espn.com/
URL:https://stayinmcallen.com/events/utrgv-volleyball-at-incarnate-word/
LOCATION:San Antonio\, TX
CATEGORIES:UTRGV Athletics
END:VEVENT
BEGIN:VEVENT
DTSTART;TZID=America/Chicago:20241003T183000
DTEND;TZID=America/Chicago:20241003T203000
DTSTAMP:20260425T190523
CREATED:20240621T115959Z
LAST-MODIFIED:20240927T152044Z
UID:10000640-1727980200-1727987400@stayinmcallen.com
SUMMARY:UTRGV Women's Soccer vs Houston Christian
DESCRIPTION:UTRGV Women’s Soccer vs Houston Christian\nTV: ESPN+ (USA) | Southland International\nStreaming Video: http://plus.espn.com/\nTickets: https://www.showpass.com/2024-2025-soccer-season-pass/
URL:https://stayinmcallen.com/events/utrgv-womens-soccer-vs-houston-christian/
LOCATION:Edinburg\, TX\, UTRGV Soccer and Track & Field Complex
CATEGORIES:UTRGV Athletics
END:VEVENT
BEGIN:VEVENT
DTSTART;TZID=America/Chicago:20241005T130000
DTEND;TZID=America/Chicago:20241005T150000
DTSTAMP:20260425T190523
CREATED:20240712T122206Z
LAST-MODIFIED:20241004T155005Z
UID:10000750-1728133200-1728140400@stayinmcallen.com
SUMMARY:UTRGV Volleyball at Houston Christian
DESCRIPTION:UTRGV Volleyball at Houston Christian
URL:https://stayinmcallen.com/events/utrgv-volleyball-at-houston-christian-3/
LOCATION:Houston\, TX
CATEGORIES:UTRGV Athletics
END:VEVENT
BEGIN:VEVENT
DTSTART;TZID=America/Chicago:20241005T130000
DTEND;TZID=America/Chicago:20241005T150000
DTSTAMP:20260425T190523
CREATED:20240712T122219Z
LAST-MODIFIED:20240712T122219Z
UID:10000753-1728133200-1728140400@stayinmcallen.com
SUMMARY:UTRGV Volleyball at Houston Christian
DESCRIPTION:UTRGV Volleyball at Houston Christian\nStreaming Video: http://plus.espn.com/\n https://goutrgv.com/calendar.aspx?game_id=27458&sport_id=12
URL:https://stayinmcallen.com/events/utrgv-volleyball-at-houston-christian-4/
LOCATION:Houston\, TX
CATEGORIES:UTRGV Athletics
END:VEVENT
BEGIN:VEVENT
DTSTART;VALUE=DATE:20241005
DTEND;VALUE=DATE:20241008
DTSTAMP:20260425T190523
CREATED:20240802T130825Z
LAST-MODIFIED:20241004T155018Z
UID:10000994-1728154800-1728327599@stayinmcallen.com
SUMMARY:UTRGV Men's Golf  Trinity Forest Invitational
DESCRIPTION:UTRGV Men’s Golf  Trinity Forest Invitational
URL:https://stayinmcallen.com/events/utrgv-mens-golf-trinity-forest-invitational/
LOCATION:Dallas\, TX
CATEGORIES:UTRGV Athletics
END:VEVENT
BEGIN:VEVENT
DTSTART;TZID=America/Chicago:20241006T100000
DTEND;TZID=America/Chicago:20241006T130000
DTSTAMP:20260425T190523
CREATED:20240913T143724Z
LAST-MODIFIED:20240927T152111Z
UID:10001189-1728208800-1728219600@stayinmcallen.com
SUMMARY:UTRGV Camps  Baseball Prospect Camp (Ages 14+)
DESCRIPTION:UTRGV Camps  Baseball Prospect Camp (Ages 14+)
URL:https://stayinmcallen.com/events/utrgv-camps-baseball-prospect-camp-ages-14/
LOCATION:Edinburg\, TX\, UTRGV Baseball Stadium
CATEGORIES:UTRGV Athletics
END:VEVENT
BEGIN:VEVENT
DTSTART;TZID=America/Chicago:20241006T100000
DTEND;TZID=America/Chicago:20241006T130000
DTSTAMP:20260425T190523
CREATED:20240913T143729Z
LAST-MODIFIED:20240913T143729Z
UID:10001188-1728208800-1728219600@stayinmcallen.com
SUMMARY:UTRGV Camps  Baseball Prospect Camp (Ages 14+)
DESCRIPTION:UTRGV Camps  Baseball Prospect Camp (Ages 14+)
URL:https://stayinmcallen.com/events/utrgv-camps-baseball-prospect-camp-ages-14-2/
LOCATION:Edinburg\, TX\, UTRGV Baseball Stadium
CATEGORIES:UTRGV Athletics
END:VEVENT
BEGIN:VEVENT
DTSTART;TZID=America/Chicago:20241006T110000
DTEND;TZID=America/Chicago:20241006T130000
DTSTAMP:20260425T190523
CREATED:20240621T120008Z
LAST-MODIFIED:20241004T155010Z
UID:10000641-1728212400-1728219600@stayinmcallen.com
SUMMARY:UTRGV Women's Soccer vs Stephen F. Austin
DESCRIPTION:UTRGV Women’s Soccer vs Stephen F. Austin\nTV: ESPN+ (USA) | Southland International\nStreaming Video: http://plus.espn.com/\nTickets: https://www.showpass.com/2024-2025-soccer-season-pass/
URL:https://stayinmcallen.com/events/utrgv-womens-soccer-vs-stephen-f-austin-2/
LOCATION:Edinburg\, TX\, UTRGV Soccer and Track & Field Complex
CATEGORIES:UTRGV Athletics
END:VEVENT
BEGIN:VEVENT
DTSTART;TZID=America/Chicago:20241006T140000
DTEND;TZID=America/Chicago:20241006T160000
DTSTAMP:20260425T190523
CREATED:20240719T123806Z
LAST-MODIFIED:20241004T155014Z
UID:10000828-1728223200-1728230400@stayinmcallen.com
SUMMARY:UTRGV Men's Soccer vs Grand Canyon
DESCRIPTION:UTRGV Men’s Soccer vs Grand Canyon\nTV: ESPN+ (USA) | WAC International\nStreaming Video: http://plus.espn.com/\nTickets: https://www.showpass.com/2024-2025-soccer-season-pass/
URL:https://stayinmcallen.com/events/utrgv-mens-soccer-vs-grand-canyon/
LOCATION:Edinburg\, TX\, UTRGV Soccer and Track & Field Complex
CATEGORIES:UTRGV Athletics
END:VEVENT
BEGIN:VEVENT
DTSTART;TZID=America/Chicago:20241006T140000
DTEND;TZID=America/Chicago:20241006T160000
DTSTAMP:20260425T190524
CREATED:20240719T123825Z
LAST-MODIFIED:20240719T123825Z
UID:10000829-1728223200-1728230400@stayinmcallen.com
SUMMARY:UTRGV Men's Soccer vs Grand Canyon
DESCRIPTION:UTRGV Men’s Soccer vs Grand Canyon\nTV: ESPN+ (USA) | WAC International\nStreaming Video: http://plus.espn.com/\n https://goutrgv.com/calendar.aspx?game_id=27563&sport_id=16
URL:https://stayinmcallen.com/events/utrgv-mens-soccer-vs-grand-canyon-2/
LOCATION:Edinburg\, TX\, UTRGV Soccer and Track & Field Complex
CATEGORIES:UTRGV Athletics
END:VEVENT
BEGIN:VEVENT
DTSTART;TZID=America/Chicago:20241008T183000
DTEND;TZID=America/Chicago:20241008T203000
DTSTAMP:20260425T190524
CREATED:20240712T122217Z
LAST-MODIFIED:20241004T155024Z
UID:10000751-1728412200-1728419400@stayinmcallen.com
SUMMARY:UTRGV Volleyball vs Texas A&M-Corpus Christi - Free #BeatCorpus t-shirts to first 500 fans
DESCRIPTION:UTRGV Volleyball vs Texas A&M-Corpus Christi – Free #BeatCorpus t-shirts to first 500 fans\nTV: ESPN+ (USA) | Southland International\nStreaming Video: https://www.espn.com/watch/player/_/id/78590a58-aad9-47ec-8e5c-a83c6990295d?om-navmethod=espn:globalsearch:results\nTickets: https://www.showpass.com/2024-2025-volleyball-season-tickets/
URL:https://stayinmcallen.com/events/utrgv-volleyball-vs-texas-am-corpus-christi-3/
LOCATION:Edinburg\, TX\, UTRGV Fieldhouse
CATEGORIES:UTRGV Athletics
END:VEVENT
BEGIN:VEVENT
DTSTART;TZID=America/Chicago:20241008T183000
DTEND;TZID=America/Chicago:20241008T203000
DTSTAMP:20260425T190524
CREATED:20240712T122228Z
LAST-MODIFIED:20240712T122228Z
UID:10000754-1728412200-1728419400@stayinmcallen.com
SUMMARY:UTRGV Volleyball vs Texas A&M-Corpus Christi
DESCRIPTION:UTRGV Volleyball vs Texas A&M-Corpus Christi\nStreaming Video: http://plus.espn.com/\nTickets: https://www.showpass.com/2024-2025-volleyball-season-tickets-2/\n https://goutrgv.com/calendar.aspx?game_id=27459&sport_id=12
URL:https://stayinmcallen.com/events/utrgv-volleyball-vs-texas-am-corpus-christi-4/
LOCATION:Edinburg\, TX\, UTRGV Fieldhouse
CATEGORIES:UTRGV Athletics
END:VEVENT
BEGIN:VEVENT
DTSTART;VALUE=DATE:20241009
DTEND;VALUE=DATE:20241014
DTSTAMP:20260425T190524
CREATED:20240830T140825Z
LAST-MODIFIED:20241004T155113Z
UID:10001122-1728500400-1728845999@stayinmcallen.com
SUMMARY:UTRGV Women's Tennis vs ITA Texas Regional
DESCRIPTION:UTRGV Women’s Tennis vs ITA Texas Regional
URL:https://stayinmcallen.com/events/utrgv-womens-tennis-vs-ita-texas-regional/
LOCATION:Fort Worth\, TX
CATEGORIES:UTRGV Athletics
END:VEVENT
BEGIN:VEVENT
DTSTART;TZID=America/Chicago:20241010T183000
DTEND;TZID=America/Chicago:20241010T203000
DTSTAMP:20260425T190524
CREATED:20240712T122223Z
LAST-MODIFIED:20241004T155033Z
UID:10000752-1728585000-1728592200@stayinmcallen.com
SUMMARY:UTRGV Volleyball vs Northwestern State - Dads and Daughters Night
DESCRIPTION:UTRGV Volleyball vs Northwestern State – Dads and Daughters Night\nTV: ESPN+ (USA) | Southland International\nStreaming Video: http://plus.espn.com/\nTickets: https://www.showpass.com/2024-2025-volleyball-season-tickets/
URL:https://stayinmcallen.com/events/utrgv-volleyball-vs-northwestern-state/
LOCATION:Edinburg\, TX\, UTRGV Fieldhouse
CATEGORIES:UTRGV Athletics
END:VEVENT
BEGIN:VEVENT
DTSTART;TZID=America/Chicago:20241010T183000
DTEND;TZID=America/Chicago:20241010T203000
DTSTAMP:20260425T190524
CREATED:20240712T122233Z
LAST-MODIFIED:20240712T122233Z
UID:10000755-1728585000-1728592200@stayinmcallen.com
SUMMARY:UTRGV Volleyball vs Northwestern State
DESCRIPTION:UTRGV Volleyball vs Northwestern State\nStreaming Video: http://plus.espn.com/\nTickets: https://www.showpass.com/2024-2025-volleyball-season-tickets-2/\n https://goutrgv.com/calendar.aspx?game_id=27460&sport_id=12
URL:https://stayinmcallen.com/events/utrgv-volleyball-vs-northwestern-state-2/
LOCATION:Edinburg\, TX\, UTRGV Fieldhouse
CATEGORIES:UTRGV Athletics
END:VEVENT
BEGIN:VEVENT
DTSTART;TZID=America/Chicago:20241010T183000
DTEND;TZID=America/Chicago:20241010T203000
DTSTAMP:20260425T190524
CREATED:20240719T123822Z
LAST-MODIFIED:20241004T155028Z
UID:10000830-1728585000-1728592200@stayinmcallen.com
SUMMARY:UTRGV Men's Soccer vs Utah Valley
DESCRIPTION:UTRGV Men’s Soccer vs Utah Valley\nTV: ESPN+ (USA) | WAC International\nStreaming Video: http://plus.espn.com/\nTickets: https://www.showpass.com/2024-2025-soccer-season-pass/
URL:https://stayinmcallen.com/events/utrgv-mens-soccer-vs-utah-valley/
LOCATION:Edinburg\, TX\, UTRGV Soccer and Track & Field Complex
CATEGORIES:UTRGV Athletics
END:VEVENT
BEGIN:VEVENT
DTSTART;TZID=America/Chicago:20241011T190000
DTEND;TZID=America/Chicago:20241011T210000
DTSTAMP:20260425T190524
CREATED:20240621T120017Z
LAST-MODIFIED:20241011T160505Z
UID:10000642-1728673200-1728680400@stayinmcallen.com
SUMMARY:UTRGV Women's Soccer at Incarnate Word
DESCRIPTION:UTRGV Women’s Soccer at Incarnate Word\nTV: ESPN+ (USA)\nStreaming Video: http://plus.espn.com/
URL:https://stayinmcallen.com/events/utrgv-womens-soccer-at-incarnate-word-3/
LOCATION:San Antonio\, TX
CATEGORIES:UTRGV Athletics
END:VEVENT
BEGIN:VEVENT
DTSTART;TZID=America/Chicago:20241012T080000
DTEND;TZID=America/Chicago:20241012T110000
DTSTAMP:20260425T190524
CREATED:20240809T132356Z
LAST-MODIFIED:20241011T160518Z
UID:10001058-1728720000-1728730800@stayinmcallen.com
SUMMARY:UTRGV Women's Cross Country  OLLU Cross Country Invite
DESCRIPTION:UTRGV Women’s Cross Country  OLLU Cross Country Invite
URL:https://stayinmcallen.com/events/utrgv-womens-cross-country-west-side-classic/
LOCATION:San Antonio\, TX
CATEGORIES:UTRGV Athletics
END:VEVENT
BEGIN:VEVENT
DTSTART;TZID=America/Chicago:20241012T080000
DTEND;TZID=America/Chicago:20241012T110000
DTSTAMP:20260425T190524
CREATED:20240809T132413Z
LAST-MODIFIED:20240809T132413Z
UID:10001060-1728720000-1728730800@stayinmcallen.com
SUMMARY:UTRGV Women's Cross Country  West Side Classic
DESCRIPTION:UTRGV Women’s Cross Country  West Side Classic\n https://goutrgv.com/calendar.aspx?game_id=27619&sport_id=13
URL:https://stayinmcallen.com/events/utrgv-womens-cross-country-west-side-classic-2/
LOCATION:San Antonio\, TX
CATEGORIES:UTRGV Athletics
END:VEVENT
BEGIN:VEVENT
DTSTART;TZID=America/Chicago:20241012T080000
DTEND;TZID=America/Chicago:20241012T110000
DTSTAMP:20260425T190524
CREATED:20240809T132419Z
LAST-MODIFIED:20240809T132419Z
UID:10001061-1728720000-1728730800@stayinmcallen.com
SUMMARY:UTRGV Men's Cross Country  West Side Classic
DESCRIPTION:UTRGV Men’s Cross Country  West Side Classic\n https://goutrgv.com/calendar.aspx?game_id=27613&sport_id=4
URL:https://stayinmcallen.com/events/utrgv-mens-cross-country-west-side-classic-2/
LOCATION:San Antonio\, TX
CATEGORIES:UTRGV Athletics
END:VEVENT
BEGIN:VEVENT
DTSTART;TZID=America/Chicago:20241012T084500
DTEND;TZID=America/Chicago:20241012T114500
DTSTAMP:20260425T190524
CREATED:20240809T132405Z
LAST-MODIFIED:20241011T160509Z
UID:10001059-1728722700-1728733500@stayinmcallen.com
SUMMARY:UTRGV Men's Cross Country  OLLU Cross Country Invite
DESCRIPTION:UTRGV Men’s Cross Country  OLLU Cross Country Invite
URL:https://stayinmcallen.com/events/utrgv-mens-cross-country-west-side-classic/
LOCATION:San Antonio\, TX
CATEGORIES:UTRGV Athletics
END:VEVENT
BEGIN:VEVENT
DTSTART;TZID=America/Chicago:20241012T110000
DTEND;TZID=America/Chicago:20241012T140000
DTSTAMP:20260425T190524
CREATED:20240816T133843Z
LAST-MODIFIED:20241011T160513Z
UID:10001078-1728730800-1728741600@stayinmcallen.com
SUMMARY:UTRGV Women's Swimming & Diving  Incarnate Word
DESCRIPTION:UTRGV Women’s Swimming & Diving  Incarnate Word\nTV: WAC International\nStreaming Video: http://wacinternational.tv/\nTickets: https://www.showpass.com/2024-25-utrgv-swim-dive-pass/
URL:https://stayinmcallen.com/events/utrgv-womens-swimming-diving-incarnate-word/
LOCATION:Pharr\, TX\, City of Pharr-PSJA Natatorium
CATEGORIES:UTRGV Athletics
END:VEVENT
BEGIN:VEVENT
DTSTART;TZID=America/Chicago:20241012T110000
DTEND;TZID=America/Chicago:20241012T140000
DTSTAMP:20260425T190524
CREATED:20240816T133908Z
LAST-MODIFIED:20240816T133908Z
UID:10001079-1728730800-1728741600@stayinmcallen.com
SUMMARY:UTRGV Women's Swimming & Diving  Incarnate Word
DESCRIPTION:UTRGV Women’s Swimming & Diving  Incarnate Word
URL:https://stayinmcallen.com/events/utrgv-womens-swimming-diving-incarnate-word-2/
LOCATION:Pharr\, TX\, City of Pharr Natatorium
CATEGORIES:UTRGV Athletics
END:VEVENT
BEGIN:VEVENT
DTSTART;TZID=America/Chicago:20241012T140000
DTEND;TZID=America/Chicago:20241012T160000
DTSTAMP:20260425T190524
CREATED:20240712T122235Z
LAST-MODIFIED:20241011T160523Z
UID:10000758-1728741600-1728748800@stayinmcallen.com
SUMMARY:UTRGV Volleyball vs Texas A&M-Commerce - Breast Cancer Awareness
DESCRIPTION:UTRGV Volleyball vs Texas A&M-Commerce – Breast Cancer Awareness\nTV: ESPN+ (USA) | Southland International\nStreaming Video: http://plus.espn.com/\nTickets: https://www.showpass.com/2024-2025-volleyball-season-tickets/
URL:https://stayinmcallen.com/events/utrgv-volleyball-vs-texas-am-commerce/
LOCATION:Edinburg\, TX\, UTRGV Fieldhouse
CATEGORIES:UTRGV Athletics
END:VEVENT
BEGIN:VEVENT
DTSTART;TZID=America/Chicago:20241012T140000
DTEND;TZID=America/Chicago:20241012T160000
DTSTAMP:20260425T190524
CREATED:20240712T122243Z
LAST-MODIFIED:20240712T122243Z
UID:10000756-1728741600-1728748800@stayinmcallen.com
SUMMARY:UTRGV Volleyball vs Texas A&M-Commerce
DESCRIPTION:UTRGV Volleyball vs Texas A&M-Commerce\nStreaming Video: http://plus.espn.com/\nTickets: https://www.showpass.com/2024-2025-volleyball-season-tickets-2/\n https://goutrgv.com/calendar.aspx?game_id=27461&sport_id=12
URL:https://stayinmcallen.com/events/utrgv-volleyball-vs-texas-am-commerce-2/
LOCATION:Edinburg\, TX\, UTRGV Fieldhouse
CATEGORIES:UTRGV Athletics
END:VEVENT
BEGIN:VEVENT
DTSTART;TZID=America/Chicago:20241013T120000
DTEND;TZID=America/Chicago:20241013T140000
DTSTAMP:20260425T190524
CREATED:20240719T123836Z
LAST-MODIFIED:20241011T160528Z
UID:10000831-1728820800-1728828000@stayinmcallen.com
SUMMARY:UTRGV Men's Soccer vs Air Force
DESCRIPTION:UTRGV Men’s Soccer vs Air Force\nTV: ESPN+ (USA) | WAC International\nStreaming Video: http://plus.espn.com/\nTickets: https://www.showpass.com/2024-2025-soccer-season-pass/
URL:https://stayinmcallen.com/events/utrgv-mens-soccer-vs-air-force/
LOCATION:Edinburg\, TX\, UTRGV Soccer and Track & Field Complex
CATEGORIES:UTRGV Athletics
END:VEVENT
BEGIN:VEVENT
DTSTART;VALUE=DATE:20241016
DTEND;VALUE=DATE:20241022
DTSTAMP:20260425T190524
CREATED:20240906T142258Z
LAST-MODIFIED:20241018T162004Z
UID:10001171-1729105200-1729537199@stayinmcallen.com
SUMMARY:UTRGV Men's Tennis vs ITA Texas Regional
DESCRIPTION:UTRGV Men’s Tennis vs ITA Texas Regional
URL:https://stayinmcallen.com/events/utrgv-mens-tennis-vs-ita-texas-regional/
LOCATION:Waco\, TX
CATEGORIES:UTRGV Athletics
END:VEVENT
BEGIN:VEVENT
DTSTART;TZID=America/Chicago:20241017T183000
DTEND;TZID=America/Chicago:20241017T203000
DTSTAMP:20260425T190524
CREATED:20240712T122241Z
LAST-MODIFIED:20241011T160532Z
UID:10000759-1729189800-1729197000@stayinmcallen.com
SUMMARY:UTRGV Volleyball at Northwestern State
DESCRIPTION:UTRGV Volleyball at Northwestern State\nTV: ESPN+ (USA) | Southland International\nStreaming Video: http://plus.espn.com/
URL:https://stayinmcallen.com/events/utrgv-volleyball-at-northwestern-state/
LOCATION:Natchitoches\, LA
CATEGORIES:UTRGV Athletics
END:VEVENT
BEGIN:VEVENT
DTSTART;TZID=America/Chicago:20241017T183000
DTEND;TZID=America/Chicago:20241017T203000
DTSTAMP:20260425T190524
CREATED:20240712T122249Z
LAST-MODIFIED:20240712T122249Z
UID:10000757-1729189800-1729197000@stayinmcallen.com
SUMMARY:UTRGV Volleyball at Northwestern State
DESCRIPTION:UTRGV Volleyball at Northwestern State\nStreaming Video: http://plus.espn.com/\n https://goutrgv.com/calendar.aspx?game_id=27462&sport_id=12
URL:https://stayinmcallen.com/events/utrgv-volleyball-at-northwestern-state-2/
LOCATION:Natchitoches\, LA
CATEGORIES:UTRGV Athletics
END:VEVENT
BEGIN:VEVENT
DTSTART;TZID=America/Chicago:20241017T220000
DTEND;TZID=America/Chicago:20241017T235900
DTSTAMP:20260425T190524
CREATED:20240719T123849Z
LAST-MODIFIED:20241011T160537Z
UID:10000832-1729202400-1729209540@stayinmcallen.com
SUMMARY:UTRGV Men's Soccer at UNLV
DESCRIPTION:UTRGV Men’s Soccer at UNLV\nTV: ESPN+ (USA) | WAC International\nStreaming Video: http://plus.espn.com/
URL:https://stayinmcallen.com/events/utrgv-mens-soccer-at-unlv/
LOCATION:Las Vegas\, NV
CATEGORIES:UTRGV Athletics
END:VEVENT
END:VCALENDAR