BEGIN:VCALENDAR
VERSION:2.0
PRODID:-//Stayinmcallen - ECPv6.15.20//NONSGML v1.0//EN
CALSCALE:GREGORIAN
METHOD:PUBLISH
X-WR-CALNAME:Stayinmcallen
X-ORIGINAL-URL:https://stayinmcallen.com
X-WR-CALDESC:Events for Stayinmcallen
REFRESH-INTERVAL;VALUE=DURATION:PT1H
X-Robots-Tag:noindex
X-PUBLISHED-TTL:PT1H
BEGIN:VTIMEZONE
TZID:America/Chicago
BEGIN:DAYLIGHT
TZOFFSETFROM:-0600
TZOFFSETTO:-0500
TZNAME:CDT
DTSTART:20230312T080000
END:DAYLIGHT
BEGIN:STANDARD
TZOFFSETFROM:-0500
TZOFFSETTO:-0600
TZNAME:CST
DTSTART:20231105T070000
END:STANDARD
BEGIN:DAYLIGHT
TZOFFSETFROM:-0600
TZOFFSETTO:-0500
TZNAME:CDT
DTSTART:20240310T080000
END:DAYLIGHT
BEGIN:STANDARD
TZOFFSETFROM:-0500
TZOFFSETTO:-0600
TZNAME:CST
DTSTART:20241103T070000
END:STANDARD
BEGIN:DAYLIGHT
TZOFFSETFROM:-0600
TZOFFSETTO:-0500
TZNAME:CDT
DTSTART:20250309T080000
END:DAYLIGHT
BEGIN:STANDARD
TZOFFSETFROM:-0500
TZOFFSETTO:-0600
TZNAME:CST
DTSTART:20251102T070000
END:STANDARD
END:VTIMEZONE
BEGIN:VEVENT
DTSTART;VALUE=DATE:20241104
DTEND;VALUE=DATE:20241106
DTSTAMP:20260425T190531
CREATED:20240802T131109Z
LAST-MODIFIED:20240802T131109Z
UID:10001001-1730743200-1730829599@stayinmcallen.com
SUMMARY:UTRGV Women's Basketball at Houston
DESCRIPTION:UTRGV Women’s Basketball at Houston\nStreaming Video: http://plus.espn.com/\nStreaming Audio: https://uhcougars.com/watch?Archive=3561&type=Live\n https://goutrgv.com/calendar.aspx?game_id=27598&sport_id=8
URL:https://stayinmcallen.com/events/utrgv-womens-basketball-at-houston-2/
LOCATION:Houston\, TX
CATEGORIES:UTRGV Athletics
END:VEVENT
BEGIN:VEVENT
DTSTART;TZID=America/Chicago:20241105T130000
DTEND;TZID=America/Chicago:20241105T150000
DTSTAMP:20260425T190531
CREATED:20240621T120049Z
LAST-MODIFIED:20241101T171550Z
UID:10000647-1730811600-1730818800@stayinmcallen.com
SUMMARY:UTRGV Women's Soccer vs Quarterfinals
DESCRIPTION:UTRGV Women’s Soccer vs Quarterfinals\nTV: ESPN+ (USA) | Southland International\nStreaming Video: http://plus.espn.com/
URL:https://stayinmcallen.com/events/utrgv-womens-soccer-vs-slc-tournament-quarterfinals/
LOCATION:Corpus Christi\, TX
CATEGORIES:UTRGV Athletics
END:VEVENT
BEGIN:VEVENT
DTSTART;TZID=America/Chicago:20241105T190000
DTEND;TZID=America/Chicago:20241105T210000
DTSTAMP:20260425T190531
CREATED:20240802T131057Z
LAST-MODIFIED:20241101T171554Z
UID:10001000-1730833200-1730840400@stayinmcallen.com
SUMMARY:UTRGV Women's Basketball at Houston
DESCRIPTION:UTRGV Women’s Basketball at Houston\nTV: Big 12 Now on ESPN+\nStreaming Video: http://plus.espn.com/\nStreaming Audio: https://uhcougars.com/watch?Archive=3561&type=Live
URL:https://stayinmcallen.com/events/utrgv-womens-basketball-at-houston/
LOCATION:Houston\, TX
CATEGORIES:UTRGV Athletics
END:VEVENT
BEGIN:VEVENT
DTSTART;TZID=America/Chicago:20241106T200000
DTEND;TZID=America/Chicago:20241106T220000
DTSTAMP:20260425T190531
CREATED:20240906T142534Z
LAST-MODIFIED:20241101T171601Z
UID:10001174-1730923200-1730930400@stayinmcallen.com
SUMMARY:UTRGV Men's Basketball at Creighton
DESCRIPTION:UTRGV Men’s Basketball at Creighton\nTV: FS2\nStreaming Video: https://www.foxsports.com/live
URL:https://stayinmcallen.com/events/utrgv-mens-basketball-at-creighton/
LOCATION:Omaha\, NE
CATEGORIES:UTRGV Athletics
END:VEVENT
BEGIN:VEVENT
DTSTART;TZID=America/Chicago:20241107T160000
DTEND;TZID=America/Chicago:20241107T180000
DTSTAMP:20260425T190531
CREATED:20240621T120055Z
LAST-MODIFIED:20241101T171615Z
UID:10000648-1730995200-1731002400@stayinmcallen.com
SUMMARY:UTRGV Women's Soccer vs Semifinals
DESCRIPTION:UTRGV Women’s Soccer vs Semifinals\nTV: ESPN+ (USA) | Southland International\nStreaming Video: http://plus.espn.com/
URL:https://stayinmcallen.com/events/utrgv-womens-soccer-vs-slc-tournament-semifinals/
LOCATION:Corpus Christi\, TX
CATEGORIES:UTRGV Athletics
END:VEVENT
BEGIN:VEVENT
DTSTART;VALUE=DATE:20241107
DTEND;VALUE=DATE:20241110
DTSTAMP:20260425T190531
CREATED:20240830T141111Z
LAST-MODIFIED:20241108T173017Z
UID:10001127-1731002400-1731175199@stayinmcallen.com
SUMMARY:UTRGV Women's Tennis at Rice Invitational
DESCRIPTION:UTRGV Women’s Tennis at Rice Invitational
URL:https://stayinmcallen.com/events/utrgv-womens-tennis-at-rice-invitational/
LOCATION:Houston\, TX
CATEGORIES:UTRGV Athletics
END:VEVENT
BEGIN:VEVENT
DTSTART;TZID=America/Chicago:20241107T183000
DTEND;TZID=America/Chicago:20241107T203000
DTSTAMP:20260425T190531
CREATED:20240712T122350Z
LAST-MODIFIED:20241101T171619Z
UID:10000768-1731004200-1731011400@stayinmcallen.com
SUMMARY:UTRGV Volleyball at New Orleans
DESCRIPTION:UTRGV Volleyball at New Orleans\nTV: ESPN+ (USA) | Southland International\nStreaming Video: http://plus.espn.com/
URL:https://stayinmcallen.com/events/utrgv-volleyball-at-new-orleans/
LOCATION:New Orleans\, LA
CATEGORIES:UTRGV Athletics
END:VEVENT
BEGIN:VEVENT
DTSTART;TZID=America/Chicago:20241108T173000
DTEND;TZID=America/Chicago:20241108T203000
DTSTAMP:20260425T190531
CREATED:20241018T162521Z
LAST-MODIFIED:20241108T173021Z
UID:10001253-1731087000-1731097800@stayinmcallen.com
SUMMARY:UTRGV Women's Swimming & Diving  New Mexico State Relays
DESCRIPTION:UTRGV Women’s Swimming & Diving  New Mexico State Relays
URL:https://stayinmcallen.com/events/utrgv-womens-swimming-diving-new-mexico-state-relays/
LOCATION:Las Cruces\, NM
CATEGORIES:UTRGV Athletics
END:VEVENT
BEGIN:VEVENT
DTSTART;VALUE=DATE:20241108
DTEND;VALUE=DATE:20241110
DTSTAMP:20260425T190531
CREATED:20240802T131127Z
LAST-MODIFIED:20240802T131127Z
UID:10001002-1731088800-1731175199@stayinmcallen.com
SUMMARY:UTRGV Women's Basketball at UTSA
DESCRIPTION:UTRGV Women’s Basketball at UTSA\nStreaming Video: https://www.espn.com/search/_/q/utsa/o/watch/appearance/dark\nStreaming Audio: https://www.iheart.com/live/ticket-760-2353/\n https://goutrgv.com/calendar.aspx?game_id=27599&sport_id=8
URL:https://stayinmcallen.com/events/utrgv-womens-basketball-at-utsa-2/
LOCATION:San Antonio\, TX
CATEGORIES:UTRGV Athletics
END:VEVENT
BEGIN:VEVENT
DTSTART;TZID=America/Chicago:20241109T120000
DTEND;TZID=America/Chicago:20241109T140000
DTSTAMP:20260425T190531
CREATED:20240712T122356Z
LAST-MODIFIED:20241108T173026Z
UID:10000769-1731153600-1731160800@stayinmcallen.com
SUMMARY:UTRGV Volleyball at Southeastern
DESCRIPTION:UTRGV Volleyball at Southeastern\nTV: ESPN+ (USA)\nStreaming Video: https://www.espn.com/watch/catalog/01209caa-9a9a-4275-b784-c8cdff2fbd7c/southland-conference#bucketId=29784&sourceCollection=Browse_By_Top_Conferences
URL:https://stayinmcallen.com/events/utrgv-volleyball-at-southeastern/
LOCATION:Hammond\, LA
CATEGORIES:UTRGV Athletics
END:VEVENT
BEGIN:VEVENT
DTSTART;TZID=America/Chicago:20241109T123000
DTEND;TZID=America/Chicago:20241109T153000
DTSTAMP:20260425T190531
CREATED:20240816T134102Z
LAST-MODIFIED:20241108T173031Z
UID:10001081-1731155400-1731166200@stayinmcallen.com
SUMMARY:UTRGV Women's Swimming & Diving  New Mexico State\, Northern Arizona
DESCRIPTION:UTRGV Women’s Swimming & Diving  New Mexico State\, Northern Arizona
URL:https://stayinmcallen.com/events/utrgv-womens-swimming-diving-new-mexico-state-northern-arizona/
LOCATION:Las Cruces\, NM
CATEGORIES:UTRGV Athletics
END:VEVENT
BEGIN:VEVENT
DTSTART;TZID=America/Chicago:20241109T140000
DTEND;TZID=America/Chicago:20241109T160000
DTSTAMP:20260425T190531
CREATED:20240802T131118Z
LAST-MODIFIED:20241108T173037Z
UID:10001003-1731160800-1731168000@stayinmcallen.com
SUMMARY:UTRGV Women's Basketball at UTSA
DESCRIPTION:UTRGV Women’s Basketball at UTSA\nTV: ESPN+\nStreaming Video: https://www.espn.com/watch/catalog/56d874fa-ff97-41c3-8bc6-07b208281482/american-athletic-conference#bucketId=29784&sourceCollection=Browse_By_Top_Conferences\nStreaming Audio: https://thebullcountry.iheart.com/
URL:https://stayinmcallen.com/events/utrgv-womens-basketball-at-utsa/
LOCATION:San Antonio\, TX
CATEGORIES:UTRGV Athletics
END:VEVENT
BEGIN:VEVENT
DTSTART;VALUE=DATE:20241109
DTEND;VALUE=DATE:20241111
DTSTAMP:20260425T190531
CREATED:20240719T124036Z
LAST-MODIFIED:20241101T171647Z
UID:10000842-1731175200-1731261599@stayinmcallen.com
SUMMARY:UTRGV Men's Soccer vs Quarterfinals
DESCRIPTION:UTRGV Men’s Soccer vs Quarterfinals
URL:https://stayinmcallen.com/events/utrgv-mens-soccer-vs-quarterfinals-3/
LOCATION:Phoenix\, AZ
CATEGORIES:UTRGV Athletics
END:VEVENT
BEGIN:VEVENT
DTSTART;TZID=America/Chicago:20241110T130000
DTEND;TZID=America/Chicago:20241110T150000
DTSTAMP:20260425T190531
CREATED:20240621T120101Z
LAST-MODIFIED:20241101T171652Z
UID:10000649-1731243600-1731250800@stayinmcallen.com
SUMMARY:UTRGV Women's Soccer vs Championship
DESCRIPTION:UTRGV Women’s Soccer vs Championship\nTV: ESPN+ (USA) | Southland International\nStreaming Video: http://plus.espn.com/
URL:https://stayinmcallen.com/events/utrgv-womens-soccer-vs-slc-tournament-championship/
LOCATION:Corpus Christi\, TX
CATEGORIES:UTRGV Athletics
END:VEVENT
BEGIN:VEVENT
DTSTART;TZID=America/Chicago:20241110T183000
DTEND;TZID=America/Chicago:20241110T203000
DTSTAMP:20260425T190531
CREATED:20240906T142616Z
LAST-MODIFIED:20241108T173044Z
UID:10001175-1731263400-1731270600@stayinmcallen.com
SUMMARY:UTRGV Men's Basketball vs Champion Christian College
DESCRIPTION:UTRGV Men’s Basketball vs Champion Christian College\nTV: ESPN+ (USA)\nStreaming Video: http://plus.espn.com/
URL:https://stayinmcallen.com/events/utrgv-mens-basketball-vs-champion-christian-college/
LOCATION:Edinburg\, TX\, UTRGV Fieldhouse
CATEGORIES:UTRGV Athletics
END:VEVENT
BEGIN:VEVENT
DTSTART;TZID=America/Chicago:20241111T190000
DTEND;TZID=America/Chicago:20241111T210000
DTSTAMP:20260425T190531
CREATED:20240802T131139Z
LAST-MODIFIED:20241108T173049Z
UID:10001004-1731351600-1731358800@stayinmcallen.com
SUMMARY:UTRGV Women's Basketball at Oral Roberts
DESCRIPTION:UTRGV Women’s Basketball at Oral Roberts\nStreaming Video: https://www.midcosportsplus.com/
URL:https://stayinmcallen.com/events/utrgv-womens-basketball-at-oral-roberts/
LOCATION:Tulsa\, OK
CATEGORIES:UTRGV Athletics
END:VEVENT
BEGIN:VEVENT
DTSTART;VALUE=DATE:20241112
DTEND;VALUE=DATE:20241114
DTSTAMP:20260425T190531
CREATED:20240719T124042Z
LAST-MODIFIED:20241101T171720Z
UID:10000843-1731434400-1731520799@stayinmcallen.com
SUMMARY:UTRGV Men's Soccer vs Semifinals
DESCRIPTION:UTRGV Men’s Soccer vs Semifinals
URL:https://stayinmcallen.com/events/utrgv-mens-soccer-vs-semifinals-2/
LOCATION:Phoenix\, AZ
CATEGORIES:UTRGV Athletics
END:VEVENT
BEGIN:VEVENT
DTSTART;VALUE=DATE:20241112
DTEND;VALUE=DATE:20241114
DTSTAMP:20260425T190531
CREATED:20240719T124111Z
LAST-MODIFIED:20240719T124111Z
UID:10000845-1731434400-1731520799@stayinmcallen.com
SUMMARY:UTRGV Men's Soccer vs Semifinals
DESCRIPTION:UTRGV Men’s Soccer vs Semifinals\n https://goutrgv.com/calendar.aspx?game_id=27573&sport_id=16
URL:https://stayinmcallen.com/events/utrgv-mens-soccer-vs-semifinals-3/
LOCATION:Phoenix\, AZ
CATEGORIES:UTRGV Athletics
END:VEVENT
BEGIN:VEVENT
DTSTART;VALUE=DATE:20241114
DTEND;VALUE=DATE:20241116
DTSTAMP:20260425T190531
CREATED:20240809T132708Z
LAST-MODIFIED:20241115T174513Z
UID:10001066-1731607200-1731693599@stayinmcallen.com
SUMMARY:UTRGV Men's Cross Country  NCAA South Central Regional
DESCRIPTION:UTRGV Men’s Cross Country  NCAA South Central Regional
URL:https://stayinmcallen.com/events/utrgv-mens-cross-country-ncaa-south-central-regional-3/
LOCATION:College Station\, TX
CATEGORIES:UTRGV Athletics
END:VEVENT
BEGIN:VEVENT
DTSTART;VALUE=DATE:20241114
DTEND;VALUE=DATE:20241116
DTSTAMP:20260425T190531
CREATED:20240809T132715Z
LAST-MODIFIED:20241115T174527Z
UID:10001067-1731607200-1731693599@stayinmcallen.com
SUMMARY:UTRGV Women's Cross Country  NCAA South Central Regional
DESCRIPTION:UTRGV Women’s Cross Country  NCAA South Central Regional
URL:https://stayinmcallen.com/events/utrgv-womens-cross-country-ncaa-south-central-regional-3/
LOCATION:College Station\, TX
CATEGORIES:UTRGV Athletics
END:VEVENT
BEGIN:VEVENT
DTSTART;TZID=America/Chicago:20241114T183000
DTEND;TZID=America/Chicago:20241114T203000
DTSTAMP:20260425T190531
CREATED:20240712T122409Z
LAST-MODIFIED:20241108T173053Z
UID:10000770-1731609000-1731616200@stayinmcallen.com
SUMMARY:UTRGV Volleyball vs Incarnate Word - 956 Night | Senior Night
DESCRIPTION:UTRGV Volleyball vs Incarnate Word – 956 Night | Senior Night\nTV: ESPN+ (USA) | Southland International\nStreaming Video: http://plus.espn.com/\nTickets: https://www.showpass.com/2024-2025-volleyball-season-tickets/
URL:https://stayinmcallen.com/events/utrgv-volleyball-vs-incarnate-word-3/
LOCATION:Edinburg\, TX\, UTRGV Fieldhouse
CATEGORIES:UTRGV Athletics
END:VEVENT
BEGIN:VEVENT
DTSTART;TZID=America/Chicago:20241114T183000
DTEND;TZID=America/Chicago:20241114T203000
DTSTAMP:20260425T190531
CREATED:20240712T122423Z
LAST-MODIFIED:20240712T122423Z
UID:10000776-1731609000-1731616200@stayinmcallen.com
SUMMARY:UTRGV Volleyball vs Incarnate Word
DESCRIPTION:UTRGV Volleyball vs Incarnate Word\nStreaming Video: http://plus.espn.com/\nTickets: https://www.showpass.com/2024-2025-volleyball-season-tickets-2/\n https://goutrgv.com/calendar.aspx?game_id=27470&sport_id=12
URL:https://stayinmcallen.com/events/utrgv-volleyball-vs-incarnate-word-4/
LOCATION:Edinburg\, TX\, UTRGV Fieldhouse
CATEGORIES:UTRGV Athletics
END:VEVENT
BEGIN:VEVENT
DTSTART;TZID=America/Chicago:20241115T120000
DTEND;TZID=America/Chicago:20241115T140000
DTSTAMP:20260425T190531
CREATED:20240712T122416Z
LAST-MODIFIED:20241115T174518Z
UID:10000771-1731672000-1731679200@stayinmcallen.com
SUMMARY:UTRGV Men's Basketball vs Charleston Southern
DESCRIPTION:UTRGV Men’s Basketball vs Charleston Southern\nStreaming Video: https://passthaballlive.com/category/live-events/greenbrier-tip-off/
URL:https://stayinmcallen.com/events/utrgv-mens-basketball-vs-charleston-southern/
LOCATION:White Sulphur Springs\, WV
CATEGORIES:UTRGV Athletics
END:VEVENT
BEGIN:VEVENT
DTSTART;TZID=America/Chicago:20241115T120000
DTEND;TZID=America/Chicago:20241115T140000
DTSTAMP:20260425T190531
CREATED:20240712T122429Z
LAST-MODIFIED:20240712T122429Z
UID:10000777-1731672000-1731679200@stayinmcallen.com
SUMMARY:UTRGV Men's Basketball vs Charleston Southern
DESCRIPTION:UTRGV Men’s Basketball vs Charleston Southern\nStreaming Video: http://plus.espn.com/\n https://goutrgv.com/calendar.aspx?game_id=27520&sport_id=3
URL:https://stayinmcallen.com/events/utrgv-mens-basketball-vs-charleston-southern-2/
LOCATION:White Sulphur Springs\, WV
CATEGORIES:UTRGV Athletics
END:VEVENT
BEGIN:VEVENT
DTSTART;VALUE=DATE:20241115
DTEND;VALUE=DATE:20241117
DTSTAMP:20260425T190531
CREATED:20240712T122428Z
LAST-MODIFIED:20241115T174523Z
UID:10000772-1731693600-1731779999@stayinmcallen.com
SUMMARY:UTRGV Men's Basketball vs VMI/Tennessee Tech
DESCRIPTION:UTRGV Men’s Basketball vs VMI/Tennessee Tech\nStreaming Video: https://passthaballlive.com/category/live-events/greenbrier-tip-off/
URL:https://stayinmcallen.com/events/utrgv-mens-basketball-vs-vmi-tennessee-tech/
LOCATION:White Sulphur Springs\, WV
CATEGORIES:UTRGV Athletics
END:VEVENT
BEGIN:VEVENT
DTSTART;VALUE=DATE:20241115
DTEND;VALUE=DATE:20241117
DTSTAMP:20260425T190531
CREATED:20240712T122439Z
LAST-MODIFIED:20240712T122439Z
UID:10000778-1731693600-1731779999@stayinmcallen.com
SUMMARY:UTRGV Men's Basketball vs VMI/Tennessee Tech
DESCRIPTION:UTRGV Men’s Basketball vs VMI/Tennessee Tech\nStreaming Video: http://plus.espn.com/\n https://goutrgv.com/calendar.aspx?game_id=27521&sport_id=3
URL:https://stayinmcallen.com/events/utrgv-mens-basketball-vs-vmi-tennessee-tech-2/
LOCATION:White Sulphur Springs\, WV
CATEGORIES:UTRGV Athletics
END:VEVENT
BEGIN:VEVENT
DTSTART;VALUE=DATE:20241115
DTEND;VALUE=DATE:20241117
DTSTAMP:20260425T190531
CREATED:20240719T124108Z
LAST-MODIFIED:20241101T171753Z
UID:10000844-1731693600-1731779999@stayinmcallen.com
SUMMARY:UTRGV Men's Soccer vs Championship
DESCRIPTION:UTRGV Men’s Soccer vs Championship
URL:https://stayinmcallen.com/events/utrgv-mens-soccer-vs-championship-2/
LOCATION:Phoenix\, AZ
CATEGORIES:UTRGV Athletics
END:VEVENT
BEGIN:VEVENT
DTSTART;TZID=America/Chicago:20241115T190000
DTEND;TZID=America/Chicago:20241115T210000
DTSTAMP:20260425T190531
CREATED:20240621T120108Z
LAST-MODIFIED:20241101T171743Z
UID:10000650-1731697200-1731704400@stayinmcallen.com
SUMMARY:UTRGV Women's Soccer vs First Round
DESCRIPTION:UTRGV Women’s Soccer vs First Round
URL:https://stayinmcallen.com/events/utrgv-womens-soccer-vs-ncaa-tournament-first-round/
LOCATION:TBD
CATEGORIES:UTRGV Athletics
END:VEVENT
BEGIN:VEVENT
DTSTART;TZID=America/Chicago:20241116T140000
DTEND;TZID=America/Chicago:20241116T160000
DTSTAMP:20260425T190531
CREATED:20240712T122434Z
LAST-MODIFIED:20241115T174532Z
UID:10000773-1731765600-1731772800@stayinmcallen.com
SUMMARY:UTRGV Volleyball vs Houston Christian - Community Heroes Day
DESCRIPTION:UTRGV Volleyball vs Houston Christian – Community Heroes Day\nTV: ESPN+ (USA) | Southland International\nStreaming Video: http://plus.espn.com/\nTickets: https://www.showpass.com/2024-2025-volleyball-season-tickets/
URL:https://stayinmcallen.com/events/utrgv-volleyball-vs-houston-christian/
LOCATION:Edinburg\, TX\, UTRGV Fieldhouse
CATEGORIES:UTRGV Athletics
END:VEVENT
BEGIN:VEVENT
DTSTART;TZID=America/Chicago:20241116T140000
DTEND;TZID=America/Chicago:20241116T160000
DTSTAMP:20260425T190531
CREATED:20240712T122445Z
LAST-MODIFIED:20240712T122445Z
UID:10000779-1731765600-1731772800@stayinmcallen.com
SUMMARY:UTRGV Volleyball vs Houston Christian
DESCRIPTION:UTRGV Volleyball vs Houston Christian\nStreaming Video: http://plus.espn.com/\nTickets: https://www.showpass.com/2024-2025-volleyball-season-tickets-2/\n https://goutrgv.com/calendar.aspx?game_id=27471&sport_id=12
URL:https://stayinmcallen.com/events/utrgv-volleyball-vs-houston-christian-2/
LOCATION:Edinburg\, TX\, UTRGV Fieldhouse
CATEGORIES:UTRGV Athletics
END:VEVENT
END:VCALENDAR