BEGIN:VCALENDAR
VERSION:2.0
PRODID:-//Stayinmcallen - ECPv6.15.20//NONSGML v1.0//EN
CALSCALE:GREGORIAN
METHOD:PUBLISH
X-WR-CALNAME:Stayinmcallen
X-ORIGINAL-URL:https://stayinmcallen.com
X-WR-CALDESC:Events for Stayinmcallen
REFRESH-INTERVAL;VALUE=DURATION:PT1H
X-Robots-Tag:noindex
X-PUBLISHED-TTL:PT1H
BEGIN:VTIMEZONE
TZID:America/Chicago
BEGIN:DAYLIGHT
TZOFFSETFROM:-0600
TZOFFSETTO:-0500
TZNAME:CDT
DTSTART:20230312T080000
END:DAYLIGHT
BEGIN:STANDARD
TZOFFSETFROM:-0500
TZOFFSETTO:-0600
TZNAME:CST
DTSTART:20231105T070000
END:STANDARD
BEGIN:DAYLIGHT
TZOFFSETFROM:-0600
TZOFFSETTO:-0500
TZNAME:CDT
DTSTART:20240310T080000
END:DAYLIGHT
BEGIN:STANDARD
TZOFFSETFROM:-0500
TZOFFSETTO:-0600
TZNAME:CST
DTSTART:20241103T070000
END:STANDARD
BEGIN:DAYLIGHT
TZOFFSETFROM:-0600
TZOFFSETTO:-0500
TZNAME:CDT
DTSTART:20250309T080000
END:DAYLIGHT
BEGIN:STANDARD
TZOFFSETFROM:-0500
TZOFFSETTO:-0600
TZNAME:CST
DTSTART:20251102T070000
END:STANDARD
END:VTIMEZONE
BEGIN:VEVENT
DTSTART;VALUE=DATE:20241115
DTEND;VALUE=DATE:20241117
DTSTAMP:20260425T190530
CREATED:20240712T122428Z
LAST-MODIFIED:20241115T174523Z
UID:10000772-1731693600-1731779999@stayinmcallen.com
SUMMARY:UTRGV Men's Basketball vs VMI/Tennessee Tech
DESCRIPTION:UTRGV Men’s Basketball vs VMI/Tennessee Tech\nStreaming Video: https://passthaballlive.com/category/live-events/greenbrier-tip-off/
URL:https://stayinmcallen.com/events/utrgv-mens-basketball-vs-vmi-tennessee-tech/
LOCATION:White Sulphur Springs\, WV
CATEGORIES:UTRGV Athletics
END:VEVENT
BEGIN:VEVENT
DTSTART;VALUE=DATE:20241115
DTEND;VALUE=DATE:20241117
DTSTAMP:20260425T190530
CREATED:20240712T122439Z
LAST-MODIFIED:20240712T122439Z
UID:10000778-1731693600-1731779999@stayinmcallen.com
SUMMARY:UTRGV Men's Basketball vs VMI/Tennessee Tech
DESCRIPTION:UTRGV Men’s Basketball vs VMI/Tennessee Tech\nStreaming Video: http://plus.espn.com/\n https://goutrgv.com/calendar.aspx?game_id=27521&sport_id=3
URL:https://stayinmcallen.com/events/utrgv-mens-basketball-vs-vmi-tennessee-tech-2/
LOCATION:White Sulphur Springs\, WV
CATEGORIES:UTRGV Athletics
END:VEVENT
BEGIN:VEVENT
DTSTART;VALUE=DATE:20241115
DTEND;VALUE=DATE:20241117
DTSTAMP:20260425T190530
CREATED:20240719T124108Z
LAST-MODIFIED:20241101T171753Z
UID:10000844-1731693600-1731779999@stayinmcallen.com
SUMMARY:UTRGV Men's Soccer vs Championship
DESCRIPTION:UTRGV Men’s Soccer vs Championship
URL:https://stayinmcallen.com/events/utrgv-mens-soccer-vs-championship-2/
LOCATION:Phoenix\, AZ
CATEGORIES:UTRGV Athletics
END:VEVENT
BEGIN:VEVENT
DTSTART;TZID=America/Chicago:20241116T140000
DTEND;TZID=America/Chicago:20241116T160000
DTSTAMP:20260425T190530
CREATED:20240712T122434Z
LAST-MODIFIED:20241115T174532Z
UID:10000773-1731765600-1731772800@stayinmcallen.com
SUMMARY:UTRGV Volleyball vs Houston Christian - Community Heroes Day
DESCRIPTION:UTRGV Volleyball vs Houston Christian – Community Heroes Day\nTV: ESPN+ (USA) | Southland International\nStreaming Video: http://plus.espn.com/\nTickets: https://www.showpass.com/2024-2025-volleyball-season-tickets/
URL:https://stayinmcallen.com/events/utrgv-volleyball-vs-houston-christian/
LOCATION:Edinburg\, TX\, UTRGV Fieldhouse
CATEGORIES:UTRGV Athletics
END:VEVENT
BEGIN:VEVENT
DTSTART;TZID=America/Chicago:20241116T140000
DTEND;TZID=America/Chicago:20241116T160000
DTSTAMP:20260425T190530
CREATED:20240712T122445Z
LAST-MODIFIED:20240712T122445Z
UID:10000779-1731765600-1731772800@stayinmcallen.com
SUMMARY:UTRGV Volleyball vs Houston Christian
DESCRIPTION:UTRGV Volleyball vs Houston Christian\nStreaming Video: http://plus.espn.com/\nTickets: https://www.showpass.com/2024-2025-volleyball-season-tickets-2/\n https://goutrgv.com/calendar.aspx?game_id=27471&sport_id=12
URL:https://stayinmcallen.com/events/utrgv-volleyball-vs-houston-christian-2/
LOCATION:Edinburg\, TX\, UTRGV Fieldhouse
CATEGORIES:UTRGV Athletics
END:VEVENT
BEGIN:VEVENT
DTSTART;TZID=America/Chicago:20241117T130000
DTEND;TZID=America/Chicago:20241117T150000
DTSTAMP:20260425T190530
CREATED:20240802T131222Z
LAST-MODIFIED:20241115T174536Z
UID:10001005-1731848400-1731855600@stayinmcallen.com
SUMMARY:UTRGV Women's Basketball at South Florida
DESCRIPTION:UTRGV Women’s Basketball at South Florida\nTV: ESPN+\nStreaming Video: http://plus.espn.com/\nStreaming Audio: https://gousfbulls.com/sports/2022/7/17/weekly-schedule.aspx
URL:https://stayinmcallen.com/events/utrgv-womens-basketball-at-south-florida/
LOCATION:Tampa\, FL
CATEGORIES:UTRGV Athletics
END:VEVENT
BEGIN:VEVENT
DTSTART;TZID=America/Chicago:20241118T190000
DTEND;TZID=America/Chicago:20241118T210000
DTSTAMP:20260425T190530
CREATED:20240906T142717Z
LAST-MODIFIED:20241115T174541Z
UID:10001176-1731956400-1731963600@stayinmcallen.com
SUMMARY:UTRGV Men's Basketball at Wisconsin (RV)
DESCRIPTION:UTRGV Men’s Basketball at Wisconsin (RV)\nTV: B1G Network\nStreaming Video: https://btn.com/
URL:https://stayinmcallen.com/events/utrgv-mens-basketball-at-wisconsin/
LOCATION:Madison\, WI
CATEGORIES:UTRGV Athletics
END:VEVENT
BEGIN:VEVENT
DTSTART;VALUE=DATE:20241120
DTEND;VALUE=DATE:20241122
DTSTAMP:20260425T190530
CREATED:20240712T122439Z
LAST-MODIFIED:20240830T141328Z
UID:10000774-1732125600-1732211999@stayinmcallen.com
SUMMARY:UTRGV Volleyball vs First Round
DESCRIPTION:UTRGV Volleyball vs First Round\nTV: ESPN+ (USA) | Southland International\nStreaming Video: http://plus.espn.com/
URL:https://stayinmcallen.com/events/utrgv-volleyball-vs-first-round/
LOCATION:Hammond\, LA
CATEGORIES:UTRGV Athletics
END:VEVENT
BEGIN:VEVENT
DTSTART;VALUE=DATE:20241120
DTEND;VALUE=DATE:20241122
DTSTAMP:20260425T190530
CREATED:20240712T122450Z
LAST-MODIFIED:20240712T122450Z
UID:10000780-1732125600-1732211999@stayinmcallen.com
SUMMARY:UTRGV Volleyball vs First Round
DESCRIPTION:UTRGV Volleyball vs First Round\nStreaming Video: http://plus.espn.com/\n https://goutrgv.com/calendar.aspx?game_id=27472&sport_id=12
URL:https://stayinmcallen.com/events/utrgv-volleyball-vs-first-round-2/
LOCATION:Hammond\, LA
CATEGORIES:UTRGV Athletics
END:VEVENT
BEGIN:VEVENT
DTSTART;VALUE=DATE:20241120
DTEND;VALUE=DATE:20241122
DTSTAMP:20260425T190530
CREATED:20240719T124128Z
LAST-MODIFIED:20241101T171824Z
UID:10000846-1732125600-1732211999@stayinmcallen.com
SUMMARY:UTRGV Men's Soccer vs First Round
DESCRIPTION:UTRGV Men’s Soccer vs First Round
URL:https://stayinmcallen.com/events/utrgv-mens-soccer-vs-first-round-2/
LOCATION:TBD
CATEGORIES:UTRGV Athletics
END:VEVENT
BEGIN:VEVENT
DTSTART;VALUE=DATE:20241121
DTEND;VALUE=DATE:20241124
DTSTAMP:20260425T190530
CREATED:20240816T134249Z
LAST-MODIFIED:20241122T180027Z
UID:10001082-1732212000-1732384799@stayinmcallen.com
SUMMARY:UTRGV Women's Swimming & Diving  Vandal Invite (Swim Only)
DESCRIPTION:UTRGV Women’s Swimming & Diving  Vandal Invite (Swim Only)
URL:https://stayinmcallen.com/events/utrgv-womens-swimming-diving-idaho-invite-swim-only/
LOCATION:Boise\, ID
CATEGORIES:UTRGV Athletics
END:VEVENT
BEGIN:VEVENT
DTSTART;VALUE=DATE:20241121
DTEND;VALUE=DATE:20241124
DTSTAMP:20260425T190530
CREATED:20240816T134254Z
LAST-MODIFIED:20241122T180022Z
UID:10001083-1732212000-1732384799@stayinmcallen.com
SUMMARY:UTRGV Women's Swimming & Diving  Tiger Invite (Dive Only)
DESCRIPTION:UTRGV Women’s Swimming & Diving  Tiger Invite (Dive Only)
URL:https://stayinmcallen.com/events/utrgv-womens-swimming-diving-tiger-invite-dive-only/
LOCATION:San Antonio\, TX
CATEGORIES:UTRGV Athletics
END:VEVENT
BEGIN:VEVENT
DTSTART;TZID=America/Chicago:20241122T160000
DTEND;TZID=America/Chicago:20241122T180000
DTSTAMP:20260425T190530
CREATED:20240712T122445Z
LAST-MODIFIED:20241122T180031Z
UID:10000775-1732291200-1732298400@stayinmcallen.com
SUMMARY:UTRGV Volleyball vs #5 Incarnate Word
DESCRIPTION:UTRGV Volleyball vs #5 Incarnate Word\nTV: ESPN+ (USA) | Southland International\nStreaming Video: http://plus.espn.com/
URL:https://stayinmcallen.com/events/utrgv-volleyball-vs-quarterfinals-2/
LOCATION:Hammond\, LA
CATEGORIES:UTRGV Athletics
END:VEVENT
BEGIN:VEVENT
DTSTART;VALUE=DATE:20241122
DTEND;VALUE=DATE:20241124
DTSTAMP:20260425T190530
CREATED:20240809T132817Z
LAST-MODIFIED:20241108T173216Z
UID:10001068-1732298400-1732384799@stayinmcallen.com
SUMMARY:UTRGV Women's Cross Country  NCAA Championship
DESCRIPTION:UTRGV Women’s Cross Country  NCAA Championship
URL:https://stayinmcallen.com/events/utrgv-womens-cross-country-ncaa-championship/
LOCATION:Madison\, WI
CATEGORIES:UTRGV Athletics
END:VEVENT
BEGIN:VEVENT
DTSTART;VALUE=DATE:20241122
DTEND;VALUE=DATE:20241124
DTSTAMP:20260425T190530
CREATED:20240809T132823Z
LAST-MODIFIED:20241108T173201Z
UID:10001069-1732298400-1732384799@stayinmcallen.com
SUMMARY:UTRGV Men's Cross Country  NCAA Championship
DESCRIPTION:UTRGV Men’s Cross Country  NCAA Championship
URL:https://stayinmcallen.com/events/utrgv-mens-cross-country-ncaa-championship/
LOCATION:Madison\, WI
CATEGORIES:UTRGV Athletics
END:VEVENT
BEGIN:VEVENT
DTSTART;VALUE=DATE:20241122
DTEND;VALUE=DATE:20241124
DTSTAMP:20260425T190530
CREATED:20240809T132848Z
LAST-MODIFIED:20240809T132848Z
UID:10001070-1732298400-1732384799@stayinmcallen.com
SUMMARY:UTRGV Women's Cross Country  NCAA Championship
DESCRIPTION:UTRGV Women’s Cross Country  NCAA Championship\n https://goutrgv.com/calendar.aspx?game_id=27626&sport_id=13
URL:https://stayinmcallen.com/events/utrgv-womens-cross-country-ncaa-championship-2/
LOCATION:Madison\, WI
CATEGORIES:UTRGV Athletics
END:VEVENT
BEGIN:VEVENT
DTSTART;VALUE=DATE:20241122
DTEND;VALUE=DATE:20241124
DTSTAMP:20260425T190530
CREATED:20240809T132854Z
LAST-MODIFIED:20240809T132854Z
UID:10001071-1732298400-1732384799@stayinmcallen.com
SUMMARY:UTRGV Men's Cross Country  NCAA Championship
DESCRIPTION:UTRGV Men’s Cross Country  NCAA Championship\n https://goutrgv.com/calendar.aspx?game_id=27616&sport_id=4
URL:https://stayinmcallen.com/events/utrgv-mens-cross-country-ncaa-championship-2/
LOCATION:Madison\, WI
CATEGORIES:UTRGV Athletics
END:VEVENT
BEGIN:VEVENT
DTSTART;TZID=America/Chicago:20241122T190000
DTEND;TZID=America/Chicago:20241122T210000
DTSTAMP:20260425T190530
CREATED:20240621T120113Z
LAST-MODIFIED:20241101T171843Z
UID:10000651-1732302000-1732309200@stayinmcallen.com
SUMMARY:UTRGV Women's Soccer vs Second Round
DESCRIPTION:UTRGV Women’s Soccer vs Second Round
URL:https://stayinmcallen.com/events/utrgv-womens-soccer-vs-ncaa-tournament-second-round/
LOCATION:TBD
CATEGORIES:UTRGV Athletics
END:VEVENT
BEGIN:VEVENT
DTSTART;TZID=America/Chicago:20241123T140000
DTEND;TZID=America/Chicago:20241123T160000
DTSTAMP:20260425T190530
CREATED:20240802T131301Z
LAST-MODIFIED:20241122T180036Z
UID:10001006-1732370400-1732377600@stayinmcallen.com
SUMMARY:UTRGV Women's Basketball vs Arlington Baptist
DESCRIPTION:UTRGV Women’s Basketball vs Arlington Baptist\nTV: ESPN+ (USA) | Southland International\nStreaming Video: http://plus.espn.com/\nTickets: https://www.showpass.com/o/university-of-texas-rio-grande-valley-utrgv/
URL:https://stayinmcallen.com/events/utrgv-womens-basketball-vs-arlington-baptist/
LOCATION:Edinburg\, TX\, UTRGV Fieldhouse
CATEGORIES:UTRGV Athletics
END:VEVENT
BEGIN:VEVENT
DTSTART;TZID=America/Chicago:20241123T140000
DTEND;TZID=America/Chicago:20241123T160000
DTSTAMP:20260425T190530
CREATED:20240802T131317Z
LAST-MODIFIED:20240802T131317Z
UID:10001008-1732370400-1732377600@stayinmcallen.com
SUMMARY:UTRGV Women's Basketball vs Arlington Baptist
DESCRIPTION:UTRGV Women’s Basketball vs Arlington Baptist\nStreaming Video: http://plus.espn.com/\nTickets: https://www.showpass.com/2024-2025-basketball-season-tickets/\n https://goutrgv.com/calendar.aspx?game_id=27602&sport_id=8
URL:https://stayinmcallen.com/events/utrgv-womens-basketball-vs-arlington-baptist-2/
LOCATION:Edinburg\, TX\, UTRGV Fieldhouse
CATEGORIES:UTRGV Athletics
END:VEVENT
BEGIN:VEVENT
DTSTART;TZID=America/Chicago:20241123T170000
DTEND;TZID=America/Chicago:20241123T190000
DTSTAMP:20260425T190530
CREATED:20240712T122456Z
LAST-MODIFIED:20241122T180041Z
UID:10000781-1732381200-1732388400@stayinmcallen.com
SUMMARY:UTRGV Volleyball vs #1 Southeastern or #8 East Texas A&M
DESCRIPTION:UTRGV Volleyball vs #1 Southeastern or #8 East Texas A&M\nTV: ESPN+ (USA) | Southland International\nStreaming Video: http://plus.espn.com/
URL:https://stayinmcallen.com/events/utrgv-volleyball-vs-semifinals-2/
LOCATION:Hammond\, LA
CATEGORIES:UTRGV Athletics
END:VEVENT
BEGIN:VEVENT
DTSTART;VALUE=DATE:20241123
DTEND;VALUE=DATE:20241125
DTSTAMP:20260425T190530
CREATED:20240712T122522Z
LAST-MODIFIED:20240712T122522Z
UID:10000784-1732384800-1732471199@stayinmcallen.com
SUMMARY:UTRGV Volleyball vs Championship
DESCRIPTION:UTRGV Volleyball vs Championship\nStreaming Video: http://plus.espn.com/\n https://goutrgv.com/calendar.aspx?game_id=27475&sport_id=12
URL:https://stayinmcallen.com/events/utrgv-volleyball-vs-championship-3/
LOCATION:Hammond\, LA
CATEGORIES:UTRGV Athletics
END:VEVENT
BEGIN:VEVENT
DTSTART;VALUE=DATE:20241123
DTEND;VALUE=DATE:20241125
DTSTAMP:20260425T190530
CREATED:20240719T124148Z
LAST-MODIFIED:20241101T171923Z
UID:10000847-1732384800-1732471199@stayinmcallen.com
SUMMARY:UTRGV Men's Soccer vs Second Round
DESCRIPTION:UTRGV Men’s Soccer vs Second Round
URL:https://stayinmcallen.com/events/utrgv-mens-soccer-vs-second-round-2/
LOCATION:TBD
CATEGORIES:UTRGV Athletics
END:VEVENT
BEGIN:VEVENT
DTSTART;VALUE=DATE:20241123
DTEND;VALUE=DATE:20241125
DTSTAMP:20260425T190530
CREATED:20240719T124219Z
LAST-MODIFIED:20240719T124219Z
UID:10000849-1732384800-1732471199@stayinmcallen.com
SUMMARY:UTRGV Men's Soccer vs Second Round
DESCRIPTION:UTRGV Men’s Soccer vs Second Round\n https://goutrgv.com/calendar.aspx?game_id=27578&sport_id=16
URL:https://stayinmcallen.com/events/utrgv-mens-soccer-vs-second-round-3/
LOCATION:TBD
CATEGORIES:UTRGV Athletics
END:VEVENT
BEGIN:VEVENT
DTSTART;TZID=America/Chicago:20241124T150000
DTEND;TZID=America/Chicago:20241124T170000
DTSTAMP:20260425T190530
CREATED:20240712T122504Z
LAST-MODIFIED:20241122T180046Z
UID:10000782-1732460400-1732467600@stayinmcallen.com
SUMMARY:UTRGV Volleyball vs Championship
DESCRIPTION:UTRGV Volleyball vs Championship\nTV: ESPN+ (USA) | Southland International\nStreaming Video: http://plus.espn.com/
URL:https://stayinmcallen.com/events/utrgv-volleyball-vs-championship-2/
LOCATION:Hammond\, LA
CATEGORIES:UTRGV Athletics
END:VEVENT
BEGIN:VEVENT
DTSTART;TZID=America/Chicago:20241124T190000
DTEND;TZID=America/Chicago:20241124T210000
DTSTAMP:20260425T190530
CREATED:20240621T120119Z
LAST-MODIFIED:20241101T171927Z
UID:10000652-1732474800-1732482000@stayinmcallen.com
SUMMARY:UTRGV Women's Soccer vs Third Round
DESCRIPTION:UTRGV Women’s Soccer vs Third Round
URL:https://stayinmcallen.com/events/utrgv-womens-soccer-vs-ncaa-tournament-third-round/
LOCATION:TBD
CATEGORIES:UTRGV Athletics
END:VEVENT
BEGIN:VEVENT
DTSTART;TZID=America/Chicago:20241125T160000
DTEND;TZID=America/Chicago:20241125T180000
DTSTAMP:20260425T190530
CREATED:20240802T131311Z
LAST-MODIFIED:20241122T180050Z
UID:10001007-1732550400-1732557600@stayinmcallen.com
SUMMARY:UTRGV Women's Basketball vs St. Mary's - Free T-Shirts • Food & Guest Ticket for UTRGV Students • Faculty & Staff Appreciation Night
DESCRIPTION:UTRGV Women’s Basketball vs St. Mary’s – Free T-Shirts • Food & Guest Ticket for UTRGV Students • Faculty & Staff Appreciation Night\nTV: ESPN+ (USA) | Southland International\nStreaming Video: http://plus.espn.com/\nTickets: https://www.showpass.com/o/university-of-texas-rio-grande-valley-utrgv/
URL:https://stayinmcallen.com/events/utrgv-womens-basketball-vs-st-marys/
LOCATION:Edinburg\, TX\, UTRGV Fieldhouse
CATEGORIES:UTRGV Athletics
END:VEVENT
BEGIN:VEVENT
DTSTART;TZID=America/Chicago:20241125T183000
DTEND;TZID=America/Chicago:20241125T203000
DTSTAMP:20260425T190530
CREATED:20240906T142822Z
LAST-MODIFIED:20241122T180055Z
UID:10001177-1732559400-1732566600@stayinmcallen.com
SUMMARY:UTRGV Men's Basketball vs Le Moyne - Free T-Shirts • Food & Guest Ticket for UTRGV Students • Faculty & Staff Appreciation Night
DESCRIPTION:UTRGV Men’s Basketball vs Le Moyne – Free T-Shirts • Food & Guest Ticket for UTRGV Students • Faculty & Staff Appreciation Night\nTV: ESPN+ (USA) | Southland International\nStreaming Video: http://plus.espn.com/\nTickets: https://www.showpass.com/o/university-of-texas-rio-grande-valley-utrgv/
URL:https://stayinmcallen.com/events/utrgv-mens-basketball-vs-le-moyne/
LOCATION:Edinburg\, TX\, UTRGV Fieldhouse
CATEGORIES:UTRGV Athletics
END:VEVENT
BEGIN:VEVENT
DTSTART;VALUE=DATE:20241129
DTEND;VALUE=DATE:20241201
DTSTAMP:20260425T190530
CREATED:20240719T124205Z
LAST-MODIFIED:20241101T171947Z
UID:10000848-1732903200-1732989599@stayinmcallen.com
SUMMARY:UTRGV Men's Soccer vs Third Round
DESCRIPTION:UTRGV Men’s Soccer vs Third Round
URL:https://stayinmcallen.com/events/utrgv-mens-soccer-vs-third-round-2/
LOCATION:TBD
CATEGORIES:UTRGV Athletics
END:VEVENT
BEGIN:VEVENT
DTSTART;TZID=America/Chicago:20241129T190000
DTEND;TZID=America/Chicago:20241129T210000
DTSTAMP:20260425T190530
CREATED:20240621T120127Z
LAST-MODIFIED:20241101T171952Z
UID:10000653-1732906800-1732914000@stayinmcallen.com
SUMMARY:UTRGV Women's Soccer vs Quarterfinals
DESCRIPTION:UTRGV Women’s Soccer vs Quarterfinals
URL:https://stayinmcallen.com/events/utrgv-womens-soccer-vs-ncaa-tournament-quarterfinals/
LOCATION:TBD
CATEGORIES:UTRGV Athletics
END:VEVENT
END:VCALENDAR