BEGIN:VCALENDAR
VERSION:2.0
PRODID:-//Stayinmcallen - ECPv6.15.20//NONSGML v1.0//EN
CALSCALE:GREGORIAN
METHOD:PUBLISH
X-ORIGINAL-URL:https://stayinmcallen.com
X-WR-CALDESC:Events for Stayinmcallen
REFRESH-INTERVAL;VALUE=DURATION:PT1H
X-Robots-Tag:noindex
X-PUBLISHED-TTL:PT1H
BEGIN:VTIMEZONE
TZID:America/Chicago
BEGIN:DAYLIGHT
TZOFFSETFROM:-0600
TZOFFSETTO:-0500
TZNAME:CDT
DTSTART:20230312T080000
END:DAYLIGHT
BEGIN:STANDARD
TZOFFSETFROM:-0500
TZOFFSETTO:-0600
TZNAME:CST
DTSTART:20231105T070000
END:STANDARD
BEGIN:DAYLIGHT
TZOFFSETFROM:-0600
TZOFFSETTO:-0500
TZNAME:CDT
DTSTART:20240310T080000
END:DAYLIGHT
BEGIN:STANDARD
TZOFFSETFROM:-0500
TZOFFSETTO:-0600
TZNAME:CST
DTSTART:20241103T070000
END:STANDARD
BEGIN:DAYLIGHT
TZOFFSETFROM:-0600
TZOFFSETTO:-0500
TZNAME:CDT
DTSTART:20250309T080000
END:DAYLIGHT
BEGIN:STANDARD
TZOFFSETFROM:-0500
TZOFFSETTO:-0600
TZNAME:CST
DTSTART:20251102T070000
END:STANDARD
END:VTIMEZONE
BEGIN:VEVENT
DTSTART;TZID=America/Chicago:20240904T183000
DTEND;TZID=America/Chicago:20240904T203000
DTSTAMP:20260425T221820
CREATED:20240719T123530Z
LAST-MODIFIED:20240830T140424Z
UID:10000808-1725474600-1725481800@stayinmcallen.com
SUMMARY:UTRGV Men's Soccer vs Texas A&M-San Antonio
DESCRIPTION:UTRGV Men’s Soccer vs Texas A&M-San Antonio\nTV: ESPN+ (USA) | WAC International\nStreaming Video: http://plus.espn.com/\nTickets: https://www.showpass.com/2024-2025-soccer-season-pass/
URL:https://stayinmcallen.com/events/utrgv-mens-soccer-vs-texas-am-san-antonio-2/
LOCATION:Edinburg\, TX\, UTRGV Soccer and Track & Field Complex
CATEGORIES:UTRGV Athletics
END:VEVENT
BEGIN:VEVENT
DTSTART;TZID=America/Chicago:20240904T183000
DTEND;TZID=America/Chicago:20240904T203000
DTSTAMP:20260425T221820
CREATED:20240719T123535Z
LAST-MODIFIED:20240719T123535Z
UID:10000812-1725474600-1725481800@stayinmcallen.com
SUMMARY:UTRGV Men's Soccer vs Texas A&M-San Antonio
DESCRIPTION:UTRGV Men’s Soccer vs Texas A&M-San Antonio\nTV: ESPN+ (USA) | WAC International\nStreaming Video: http://plus.espn.com/\n https://goutrgv.com/calendar.aspx?game_id=27557&sport_id=16
URL:https://stayinmcallen.com/events/utrgv-mens-soccer-vs-texas-am-san-antonio-3/
LOCATION:Edinburg\, TX\, UTRGV Soccer and Track & Field Complex
CATEGORIES:UTRGV Athletics
END:VEVENT
BEGIN:VEVENT
DTSTART;TZID=America/Chicago:20240906T100000
DTEND;TZID=America/Chicago:20240906T120000
DTSTAMP:20260425T221820
CREATED:20240712T122018Z
LAST-MODIFIED:20240906T141856Z
UID:10000724-1725616800-1725624000@stayinmcallen.com
SUMMARY:UTRGV Volleyball vs Wyoming
DESCRIPTION:UTRGV Volleyball vs Wyoming
URL:https://stayinmcallen.com/events/utrgv-volleyball-vs-wyoming/
LOCATION:Akron\, OH
CATEGORIES:UTRGV Athletics
END:VEVENT
BEGIN:VEVENT
DTSTART;TZID=America/Chicago:20240906T100000
DTEND;TZID=America/Chicago:20240906T120000
DTSTAMP:20260425T221820
CREATED:20240712T122021Z
LAST-MODIFIED:20240712T122021Z
UID:10000731-1725616800-1725624000@stayinmcallen.com
SUMMARY:UTRGV Volleyball vs Wyoming
DESCRIPTION:UTRGV Volleyball vs Wyoming\n https://goutrgv.com/calendar.aspx?game_id=27485&sport_id=12
URL:https://stayinmcallen.com/events/utrgv-volleyball-vs-wyoming-2/
LOCATION:Akron\, OH
CATEGORIES:UTRGV Athletics
END:VEVENT
BEGIN:VEVENT
DTSTART;TZID=America/Chicago:20240906T170000
DTEND;TZID=America/Chicago:20240906T190000
DTSTAMP:20260425T221820
CREATED:20240712T122024Z
LAST-MODIFIED:20240906T141900Z
UID:10000725-1725642000-1725649200@stayinmcallen.com
SUMMARY:UTRGV Volleyball at Cleveland State
DESCRIPTION:UTRGV Volleyball at Cleveland State
URL:https://stayinmcallen.com/events/utrgv-volleyball-at-cleveland-state/
LOCATION:Cleveland\, OH
CATEGORIES:UTRGV Athletics
END:VEVENT
BEGIN:VEVENT
DTSTART;TZID=America/Chicago:20240906T170000
DTEND;TZID=America/Chicago:20240906T190000
DTSTAMP:20260425T221820
CREATED:20240712T122027Z
LAST-MODIFIED:20240712T122027Z
UID:10000732-1725642000-1725649200@stayinmcallen.com
SUMMARY:UTRGV Volleyball at Cleveland State
DESCRIPTION:UTRGV Volleyball at Cleveland State\n https://goutrgv.com/calendar.aspx?game_id=27486&sport_id=12
URL:https://stayinmcallen.com/events/utrgv-volleyball-at-cleveland-state-2/
LOCATION:Cleveland\, OH
CATEGORIES:UTRGV Athletics
END:VEVENT
BEGIN:VEVENT
DTSTART;TZID=America/Chicago:20240906T183000
DTEND;TZID=America/Chicago:20240906T203000
DTSTAMP:20260425T221820
CREATED:20240719T123546Z
LAST-MODIFIED:20240906T141904Z
UID:10000813-1725647400-1725654600@stayinmcallen.com
SUMMARY:UTRGV Women's Soccer vs Howard Payne
DESCRIPTION:UTRGV Women’s Soccer vs Howard Payne\nTV: ESPN+ (USA) | Southland International\nStreaming Video: http://plus.espn.com/\nTickets: https://www.showpass.com/2024-2025-soccer-season-pass/
URL:https://stayinmcallen.com/events/utrgv-womens-soccer-vs-howard-payne/
LOCATION:Edinburg\, TX\, UTRGV Soccer and Track & Field Complex
CATEGORIES:UTRGV Athletics
END:VEVENT
BEGIN:VEVENT
DTSTART;TZID=America/Chicago:20240907T110000
DTEND;TZID=America/Chicago:20240907T130000
DTSTAMP:20260425T221820
CREATED:20240712T122030Z
LAST-MODIFIED:20240906T141908Z
UID:10000726-1725706800-1725714000@stayinmcallen.com
SUMMARY:UTRGV Volleyball at Akron
DESCRIPTION:UTRGV Volleyball at Akron
URL:https://stayinmcallen.com/events/utrgv-volleyball-at-akron/
LOCATION:Akron\, OH
CATEGORIES:UTRGV Athletics
END:VEVENT
BEGIN:VEVENT
DTSTART;TZID=America/Chicago:20240907T110000
DTEND;TZID=America/Chicago:20240907T130000
DTSTAMP:20260425T221820
CREATED:20240712T122033Z
LAST-MODIFIED:20240712T122033Z
UID:10000733-1725706800-1725714000@stayinmcallen.com
SUMMARY:UTRGV Volleyball at Akron
DESCRIPTION:UTRGV Volleyball at Akron\n https://goutrgv.com/calendar.aspx?game_id=27487&sport_id=12
URL:https://stayinmcallen.com/events/utrgv-volleyball-at-akron-2/
LOCATION:Akron\, OH
CATEGORIES:UTRGV Athletics
END:VEVENT
BEGIN:VEVENT
DTSTART;TZID=America/Chicago:20240907T183000
DTEND;TZID=America/Chicago:20240907T203000
DTSTAMP:20260425T221820
CREATED:20240719T123556Z
LAST-MODIFIED:20240906T141912Z
UID:10000814-1725733800-1725741000@stayinmcallen.com
SUMMARY:UTRGV Men's Soccer vs Incarnate Word
DESCRIPTION:UTRGV Men’s Soccer vs Incarnate Word\nTV: ESPN+ (USA) | WAC International\nStreaming Video: http://plus.espn.com/\nTickets: https://www.showpass.com/2024-2025-soccer-season-pass/
URL:https://stayinmcallen.com/events/utrgv-mens-soccer-vs-incarnate-word/
LOCATION:Edinburg\, TX\, UTRGV Soccer and Track & Field Complex
CATEGORIES:UTRGV Athletics
END:VEVENT
BEGIN:VEVENT
DTSTART;TZID=America/Chicago:20240907T183000
DTEND;TZID=America/Chicago:20240907T203000
DTSTAMP:20260425T221820
CREATED:20240719T123611Z
LAST-MODIFIED:20240719T123611Z
UID:10000818-1725733800-1725741000@stayinmcallen.com
SUMMARY:UTRGV Men's Soccer vs Incarnate Word
DESCRIPTION:UTRGV Men’s Soccer vs Incarnate Word\nTV: ESPN+ (USA) | WAC International\nStreaming Video: http://plus.espn.com/\n https://goutrgv.com/calendar.aspx?game_id=27558&sport_id=16
URL:https://stayinmcallen.com/events/utrgv-mens-soccer-vs-incarnate-word-2/
LOCATION:Edinburg\, TX\, UTRGV Soccer and Track & Field Complex
CATEGORIES:UTRGV Athletics
END:VEVENT
BEGIN:VEVENT
DTSTART;TZID=America/Chicago:20240908T120000
DTEND;TZID=America/Chicago:20240908T140000
DTSTAMP:20260425T221820
CREATED:20240719T123602Z
LAST-MODIFIED:20240906T141917Z
UID:10000815-1725796800-1725804000@stayinmcallen.com
SUMMARY:UTRGV Women's Soccer vs Arkansas-Pine Bluff
DESCRIPTION:UTRGV Women’s Soccer vs Arkansas-Pine Bluff\nTV: ESPN+ (USA) | Southland International\nStreaming Video: http://plus.espn.com/\nTickets: https://www.showpass.com/2024-2025-soccer-season-pass/
URL:https://stayinmcallen.com/events/utrgv-womens-soccer-vs-arkansas-pine-bluff/
LOCATION:Edinburg\, TX\, UTRGV Soccer and Track & Field Complex
CATEGORIES:UTRGV Athletics
END:VEVENT
BEGIN:VEVENT
DTSTART;TZID=America/Chicago:20240908T120000
DTEND;TZID=America/Chicago:20240908T140000
DTSTAMP:20260425T221820
CREATED:20240719T123616Z
LAST-MODIFIED:20240719T123616Z
UID:10000819-1725796800-1725804000@stayinmcallen.com
SUMMARY:UTRGV Women's Soccer vs Arkansas-Pine Bluff
DESCRIPTION:UTRGV Women’s Soccer vs Arkansas-Pine Bluff\nTV: ESPN+ (USA)\nStreaming Video: http://plus.espn.com/\n https://goutrgv.com/calendar.aspx?game_id=27587&sport_id=15
URL:https://stayinmcallen.com/events/utrgv-womens-soccer-vs-arkansas-pine-bluff-2/
LOCATION:Edinburg\, TX\, UTRGV Soccer and Track & Field Complex
CATEGORIES:UTRGV Athletics
END:VEVENT
BEGIN:VEVENT
DTSTART;VALUE=DATE:20240908
DTEND;VALUE=DATE:20240910
DTSTAMP:20260425T221820
CREATED:20240802T130553Z
LAST-MODIFIED:20240906T141922Z
UID:10000987-1725822000-1725908399@stayinmcallen.com
SUMMARY:UTRGV Women's Golf  Powercat Invitational
DESCRIPTION:UTRGV Women’s Golf  Powercat Invitational
URL:https://stayinmcallen.com/events/utrgv-womens-golf-powercat-invitational/
LOCATION:Manhattan\, KS
CATEGORIES:UTRGV Athletics
END:VEVENT
BEGIN:VEVENT
DTSTART;TZID=America/Chicago:20240912T160000
DTEND;TZID=America/Chicago:20240912T180000
DTSTAMP:20260425T221820
CREATED:20240719T123609Z
LAST-MODIFIED:20240906T141926Z
UID:10000816-1726156800-1726164000@stayinmcallen.com
SUMMARY:UTRGV Women's Soccer vs Prairie View A&M
DESCRIPTION:UTRGV Women’s Soccer vs Prairie View A&M\nTickets: https://www.showpass.com/2024-2025-soccer-season-pass/
URL:https://stayinmcallen.com/events/utrgv-womens-soccer-vs-prairie-view-am/
LOCATION:Edinburg\, TX\, UTRGV Soccer and Track & Field Complex
CATEGORIES:UTRGV Athletics
END:VEVENT
BEGIN:VEVENT
DTSTART;TZID=America/Chicago:20240912T160000
DTEND;TZID=America/Chicago:20240912T180000
DTSTAMP:20260425T221820
CREATED:20240719T123622Z
LAST-MODIFIED:20240719T123622Z
UID:10000820-1726156800-1726164000@stayinmcallen.com
SUMMARY:UTRGV Women's Soccer vs Prairie View A&M
DESCRIPTION:UTRGV Women’s Soccer vs Prairie View A&M\nTV: ESPN+ (USA)\nStreaming Video: http://plus.espn.com/\n https://goutrgv.com/calendar.aspx?game_id=27588&sport_id=15
URL:https://stayinmcallen.com/events/utrgv-womens-soccer-vs-prairie-view-am-2/
LOCATION:Edinburg\, TX\, UTRGV Soccer and Track & Field Complex
CATEGORIES:UTRGV Athletics
END:VEVENT
BEGIN:VEVENT
DTSTART;TZID=America/Chicago:20240912T183000
DTEND;TZID=America/Chicago:20240912T203000
DTSTAMP:20260425T221820
CREATED:20240712T122035Z
LAST-MODIFIED:20240906T141934Z
UID:10000727-1726165800-1726173000@stayinmcallen.com
SUMMARY:UTRGV Volleyball vs Texas Tech - Orange Out/Pack the House\, sponsored by McAllen International Airport
DESCRIPTION:UTRGV Volleyball vs Texas Tech – Orange Out/Pack the House\, sponsored by McAllen International Airport TV: ESPN+ (USA) | Southland International Streaming Video: http://plus.espn.com/ Tickets: https://www.showpass.com/2024-2025-volleyball-season-tickets-2/
URL:https://stayinmcallen.com/events/utrgv-volleyball-vs-texas-tech/
LOCATION:Edinburg\, TX\, UTRGV Fieldhouse
CATEGORIES:UTRGV Athletics
END:VEVENT
BEGIN:VEVENT
DTSTART;TZID=America/Chicago:20240912T183000
DTEND;TZID=America/Chicago:20240912T203000
DTSTAMP:20260425T221820
CREATED:20240712T122038Z
LAST-MODIFIED:20240712T122038Z
UID:10000734-1726165800-1726173000@stayinmcallen.com
SUMMARY:UTRGV Volleyball vs Texas Tech
DESCRIPTION:UTRGV Volleyball vs Texas Tech\nStreaming Video: http://plus.espn.com/\nTickets: https://www.showpass.com/2024-2025-volleyball-season-tickets-2/\n https://goutrgv.com/calendar.aspx?game_id=27488&sport_id=12
URL:https://stayinmcallen.com/events/utrgv-volleyball-vs-texas-tech-2/
LOCATION:Edinburg\, TX\, UTRGV Fieldhouse
CATEGORIES:UTRGV Athletics
END:VEVENT
BEGIN:VEVENT
DTSTART;TZID=America/Chicago:20240912T183000
DTEND;TZID=America/Chicago:20240912T203000
DTSTAMP:20260425T221820
CREATED:20240719T123615Z
LAST-MODIFIED:20240906T141930Z
UID:10000817-1726165800-1726173000@stayinmcallen.com
SUMMARY:UTRGV Men's Soccer vs Jacksonville
DESCRIPTION:UTRGV Men’s Soccer vs Jacksonville\nTickets: https://www.showpass.com/2024-2025-soccer-season-pass/
URL:https://stayinmcallen.com/events/utrgv-mens-soccer-vs-jacksonville/
LOCATION:Edinburg\, TX\, UTRGV Soccer and Track & Field Complex
CATEGORIES:UTRGV Athletics
END:VEVENT
BEGIN:VEVENT
DTSTART;TZID=America/Chicago:20240912T183000
DTEND;TZID=America/Chicago:20240912T203000
DTSTAMP:20260425T221820
CREATED:20240719T123628Z
LAST-MODIFIED:20240719T123628Z
UID:10000821-1726165800-1726173000@stayinmcallen.com
SUMMARY:UTRGV Men's Soccer vs Jacksonville
DESCRIPTION:UTRGV Men’s Soccer vs Jacksonville\nTV: ESPN+ (USA) | WAC International\nStreaming Video: http://plus.espn.com/\n https://goutrgv.com/calendar.aspx?game_id=27559&sport_id=16
URL:https://stayinmcallen.com/events/utrgv-mens-soccer-vs-jacksonville-2/
LOCATION:Edinburg\, TX\, UTRGV Soccer and Track & Field Complex
CATEGORIES:UTRGV Athletics
END:VEVENT
BEGIN:VEVENT
DTSTART;VALUE=DATE:20240912
DTEND;VALUE=DATE:20240915
DTSTAMP:20260425T221820
CREATED:20240906T141953Z
LAST-MODIFIED:20240913T143504Z
UID:10001169-1726167600-1726340399@stayinmcallen.com
SUMMARY:UTRGV Men's Tennis at Jake Frederick Memorial Islander Open
DESCRIPTION:UTRGV Men’s Tennis at Jake Frederick Memorial Islander Open
URL:https://stayinmcallen.com/events/utrgv-mens-tennis-at-corpus-invitational/
LOCATION:Corpus Christi\, TX
CATEGORIES:UTRGV Athletics
END:VEVENT
BEGIN:VEVENT
DTSTART;VALUE=DATE:20240912
DTEND;VALUE=DATE:20240915
DTSTAMP:20260425T221820
CREATED:20240906T142004Z
LAST-MODIFIED:20240906T142004Z
UID:10001170-1726167600-1726340399@stayinmcallen.com
SUMMARY:UTRGV Men's Tennis at Corpus Invitational
DESCRIPTION:UTRGV Men’s Tennis at Corpus Invitational
URL:https://stayinmcallen.com/events/utrgv-mens-tennis-at-corpus-invitational-2/
LOCATION:Corpus Christi\, TX
CATEGORIES:UTRGV Athletics
END:VEVENT
BEGIN:VEVENT
DTSTART;TZID=America/Chicago:20240913T080000
DTEND;TZID=America/Chicago:20240913T110000
DTSTAMP:20260425T221820
CREATED:20240809T132113Z
LAST-MODIFIED:20240913T143514Z
UID:10001054-1726214400-1726225200@stayinmcallen.com
SUMMARY:UTRGV Men's Cross Country  UIW Invitational
DESCRIPTION:UTRGV Men’s Cross Country  UIW Invitational
URL:https://stayinmcallen.com/events/utrgv-mens-cross-country-uiw-invitational-3/
LOCATION:San Antonio\, TX
CATEGORIES:UTRGV Athletics
END:VEVENT
BEGIN:VEVENT
DTSTART;TZID=America/Chicago:20240913T080000
DTEND;TZID=America/Chicago:20240913T110000
DTSTAMP:20260425T221820
CREATED:20240809T132119Z
LAST-MODIFIED:20240809T132119Z
UID:10001056-1726214400-1726225200@stayinmcallen.com
SUMMARY:UTRGV Men's Cross Country  UIW Invitational
DESCRIPTION:UTRGV Men’s Cross Country  UIW Invitational\n https://goutrgv.com/calendar.aspx?game_id=27612&sport_id=4
URL:https://stayinmcallen.com/events/utrgv-mens-cross-country-uiw-invitational-4/
LOCATION:San Antonio\, TX
CATEGORIES:UTRGV Athletics
END:VEVENT
BEGIN:VEVENT
DTSTART;TZID=America/Chicago:20240913T084000
DTEND;TZID=America/Chicago:20240913T114000
DTSTAMP:20260425T221820
CREATED:20240809T132118Z
LAST-MODIFIED:20240913T143518Z
UID:10001055-1726216800-1726227600@stayinmcallen.com
SUMMARY:UTRGV Women's Cross Country  UIW Invitational
DESCRIPTION:UTRGV Women’s Cross Country  UIW Invitational
URL:https://stayinmcallen.com/events/utrgv-womens-cross-country-uiw-invitational-2/
LOCATION:San Antonio\, TX
CATEGORIES:UTRGV Athletics
END:VEVENT
BEGIN:VEVENT
DTSTART;TZID=America/Chicago:20240913T084000
DTEND;TZID=America/Chicago:20240913T114000
DTSTAMP:20260425T221820
CREATED:20240809T132124Z
LAST-MODIFIED:20240809T132124Z
UID:10001057-1726216800-1726227600@stayinmcallen.com
SUMMARY:UTRGV Women's Cross Country  UIW Invitational
DESCRIPTION:UTRGV Women’s Cross Country  UIW Invitational\n https://goutrgv.com/calendar.aspx?game_id=27618&sport_id=13
URL:https://stayinmcallen.com/events/utrgv-womens-cross-country-uiw-invitational-3/
LOCATION:San Antonio\, TX
CATEGORIES:UTRGV Athletics
END:VEVENT
BEGIN:VEVENT
DTSTART;TZID=America/Chicago:20240913T100000
DTEND;TZID=America/Chicago:20240913T120000
DTSTAMP:20260425T221820
CREATED:20240712T122042Z
LAST-MODIFIED:20240913T143510Z
UID:10000736-1726221600-1726228800@stayinmcallen.com
SUMMARY:UTRGV Volleyball vs San Francisco vs. Houston Christian
DESCRIPTION:UTRGV Volleyball vs San Francisco vs. Houston Christian\nTV: ESPN+ (USA) | Southland International\nStreaming Video: https://www.espn.com/watch/player/_/id/9f5e36e4-66f8-44a7-97ce-48c03827908e?om-navmethod=espn:globalsearch:results\nTickets: https://www.showpass.com/2024-2025-volleyball-season-tickets/
URL:https://stayinmcallen.com/events/utrgv-volleyball-vs-san-francisco-vs-houston-christian/
LOCATION:Edinburg\, TX\, UTRGV Fieldhouse
CATEGORIES:UTRGV Athletics
END:VEVENT
BEGIN:VEVENT
DTSTART;TZID=America/Chicago:20240913T100000
DTEND;TZID=America/Chicago:20240913T120000
DTSTAMP:20260425T221820
CREATED:20240712T122044Z
LAST-MODIFIED:20240712T122044Z
UID:10000735-1726221600-1726228800@stayinmcallen.com
SUMMARY:UTRGV Volleyball vs San Francisco vs. Houston Christian
DESCRIPTION:UTRGV Volleyball vs San Francisco vs. Houston Christian\nStreaming Video: http://plus.espn.com/\nTickets: https://www.showpass.com/2024-2025-volleyball-season-tickets-2/\n https://goutrgv.com/calendar.aspx?game_id=27496&sport_id=12
URL:https://stayinmcallen.com/events/utrgv-volleyball-vs-san-francisco-vs-houston-christian-2/
LOCATION:Edinburg\, TX\, UTRGV Fieldhouse
CATEGORIES:UTRGV Athletics
END:VEVENT
BEGIN:VEVENT
DTSTART;TZID=America/Chicago:20240913T123000
DTEND;TZID=America/Chicago:20240913T143000
DTSTAMP:20260425T221820
CREATED:20240712T122048Z
LAST-MODIFIED:20240913T143523Z
UID:10000737-1726230600-1726237800@stayinmcallen.com
SUMMARY:UTRGV Volleyball vs Texas Tech vs. Texas A&M-Corpus Christi
DESCRIPTION:UTRGV Volleyball vs Texas Tech vs. Texas A&M-Corpus Christi\nTV: ESPN+ (USA) | Southland International\nStreaming Video: https://www.espn.com/watch/player/_/id/317f7a26-71ee-4228-bd4e-ba7e325ae27c?om-navmethod=espn:globalsearch:results\nTickets: https://www.showpass.com/2024-2025-volleyball-season-tickets/
URL:https://stayinmcallen.com/events/utrgv-volleyball-vs-texas-tech-vs-texas-am-corpus-christi/
LOCATION:Edinburg\, TX\, UTRGV Fieldhouse
CATEGORIES:UTRGV Athletics
END:VEVENT
BEGIN:VEVENT
DTSTART;TZID=America/Chicago:20240913T160000
DTEND;TZID=America/Chicago:20240913T180000
DTSTAMP:20260425T221820
CREATED:20240712T122054Z
LAST-MODIFIED:20240913T143527Z
UID:10000738-1726243200-1726250400@stayinmcallen.com
SUMMARY:UTRGV Volleyball vs Houston Christian vs. Texas Tech
DESCRIPTION:UTRGV Volleyball vs Houston Christian vs. Texas Tech\nTV: ESPN+ (USA) | Southland International\nStreaming Video: https://www.espn.com/watch/player/_/id/f50a7585-2617-4202-abb0-7cd4f00985f7?om-navmethod=espn:globalsearch:results\nTickets: https://www.showpass.com/2024-2025-volleyball-season-tickets/
URL:https://stayinmcallen.com/events/utrgv-volleyball-vs-texas-tech-vs-houston-christian/
LOCATION:Edinburg\, TX\, UTRGV Fieldhouse
CATEGORIES:UTRGV Athletics
END:VEVENT
END:VCALENDAR