BEGIN:VCALENDAR
VERSION:2.0
PRODID:-//Stayinmcallen - ECPv6.15.20//NONSGML v1.0//EN
CALSCALE:GREGORIAN
METHOD:PUBLISH
X-ORIGINAL-URL:https://stayinmcallen.com
X-WR-CALDESC:Events for Stayinmcallen
REFRESH-INTERVAL;VALUE=DURATION:PT1H
X-Robots-Tag:noindex
X-PUBLISHED-TTL:PT1H
BEGIN:VTIMEZONE
TZID:America/Chicago
BEGIN:DAYLIGHT
TZOFFSETFROM:-0600
TZOFFSETTO:-0500
TZNAME:CDT
DTSTART:20230312T080000
END:DAYLIGHT
BEGIN:STANDARD
TZOFFSETFROM:-0500
TZOFFSETTO:-0600
TZNAME:CST
DTSTART:20231105T070000
END:STANDARD
BEGIN:DAYLIGHT
TZOFFSETFROM:-0600
TZOFFSETTO:-0500
TZNAME:CDT
DTSTART:20240310T080000
END:DAYLIGHT
BEGIN:STANDARD
TZOFFSETFROM:-0500
TZOFFSETTO:-0600
TZNAME:CST
DTSTART:20241103T070000
END:STANDARD
BEGIN:DAYLIGHT
TZOFFSETFROM:-0600
TZOFFSETTO:-0500
TZNAME:CDT
DTSTART:20250309T080000
END:DAYLIGHT
BEGIN:STANDARD
TZOFFSETFROM:-0500
TZOFFSETTO:-0600
TZNAME:CST
DTSTART:20251102T070000
END:STANDARD
END:VTIMEZONE
BEGIN:VEVENT
DTSTART;VALUE=DATE:20240923
DTEND;VALUE=DATE:20240925
DTSTAMP:20260425T221820
CREATED:20240802T130721Z
LAST-MODIFIED:20240920T150749Z
UID:10000989-1727118000-1727204399@stayinmcallen.com
SUMMARY:UTRGV Women's Golf  Red Raider Invitational
DESCRIPTION:UTRGV Women’s Golf  Red Raider Invitational
URL:https://stayinmcallen.com/events/utrgv-womens-golf-red-raider-invitational/
LOCATION:Lubbock\, TX
CATEGORIES:UTRGV Athletics
END:VEVENT
BEGIN:VEVENT
DTSTART;TZID=America/Chicago:20240926T190000
DTEND;TZID=America/Chicago:20240926T210000
DTSTAMP:20260425T221820
CREATED:20240621T115947Z
LAST-MODIFIED:20240920T150753Z
UID:10000638-1727377200-1727384400@stayinmcallen.com
SUMMARY:UTRGV Women's Soccer at Lamar
DESCRIPTION:UTRGV Women’s Soccer at Lamar\nTV: ESPN+ (USA) | Southland International\nStreaming Video: http://plus.espn.com/
URL:https://stayinmcallen.com/events/utrgv-womens-soccer-at-lamar/
LOCATION:Beaumont\, TX
CATEGORIES:UTRGV Athletics
END:VEVENT
BEGIN:VEVENT
DTSTART;VALUE=DATE:20240926
DTEND;VALUE=DATE:20240928
DTSTAMP:20260425T221820
CREATED:20240816T133721Z
LAST-MODIFIED:20240816T133721Z
UID:10001077-1727377200-1727463599@stayinmcallen.com
SUMMARY:UTRGV Women's Swimming & Diving  Orange and Gray Intrasquad Meet
DESCRIPTION:UTRGV Women’s Swimming & Diving  Orange and Gray Intrasquad Meet
URL:https://stayinmcallen.com/events/utrgv-womens-swimming-diving-orange-and-gray-intrasquad-meet-2/
LOCATION:Pharr\, TX\, City of Pharr Natatorium
CATEGORIES:UTRGV Athletics
END:VEVENT
BEGIN:VEVENT
DTSTART;VALUE=DATE:20240926
DTEND;VALUE=DATE:20240928
DTSTAMP:20260425T221820
CREATED:20240830T140654Z
LAST-MODIFIED:20240927T152001Z
UID:10001120-1727377200-1727463599@stayinmcallen.com
SUMMARY:UTRGV Women's Tennis at Javelina Jam
DESCRIPTION:UTRGV Women’s Tennis at Javelina Jam
URL:https://stayinmcallen.com/events/utrgv-womens-tennis-at-javelina-jam/
LOCATION:Kingsville\, TX
CATEGORIES:UTRGV Athletics
END:VEVENT
BEGIN:VEVENT
DTSTART;VALUE=DATE:20240926
DTEND;VALUE=DATE:20240928
DTSTAMP:20260425T221820
CREATED:20240830T140705Z
LAST-MODIFIED:20240830T140705Z
UID:10001121-1727377200-1727463599@stayinmcallen.com
SUMMARY:UTRGV Women's Tennis at Javelina Jam
DESCRIPTION:UTRGV Women’s Tennis at Javelina Jam
URL:https://stayinmcallen.com/events/utrgv-womens-tennis-at-javelina-jam-2/
LOCATION:Kingsville\, TX
CATEGORIES:UTRGV Athletics
END:VEVENT
BEGIN:VEVENT
DTSTART;TZID=America/Chicago:20240927T124500
DTEND;TZID=America/Chicago:20240927T235900
DTSTAMP:20260425T221820
CREATED:20240816T133707Z
LAST-MODIFIED:20240927T152008Z
UID:10001076-1727441100-1727481540@stayinmcallen.com
SUMMARY:UTRGV Women's Swimming & Diving  Orange and Gray Intrasquad Meet
DESCRIPTION:UTRGV Women’s Swimming & Diving  Orange and Gray Intrasquad Meet
URL:https://stayinmcallen.com/events/utrgv-womens-swimming-diving-orange-and-gray-intrasquad-meet/
LOCATION:Pharr\, TX\, City of Pharr Natatorium
CATEGORIES:UTRGV Athletics
END:VEVENT
BEGIN:VEVENT
DTSTART;TZID=America/Chicago:20240928T090000
DTEND;TZID=America/Chicago:20240928T120000
DTSTAMP:20260425T221820
CREATED:20240705T121450Z
LAST-MODIFIED:20240927T152012Z
UID:10000679-1727514000-1727524800@stayinmcallen.com
SUMMARY:UTRGV Camps  Baseball Kids Camp (Ages 5-13)
DESCRIPTION:UTRGV Camps  Baseball Kids Camp (Ages 5-13)
URL:https://stayinmcallen.com/events/utrgv-camps-baseball-kids-camp-ages-5-13/
LOCATION:Edinburg\, TX\, UTRGV Baseball Stadium
CATEGORIES:UTRGV Athletics
END:VEVENT
BEGIN:VEVENT
DTSTART;TZID=America/Chicago:20240928T090000
DTEND;TZID=America/Chicago:20240928T120000
DTSTAMP:20260425T221820
CREATED:20240705T121454Z
LAST-MODIFIED:20240705T121454Z
UID:10000681-1727514000-1727524800@stayinmcallen.com
SUMMARY:UTRGV Camps  Baseball Kids Camp (Ages 5-13)
DESCRIPTION:UTRGV Camps  Baseball Kids Camp (Ages 5-13)\n https://goutrgv.com/calendar.aspx?game_id=27479&sport_id=23
URL:https://stayinmcallen.com/events/utrgv-camps-baseball-kids-camp-ages-5-13-2/
LOCATION:Edinburg\, TX\, UTRGV Baseball Stadium
CATEGORIES:UTRGV Athletics
END:VEVENT
BEGIN:VEVENT
DTSTART;TZID=America/Chicago:20240928T140000
DTEND;TZID=America/Chicago:20240928T160000
DTSTAMP:20260425T221820
CREATED:20240712T122143Z
LAST-MODIFIED:20240927T152017Z
UID:10000743-1727532000-1727539200@stayinmcallen.com
SUMMARY:UTRGV Volleyball vs Stephen F. Austin - Campers Day
DESCRIPTION:UTRGV Volleyball vs Stephen F. Austin – Campers Day\nTV: ESPN+ (USA) | Southland International\nStreaming Video: http://plus.espn.com/\nTickets: https://www.showpass.com/2024-2025-volleyball-season-tickets-2/
URL:https://stayinmcallen.com/events/utrgv-volleyball-vs-stephen-f-austin-2/
LOCATION:Edinburg\, TX\, UTRGV Fieldhouse
CATEGORIES:UTRGV Athletics
END:VEVENT
BEGIN:VEVENT
DTSTART;TZID=America/Chicago:20240928T140000
DTEND;TZID=America/Chicago:20240928T160000
DTSTAMP:20260425T221820
CREATED:20240712T122148Z
LAST-MODIFIED:20240712T122148Z
UID:10000748-1727532000-1727539200@stayinmcallen.com
SUMMARY:UTRGV Volleyball vs Stephen F. Austin
DESCRIPTION:UTRGV Volleyball vs Stephen F. Austin\nStreaming Video: http://plus.espn.com/\nTickets: https://www.showpass.com/2024-2025-volleyball-season-tickets-2/\n https://goutrgv.com/calendar.aspx?game_id=27456&sport_id=12
URL:https://stayinmcallen.com/events/utrgv-volleyball-vs-stephen-f-austin-3/
LOCATION:Edinburg\, TX\, UTRGV Fieldhouse
CATEGORIES:UTRGV Athletics
END:VEVENT
BEGIN:VEVENT
DTSTART;TZID=America/Chicago:20240929T120000
DTEND;TZID=America/Chicago:20240929T140000
DTSTAMP:20260425T221820
CREATED:20240621T115953Z
LAST-MODIFIED:20240927T152023Z
UID:10000639-1727611200-1727618400@stayinmcallen.com
SUMMARY:UTRGV Women's Soccer vs McNeese
DESCRIPTION:UTRGV Women’s Soccer vs McNeese\nTV: ESPN+ (USA) | Southland International\nStreaming Video: http://plus.espn.com/\nTickets: https://www.showpass.com/2024-2025-soccer-season-pass/
URL:https://stayinmcallen.com/events/utrgv-womens-soccer-vs-mcneese-state/
LOCATION:Edinburg\, TX\, UTRGV Soccer and Track & Field Complex
CATEGORIES:UTRGV Athletics
END:VEVENT
BEGIN:VEVENT
DTSTART;TZID=America/Chicago:20240929T190000
DTEND;TZID=America/Chicago:20240929T210000
DTSTAMP:20260425T221820
CREATED:20240719T123741Z
LAST-MODIFIED:20240927T152028Z
UID:10000827-1727636400-1727643600@stayinmcallen.com
SUMMARY:UTRGV Men's Soccer at SMU
DESCRIPTION:UTRGV Men’s Soccer at SMU\nTV: ACCNX\nStreaming Video: https://www.espn.com/search/_/q/smu/o/watch/
URL:https://stayinmcallen.com/events/utrgv-mens-soccer-at-smu-2/
LOCATION:Dallas\, TX
CATEGORIES:UTRGV Athletics
END:VEVENT
BEGIN:VEVENT
DTSTART;VALUE=DATE:20240929
DTEND;VALUE=DATE:20241001
DTSTAMP:20260425T221820
CREATED:20240802T130757Z
LAST-MODIFIED:20240927T152033Z
UID:10000992-1727636400-1727722799@stayinmcallen.com
SUMMARY:UTRGV Men's Golf  Bayou City Collegiate Classic
DESCRIPTION:UTRGV Men’s Golf  Bayou City Collegiate Classic
URL:https://stayinmcallen.com/events/utrgv-mens-golf-bayou-city-collegiate-classic/
LOCATION:Houston\, TX
CATEGORIES:UTRGV Athletics
END:VEVENT
BEGIN:VEVENT
DTSTART;VALUE=DATE:20240929
DTEND;VALUE=DATE:20241001
DTSTAMP:20260425T221820
CREATED:20240802T130759Z
LAST-MODIFIED:20240802T130759Z
UID:10000990-1727636400-1727722799@stayinmcallen.com
SUMMARY:UTRGV Men's Golf  Bayou City Collegiate Classic
DESCRIPTION:UTRGV Men’s Golf  Bayou City Collegiate Classic\n https://goutrgv.com/calendar.aspx?game_id=27623&sport_id=5
URL:https://stayinmcallen.com/events/utrgv-mens-golf-bayou-city-collegiate-classic-2/
LOCATION:Houston\, TX
CATEGORIES:UTRGV Athletics
END:VEVENT
BEGIN:VEVENT
DTSTART;VALUE=DATE:20240929
DTEND;VALUE=DATE:20241001
DTSTAMP:20260425T221820
CREATED:20240802T130803Z
LAST-MODIFIED:20240927T152038Z
UID:10000993-1727636400-1727722799@stayinmcallen.com
SUMMARY:UTRGV Women's Golf  Diane Thomason Invitational
DESCRIPTION:UTRGV Women’s Golf  Diane Thomason Invitational
URL:https://stayinmcallen.com/events/utrgv-womens-golf-diane-thomason-invitational/
LOCATION:Iowa City\, IA
CATEGORIES:UTRGV Athletics
END:VEVENT
BEGIN:VEVENT
DTSTART;VALUE=DATE:20240929
DTEND;VALUE=DATE:20241001
DTSTAMP:20260425T221820
CREATED:20240802T130805Z
LAST-MODIFIED:20240802T130805Z
UID:10000991-1727636400-1727722799@stayinmcallen.com
SUMMARY:UTRGV Women's Golf  Diane Thomason Invitational
DESCRIPTION:UTRGV Women’s Golf  Diane Thomason Invitational\n https://goutrgv.com/calendar.aspx?game_id=27595&sport_id=9
URL:https://stayinmcallen.com/events/utrgv-womens-golf-diane-thomason-invitational-2/
LOCATION:Iowa City\, IA
CATEGORIES:UTRGV Athletics
END:VEVENT
BEGIN:VEVENT
DTSTART;TZID=America/Chicago:20241003T180000
DTEND;TZID=America/Chicago:20241003T200000
DTSTAMP:20260425T221820
CREATED:20240712T122154Z
LAST-MODIFIED:20240927T152049Z
UID:10000749-1727978400-1727985600@stayinmcallen.com
SUMMARY:UTRGV Volleyball at Incarnate Word
DESCRIPTION:UTRGV Volleyball at Incarnate Word\nTV: ESPN+ (USA) | Southland International\nStreaming Video: http://plus.espn.com/
URL:https://stayinmcallen.com/events/utrgv-volleyball-at-incarnate-word/
LOCATION:San Antonio\, TX
CATEGORIES:UTRGV Athletics
END:VEVENT
BEGIN:VEVENT
DTSTART;TZID=America/Chicago:20241003T183000
DTEND;TZID=America/Chicago:20241003T203000
DTSTAMP:20260425T221820
CREATED:20240621T115959Z
LAST-MODIFIED:20240927T152044Z
UID:10000640-1727980200-1727987400@stayinmcallen.com
SUMMARY:UTRGV Women's Soccer vs Houston Christian
DESCRIPTION:UTRGV Women’s Soccer vs Houston Christian\nTV: ESPN+ (USA) | Southland International\nStreaming Video: http://plus.espn.com/\nTickets: https://www.showpass.com/2024-2025-soccer-season-pass/
URL:https://stayinmcallen.com/events/utrgv-womens-soccer-vs-houston-christian/
LOCATION:Edinburg\, TX\, UTRGV Soccer and Track & Field Complex
CATEGORIES:UTRGV Athletics
END:VEVENT
BEGIN:VEVENT
DTSTART;TZID=America/Chicago:20241005T130000
DTEND;TZID=America/Chicago:20241005T150000
DTSTAMP:20260425T221820
CREATED:20240712T122206Z
LAST-MODIFIED:20241004T155005Z
UID:10000750-1728133200-1728140400@stayinmcallen.com
SUMMARY:UTRGV Volleyball at Houston Christian
DESCRIPTION:UTRGV Volleyball at Houston Christian
URL:https://stayinmcallen.com/events/utrgv-volleyball-at-houston-christian-3/
LOCATION:Houston\, TX
CATEGORIES:UTRGV Athletics
END:VEVENT
BEGIN:VEVENT
DTSTART;TZID=America/Chicago:20241005T130000
DTEND;TZID=America/Chicago:20241005T150000
DTSTAMP:20260425T221820
CREATED:20240712T122219Z
LAST-MODIFIED:20240712T122219Z
UID:10000753-1728133200-1728140400@stayinmcallen.com
SUMMARY:UTRGV Volleyball at Houston Christian
DESCRIPTION:UTRGV Volleyball at Houston Christian\nStreaming Video: http://plus.espn.com/\n https://goutrgv.com/calendar.aspx?game_id=27458&sport_id=12
URL:https://stayinmcallen.com/events/utrgv-volleyball-at-houston-christian-4/
LOCATION:Houston\, TX
CATEGORIES:UTRGV Athletics
END:VEVENT
BEGIN:VEVENT
DTSTART;VALUE=DATE:20241005
DTEND;VALUE=DATE:20241008
DTSTAMP:20260425T221820
CREATED:20240802T130825Z
LAST-MODIFIED:20241004T155018Z
UID:10000994-1728154800-1728327599@stayinmcallen.com
SUMMARY:UTRGV Men's Golf  Trinity Forest Invitational
DESCRIPTION:UTRGV Men’s Golf  Trinity Forest Invitational
URL:https://stayinmcallen.com/events/utrgv-mens-golf-trinity-forest-invitational/
LOCATION:Dallas\, TX
CATEGORIES:UTRGV Athletics
END:VEVENT
BEGIN:VEVENT
DTSTART;TZID=America/Chicago:20241006T100000
DTEND;TZID=America/Chicago:20241006T130000
DTSTAMP:20260425T221820
CREATED:20240913T143724Z
LAST-MODIFIED:20240927T152111Z
UID:10001189-1728208800-1728219600@stayinmcallen.com
SUMMARY:UTRGV Camps  Baseball Prospect Camp (Ages 14+)
DESCRIPTION:UTRGV Camps  Baseball Prospect Camp (Ages 14+)
URL:https://stayinmcallen.com/events/utrgv-camps-baseball-prospect-camp-ages-14/
LOCATION:Edinburg\, TX\, UTRGV Baseball Stadium
CATEGORIES:UTRGV Athletics
END:VEVENT
BEGIN:VEVENT
DTSTART;TZID=America/Chicago:20241006T100000
DTEND;TZID=America/Chicago:20241006T130000
DTSTAMP:20260425T221820
CREATED:20240913T143729Z
LAST-MODIFIED:20240913T143729Z
UID:10001188-1728208800-1728219600@stayinmcallen.com
SUMMARY:UTRGV Camps  Baseball Prospect Camp (Ages 14+)
DESCRIPTION:UTRGV Camps  Baseball Prospect Camp (Ages 14+)
URL:https://stayinmcallen.com/events/utrgv-camps-baseball-prospect-camp-ages-14-2/
LOCATION:Edinburg\, TX\, UTRGV Baseball Stadium
CATEGORIES:UTRGV Athletics
END:VEVENT
BEGIN:VEVENT
DTSTART;TZID=America/Chicago:20241006T110000
DTEND;TZID=America/Chicago:20241006T130000
DTSTAMP:20260425T221820
CREATED:20240621T120008Z
LAST-MODIFIED:20241004T155010Z
UID:10000641-1728212400-1728219600@stayinmcallen.com
SUMMARY:UTRGV Women's Soccer vs Stephen F. Austin
DESCRIPTION:UTRGV Women’s Soccer vs Stephen F. Austin\nTV: ESPN+ (USA) | Southland International\nStreaming Video: http://plus.espn.com/\nTickets: https://www.showpass.com/2024-2025-soccer-season-pass/
URL:https://stayinmcallen.com/events/utrgv-womens-soccer-vs-stephen-f-austin-2/
LOCATION:Edinburg\, TX\, UTRGV Soccer and Track & Field Complex
CATEGORIES:UTRGV Athletics
END:VEVENT
BEGIN:VEVENT
DTSTART;TZID=America/Chicago:20241006T140000
DTEND;TZID=America/Chicago:20241006T160000
DTSTAMP:20260425T221820
CREATED:20240719T123806Z
LAST-MODIFIED:20241004T155014Z
UID:10000828-1728223200-1728230400@stayinmcallen.com
SUMMARY:UTRGV Men's Soccer vs Grand Canyon
DESCRIPTION:UTRGV Men’s Soccer vs Grand Canyon\nTV: ESPN+ (USA) | WAC International\nStreaming Video: http://plus.espn.com/\nTickets: https://www.showpass.com/2024-2025-soccer-season-pass/
URL:https://stayinmcallen.com/events/utrgv-mens-soccer-vs-grand-canyon/
LOCATION:Edinburg\, TX\, UTRGV Soccer and Track & Field Complex
CATEGORIES:UTRGV Athletics
END:VEVENT
BEGIN:VEVENT
DTSTART;TZID=America/Chicago:20241006T140000
DTEND;TZID=America/Chicago:20241006T160000
DTSTAMP:20260425T221820
CREATED:20240719T123825Z
LAST-MODIFIED:20240719T123825Z
UID:10000829-1728223200-1728230400@stayinmcallen.com
SUMMARY:UTRGV Men's Soccer vs Grand Canyon
DESCRIPTION:UTRGV Men’s Soccer vs Grand Canyon\nTV: ESPN+ (USA) | WAC International\nStreaming Video: http://plus.espn.com/\n https://goutrgv.com/calendar.aspx?game_id=27563&sport_id=16
URL:https://stayinmcallen.com/events/utrgv-mens-soccer-vs-grand-canyon-2/
LOCATION:Edinburg\, TX\, UTRGV Soccer and Track & Field Complex
CATEGORIES:UTRGV Athletics
END:VEVENT
BEGIN:VEVENT
DTSTART;TZID=America/Chicago:20241008T183000
DTEND;TZID=America/Chicago:20241008T203000
DTSTAMP:20260425T221820
CREATED:20240712T122217Z
LAST-MODIFIED:20241004T155024Z
UID:10000751-1728412200-1728419400@stayinmcallen.com
SUMMARY:UTRGV Volleyball vs Texas A&M-Corpus Christi - Free #BeatCorpus t-shirts to first 500 fans
DESCRIPTION:UTRGV Volleyball vs Texas A&M-Corpus Christi – Free #BeatCorpus t-shirts to first 500 fans\nTV: ESPN+ (USA) | Southland International\nStreaming Video: https://www.espn.com/watch/player/_/id/78590a58-aad9-47ec-8e5c-a83c6990295d?om-navmethod=espn:globalsearch:results\nTickets: https://www.showpass.com/2024-2025-volleyball-season-tickets/
URL:https://stayinmcallen.com/events/utrgv-volleyball-vs-texas-am-corpus-christi-3/
LOCATION:Edinburg\, TX\, UTRGV Fieldhouse
CATEGORIES:UTRGV Athletics
END:VEVENT
BEGIN:VEVENT
DTSTART;TZID=America/Chicago:20241008T183000
DTEND;TZID=America/Chicago:20241008T203000
DTSTAMP:20260425T221820
CREATED:20240712T122228Z
LAST-MODIFIED:20240712T122228Z
UID:10000754-1728412200-1728419400@stayinmcallen.com
SUMMARY:UTRGV Volleyball vs Texas A&M-Corpus Christi
DESCRIPTION:UTRGV Volleyball vs Texas A&M-Corpus Christi\nStreaming Video: http://plus.espn.com/\nTickets: https://www.showpass.com/2024-2025-volleyball-season-tickets-2/\n https://goutrgv.com/calendar.aspx?game_id=27459&sport_id=12
URL:https://stayinmcallen.com/events/utrgv-volleyball-vs-texas-am-corpus-christi-4/
LOCATION:Edinburg\, TX\, UTRGV Fieldhouse
CATEGORIES:UTRGV Athletics
END:VEVENT
BEGIN:VEVENT
DTSTART;VALUE=DATE:20241009
DTEND;VALUE=DATE:20241014
DTSTAMP:20260425T221820
CREATED:20240830T140825Z
LAST-MODIFIED:20241004T155113Z
UID:10001122-1728500400-1728845999@stayinmcallen.com
SUMMARY:UTRGV Women's Tennis vs ITA Texas Regional
DESCRIPTION:UTRGV Women’s Tennis vs ITA Texas Regional
URL:https://stayinmcallen.com/events/utrgv-womens-tennis-vs-ita-texas-regional/
LOCATION:Fort Worth\, TX
CATEGORIES:UTRGV Athletics
END:VEVENT
BEGIN:VEVENT
DTSTART;TZID=America/Chicago:20241010T183000
DTEND;TZID=America/Chicago:20241010T203000
DTSTAMP:20260425T221820
CREATED:20240712T122223Z
LAST-MODIFIED:20241004T155033Z
UID:10000752-1728585000-1728592200@stayinmcallen.com
SUMMARY:UTRGV Volleyball vs Northwestern State - Dads and Daughters Night
DESCRIPTION:UTRGV Volleyball vs Northwestern State – Dads and Daughters Night\nTV: ESPN+ (USA) | Southland International\nStreaming Video: http://plus.espn.com/\nTickets: https://www.showpass.com/2024-2025-volleyball-season-tickets/
URL:https://stayinmcallen.com/events/utrgv-volleyball-vs-northwestern-state/
LOCATION:Edinburg\, TX\, UTRGV Fieldhouse
CATEGORIES:UTRGV Athletics
END:VEVENT
END:VCALENDAR