BEGIN:VCALENDAR
VERSION:2.0
PRODID:-//Stayinmcallen - ECPv6.15.20//NONSGML v1.0//EN
CALSCALE:GREGORIAN
METHOD:PUBLISH
X-ORIGINAL-URL:https://stayinmcallen.com
X-WR-CALDESC:Events for Stayinmcallen
REFRESH-INTERVAL;VALUE=DURATION:PT1H
X-Robots-Tag:noindex
X-PUBLISHED-TTL:PT1H
BEGIN:VTIMEZONE
TZID:America/Chicago
BEGIN:DAYLIGHT
TZOFFSETFROM:-0600
TZOFFSETTO:-0500
TZNAME:CDT
DTSTART:20230312T080000
END:DAYLIGHT
BEGIN:STANDARD
TZOFFSETFROM:-0500
TZOFFSETTO:-0600
TZNAME:CST
DTSTART:20231105T070000
END:STANDARD
BEGIN:DAYLIGHT
TZOFFSETFROM:-0600
TZOFFSETTO:-0500
TZNAME:CDT
DTSTART:20240310T080000
END:DAYLIGHT
BEGIN:STANDARD
TZOFFSETFROM:-0500
TZOFFSETTO:-0600
TZNAME:CST
DTSTART:20241103T070000
END:STANDARD
BEGIN:DAYLIGHT
TZOFFSETFROM:-0600
TZOFFSETTO:-0500
TZNAME:CDT
DTSTART:20250309T080000
END:DAYLIGHT
BEGIN:STANDARD
TZOFFSETFROM:-0500
TZOFFSETTO:-0600
TZNAME:CST
DTSTART:20251102T070000
END:STANDARD
END:VTIMEZONE
BEGIN:VEVENT
DTSTART;VALUE=DATE:20241024
DTEND;VALUE=DATE:20241027
DTSTAMP:20260425T221821
CREATED:20240830T140928Z
LAST-MODIFIED:20241018T162119Z
UID:10001123-1729796400-1729969199@stayinmcallen.com
SUMMARY:UTRGV Women's Tennis vs SLC Fall Championship
DESCRIPTION:UTRGV Women’s Tennis vs SLC Fall Championship
URL:https://stayinmcallen.com/events/utrgv-womens-tennis-vs-slc-fall-championship/
LOCATION:Hammond\, LA
CATEGORIES:UTRGV Athletics
END:VEVENT
BEGIN:VEVENT
DTSTART;VALUE=DATE:20241024
DTEND;VALUE=DATE:20241027
DTSTAMP:20260425T221821
CREATED:20240830T140933Z
LAST-MODIFIED:20241025T165506Z
UID:10001124-1729796400-1729969199@stayinmcallen.com
SUMMARY:UTRGV Women's Tennis at Bearkat Invite
DESCRIPTION:UTRGV Women’s Tennis at Bearkat Invite
URL:https://stayinmcallen.com/events/utrgv-womens-tennis-at-bearkat-invite/
LOCATION:Huntsville\, TX
CATEGORIES:UTRGV Athletics
END:VEVENT
BEGIN:VEVENT
DTSTART;VALUE=DATE:20241024
DTEND;VALUE=DATE:20241027
DTSTAMP:20260425T221821
CREATED:20240830T140959Z
LAST-MODIFIED:20240830T140959Z
UID:10001126-1729796400-1729969199@stayinmcallen.com
SUMMARY:UTRGV Women's Tennis at Bearkat Invite
DESCRIPTION:UTRGV Women’s Tennis at Bearkat Invite
URL:https://stayinmcallen.com/events/utrgv-womens-tennis-at-bearkat-invite-2/
LOCATION:Huntsville\, TX
CATEGORIES:UTRGV Athletics
END:VEVENT
BEGIN:VEVENT
DTSTART;VALUE=DATE:20241024
DTEND;VALUE=DATE:20241027
DTSTAMP:20260425T221821
CREATED:20240906T142417Z
LAST-MODIFIED:20241025T165515Z
UID:10001172-1729796400-1729969199@stayinmcallen.com
SUMMARY:UTRGV Men's Tennis vs SLC Fall Championship
DESCRIPTION:UTRGV Men’s Tennis vs SLC Fall Championship
URL:https://stayinmcallen.com/events/utrgv-mens-tennis-vs-slc-fall-championship/
LOCATION:Hammond\, LA
CATEGORIES:UTRGV Athletics
END:VEVENT
BEGIN:VEVENT
DTSTART;TZID=America/Chicago:20241026T110000
DTEND;TZID=America/Chicago:20241026T140000
DTSTAMP:20260425T221821
CREATED:20240830T140959Z
LAST-MODIFIED:20241025T165533Z
UID:10001125-1729940400-1729951200@stayinmcallen.com
SUMMARY:UTRGV Women's Swimming & Diving  St. Thomas\, McMurray
DESCRIPTION:UTRGV Women’s Swimming & Diving  St. Thomas\, McMurray
URL:https://stayinmcallen.com/events/utrgv-womens-swimming-diving-st-thomas-mcmurray/
LOCATION:Houston\, TX
CATEGORIES:UTRGV Athletics
END:VEVENT
BEGIN:VEVENT
DTSTART;TZID=America/Chicago:20241026T140000
DTEND;TZID=America/Chicago:20241026T160000
DTSTAMP:20260425T221821
CREATED:20240712T122310Z
LAST-MODIFIED:20241025T165539Z
UID:10000762-1729951200-1729958400@stayinmcallen.com
SUMMARY:UTRGV Volleyball vs Nicholls - Kills & Thrills
DESCRIPTION:UTRGV Volleyball vs Nicholls – Kills & Thrills\nTV: ESPN+ (USA) | Southland International\nStreaming Video: http://plus.espn.com/\nTickets: https://www.showpass.com/2024-2025-volleyball-season-tickets/
URL:https://stayinmcallen.com/events/utrgv-volleyball-vs-nicholls/
LOCATION:Edinburg\, TX\, UTRGV Fieldhouse
CATEGORIES:UTRGV Athletics
END:VEVENT
BEGIN:VEVENT
DTSTART;TZID=America/Chicago:20241026T140000
DTEND;TZID=America/Chicago:20241026T160000
DTSTAMP:20260425T221821
CREATED:20240712T122324Z
LAST-MODIFIED:20240712T122324Z
UID:10000765-1729951200-1729958400@stayinmcallen.com
SUMMARY:UTRGV Volleyball vs Nicholls
DESCRIPTION:UTRGV Volleyball vs Nicholls\nStreaming Video: http://plus.espn.com/\nTickets: https://www.showpass.com/2024-2025-volleyball-season-tickets-2/\n https://goutrgv.com/calendar.aspx?game_id=27465&sport_id=12
URL:https://stayinmcallen.com/events/utrgv-volleyball-vs-nicholls-2/
LOCATION:Edinburg\, TX\, UTRGV Fieldhouse
CATEGORIES:UTRGV Athletics
END:VEVENT
BEGIN:VEVENT
DTSTART;TZID=America/Chicago:20241027T120000
DTEND;TZID=America/Chicago:20241027T140000
DTSTAMP:20260425T221821
CREATED:20240621T120037Z
LAST-MODIFIED:20241025T165546Z
UID:10000645-1730030400-1730037600@stayinmcallen.com
SUMMARY:UTRGV Women's Soccer at Northwestern State
DESCRIPTION:UTRGV Women’s Soccer at Northwestern State\nTV: ESPN+ (USA) | Southland International\nStreaming Video: http://plus.espn.com/
URL:https://stayinmcallen.com/events/utrgv-womens-soccer-at-northwestern-state/
LOCATION:Natchitoches\, LA
CATEGORIES:UTRGV Athletics
END:VEVENT
BEGIN:VEVENT
DTSTART;TZID=America/Chicago:20241027T120000
DTEND;TZID=America/Chicago:20241027T140000
DTSTAMP:20260425T221821
CREATED:20240719T123936Z
LAST-MODIFIED:20241025T165550Z
UID:10000837-1730030400-1730037600@stayinmcallen.com
SUMMARY:UTRGV Men's Soccer vs California Baptist
DESCRIPTION:UTRGV Men’s Soccer vs California Baptist\nTV: ESPN+ (USA) | WAC International\nStreaming Video: http://plus.espn.com/\nTickets: https://www.showpass.com/2024-2025-soccer-season-pass/
URL:https://stayinmcallen.com/events/utrgv-mens-soccer-vs-california-baptist/
LOCATION:Edinburg\, TX\, UTRGV Soccer and Track & Field Complex
CATEGORIES:UTRGV Athletics
END:VEVENT
BEGIN:VEVENT
DTSTART;TZID=America/Chicago:20241031T183000
DTEND;TZID=America/Chicago:20241031T203000
DTSTAMP:20260425T221821
CREATED:20240712T122321Z
LAST-MODIFIED:20241025T165601Z
UID:10000763-1730399400-1730406600@stayinmcallen.com
SUMMARY:UTRGV Volleyball at Texas A&M-Corpus Christi
DESCRIPTION:UTRGV Volleyball at Texas A&M-Corpus Christi\nTV: ESPN+ (USA) | Southland International\nStreaming Video: http://plus.espn.com/
URL:https://stayinmcallen.com/events/utrgv-volleyball-at-texas-am-corpus-christi/
LOCATION:Corpus Christi\, TX
CATEGORIES:UTRGV Athletics
END:VEVENT
BEGIN:VEVENT
DTSTART;TZID=America/Chicago:20241031T183000
DTEND;TZID=America/Chicago:20241031T203000
DTSTAMP:20260425T221821
CREATED:20240712T122334Z
LAST-MODIFIED:20240712T122334Z
UID:10000766-1730399400-1730406600@stayinmcallen.com
SUMMARY:UTRGV Volleyball at Texas A&M-Corpus Christi
DESCRIPTION:UTRGV Volleyball at Texas A&M-Corpus Christi\nStreaming Video: http://plus.espn.com/\n https://goutrgv.com/calendar.aspx?game_id=27467&sport_id=12
URL:https://stayinmcallen.com/events/utrgv-volleyball-at-texas-am-corpus-christi-2/
LOCATION:Corpus Christi\, TX
CATEGORIES:UTRGV Athletics
END:VEVENT
BEGIN:VEVENT
DTSTART;VALUE=DATE:20241031
DTEND;VALUE=DATE:20241102
DTSTAMP:20260425T221821
CREATED:20240809T132547Z
LAST-MODIFIED:20241025T165613Z
UID:10001063-1730401200-1730487599@stayinmcallen.com
SUMMARY:UTRGV Women's Cross Country  SLC Championship
DESCRIPTION:UTRGV Women’s Cross Country  SLC Championship
URL:https://stayinmcallen.com/events/utrgv-womens-cross-country-slc-championship/
LOCATION:New Orleans\, LA
CATEGORIES:UTRGV Athletics
END:VEVENT
BEGIN:VEVENT
DTSTART;VALUE=DATE:20241031
DTEND;VALUE=DATE:20241102
DTSTAMP:20260425T221821
CREATED:20240809T132600Z
LAST-MODIFIED:20240809T132600Z
UID:10001064-1730401200-1730487599@stayinmcallen.com
SUMMARY:UTRGV Men's Cross Country  SLC Championship
DESCRIPTION:UTRGV Men’s Cross Country  SLC Championship\n https://goutrgv.com/calendar.aspx?game_id=27614&sport_id=4
URL:https://stayinmcallen.com/events/utrgv-mens-cross-country-slc-championship-2/
LOCATION:New Orleans\, LA
CATEGORIES:UTRGV Athletics
END:VEVENT
BEGIN:VEVENT
DTSTART;VALUE=DATE:20241031
DTEND;VALUE=DATE:20241102
DTSTAMP:20260425T221821
CREATED:20240809T132606Z
LAST-MODIFIED:20240809T132606Z
UID:10001065-1730401200-1730487599@stayinmcallen.com
SUMMARY:UTRGV Women's Cross Country  SLC Championship
DESCRIPTION:UTRGV Women’s Cross Country  SLC Championship\n https://goutrgv.com/calendar.aspx?game_id=27620&sport_id=13
URL:https://stayinmcallen.com/events/utrgv-womens-cross-country-slc-championship-2/
LOCATION:New Orleans\, LA
CATEGORIES:UTRGV Athletics
END:VEVENT
BEGIN:VEVENT
DTSTART;TZID=America/Chicago:20241031T210000
DTEND;TZID=America/Chicago:20241031T230000
DTSTAMP:20260425T221821
CREATED:20240719T123948Z
LAST-MODIFIED:20241025T165605Z
UID:10000838-1730408400-1730415600@stayinmcallen.com
SUMMARY:UTRGV Men's Soccer at Seattle U
DESCRIPTION:UTRGV Men’s Soccer at Seattle U\nTV: ESPN+ (USA) | WAC International\nStreaming Video: http://plus.espn.com/
URL:https://stayinmcallen.com/events/utrgv-mens-soccer-at-seattle-u/
LOCATION:Seattle\, WA
CATEGORIES:UTRGV Athletics
END:VEVENT
BEGIN:VEVENT
DTSTART;TZID=America/Chicago:20241031T210000
DTEND;TZID=America/Chicago:20241031T230000
DTSTAMP:20260425T221821
CREATED:20240719T124013Z
LAST-MODIFIED:20240719T124013Z
UID:10000840-1730408400-1730415600@stayinmcallen.com
SUMMARY:UTRGV Men's Soccer at Seattle U
DESCRIPTION:UTRGV Men’s Soccer at Seattle U\nTV: ESPN+ (USA) | WAC International\nStreaming Video: http://plus.espn.com/\n https://goutrgv.com/calendar.aspx?game_id=27570&sport_id=16
URL:https://stayinmcallen.com/events/utrgv-mens-soccer-at-seattle-u-2/
LOCATION:Seattle\, WA
CATEGORIES:UTRGV Athletics
END:VEVENT
BEGIN:VEVENT
DTSTART;TZID=America/Chicago:20241101T093000
DTEND;TZID=America/Chicago:20241101T123000
DTSTAMP:20260425T221821
CREATED:20240809T132540Z
LAST-MODIFIED:20241101T171517Z
UID:10001062-1730453400-1730464200@stayinmcallen.com
SUMMARY:UTRGV Men's Cross Country  SLC Championship
DESCRIPTION:UTRGV Men’s Cross Country  SLC Championship \nTV: ESPN+ (USA)
URL:https://stayinmcallen.com/events/utrgv-mens-cross-country-slc-championship/
LOCATION:New Orleans\, LA
CATEGORIES:UTRGV Athletics
END:VEVENT
BEGIN:VEVENT
DTSTART;TZID=America/Chicago:20241101T190000
DTEND;TZID=America/Chicago:20241101T210000
DTSTAMP:20260425T221821
CREATED:20240621T120043Z
LAST-MODIFIED:20241101T171521Z
UID:10000646-1730487600-1730494800@stayinmcallen.com
SUMMARY:UTRGV Women's Soccer at Texas A&M-Corpus Christi
DESCRIPTION:UTRGV Women’s Soccer at Texas A&M-Corpus Christi\nTV: ESPN+ (USA) | Southland International\nStreaming Video: http://plus.espn.com/
URL:https://stayinmcallen.com/events/utrgv-womens-soccer-at-texas-am-corpus-christi-2/
LOCATION:Corpus Christi\, TX
CATEGORIES:UTRGV Athletics
END:VEVENT
BEGIN:VEVENT
DTSTART;TZID=America/Chicago:20241102T100000
DTEND;TZID=America/Chicago:20241102T120000
DTSTAMP:20260425T221821
CREATED:20241011T160732Z
LAST-MODIFIED:20241101T171525Z
UID:10001252-1730541600-1730548800@stayinmcallen.com
SUMMARY:UTRGV Camps  Free Brownsville Tennis Clinic
DESCRIPTION:UTRGV Camps  Free Brownsville Tennis Clinic
URL:https://stayinmcallen.com/events/utrgv-camps-free-brownsville-tennis-clinic/
LOCATION:Brownsville\, TX\, Brownsville Tennis Center
CATEGORIES:UTRGV Athletics
END:VEVENT
BEGIN:VEVENT
DTSTART;TZID=America/Chicago:20241102T110000
DTEND;TZID=America/Chicago:20241102T130000
DTSTAMP:20260425T221821
CREATED:20240712T122332Z
LAST-MODIFIED:20241101T171530Z
UID:10000764-1730545200-1730552400@stayinmcallen.com
SUMMARY:UTRGV Volleyball at Lamar
DESCRIPTION:UTRGV Volleyball at Lamar\nTV: ESPN+ (USA) | Southland International\nStreaming Video: http://plus.espn.com/
URL:https://stayinmcallen.com/events/utrgv-volleyball-at-lamar/
LOCATION:Beaumont\, TX
CATEGORIES:UTRGV Athletics
END:VEVENT
BEGIN:VEVENT
DTSTART;TZID=America/Chicago:20241102T110000
DTEND;TZID=America/Chicago:20241102T130000
DTSTAMP:20260425T221821
CREATED:20240712T122344Z
LAST-MODIFIED:20240712T122344Z
UID:10000767-1730545200-1730552400@stayinmcallen.com
SUMMARY:UTRGV Volleyball at Lamar
DESCRIPTION:UTRGV Volleyball at Lamar\nStreaming Video: http://plus.espn.com/\n https://goutrgv.com/calendar.aspx?game_id=27466&sport_id=12
URL:https://stayinmcallen.com/events/utrgv-volleyball-at-lamar-2/
LOCATION:Beaumont\, TX
CATEGORIES:UTRGV Athletics
END:VEVENT
BEGIN:VEVENT
DTSTART;TZID=America/Chicago:20241103T100000
DTEND;TZID=America/Chicago:20241103T130000
DTSTAMP:20260425T221821
CREATED:20241004T155326Z
LAST-MODIFIED:20241101T171536Z
UID:10001239-1730628000-1730638800@stayinmcallen.com
SUMMARY:UTRGV Camps  Baseball Prospect Camp (Grades 9-12)
DESCRIPTION:UTRGV Camps  Baseball Prospect Camp (Grades 9-12)
URL:https://stayinmcallen.com/events/utrgv-camps-baseball-prospect-camp-grades-9-12/
LOCATION:Edinburg\, TX\, UTRGV Baseball Stadium
CATEGORIES:UTRGV Athletics
END:VEVENT
BEGIN:VEVENT
DTSTART;TZID=America/Chicago:20241103T150000
DTEND;TZID=America/Chicago:20241103T170000
DTSTAMP:20260425T221821
CREATED:20240719T124004Z
LAST-MODIFIED:20241101T171541Z
UID:10000839-1730646000-1730653200@stayinmcallen.com
SUMMARY:UTRGV Men's Soccer at San Jose State
DESCRIPTION:UTRGV Men’s Soccer at San Jose State\nTV: ESPN+ (USA) | WAC International\nStreaming Video: http://plus.espn.com/
URL:https://stayinmcallen.com/events/utrgv-mens-soccer-at-san-jose-state/
LOCATION:San Jose\, CA
CATEGORIES:UTRGV Athletics
END:VEVENT
BEGIN:VEVENT
DTSTART;TZID=America/Chicago:20241103T150000
DTEND;TZID=America/Chicago:20241103T170000
DTSTAMP:20260425T221821
CREATED:20240719T124027Z
LAST-MODIFIED:20240719T124027Z
UID:10000841-1730646000-1730653200@stayinmcallen.com
SUMMARY:UTRGV Men's Soccer at San Jose State
DESCRIPTION:UTRGV Men’s Soccer at San Jose State\nTV: ESPN+ (USA) | WAC International\nStreaming Video: http://plus.espn.com/\n https://goutrgv.com/calendar.aspx?game_id=27571&sport_id=16
URL:https://stayinmcallen.com/events/utrgv-mens-soccer-at-san-jose-state-2/
LOCATION:San Jose\, CA
CATEGORIES:UTRGV Athletics
END:VEVENT
BEGIN:VEVENT
DTSTART;VALUE=DATE:20241104
DTEND;VALUE=DATE:20241106
DTSTAMP:20260425T221821
CREATED:20240802T131109Z
LAST-MODIFIED:20240802T131109Z
UID:10001001-1730743200-1730829599@stayinmcallen.com
SUMMARY:UTRGV Women's Basketball at Houston
DESCRIPTION:UTRGV Women’s Basketball at Houston\nStreaming Video: http://plus.espn.com/\nStreaming Audio: https://uhcougars.com/watch?Archive=3561&type=Live\n https://goutrgv.com/calendar.aspx?game_id=27598&sport_id=8
URL:https://stayinmcallen.com/events/utrgv-womens-basketball-at-houston-2/
LOCATION:Houston\, TX
CATEGORIES:UTRGV Athletics
END:VEVENT
BEGIN:VEVENT
DTSTART;TZID=America/Chicago:20241104T190000
DTEND;TZID=America/Chicago:20241104T210000
DTSTAMP:20260425T221821
CREATED:20240906T142520Z
LAST-MODIFIED:20241101T171545Z
UID:10001173-1730746800-1730754000@stayinmcallen.com
SUMMARY:UTRGV Men's Basketball at Nebraska
DESCRIPTION:UTRGV Men’s Basketball at Nebraska\nTV: B1G+\nStreaming Video: https://www.bigtenplus.com/en-int/page/home
URL:https://stayinmcallen.com/events/utrgv-mens-basketball-at-nebraska/
LOCATION:Lincoln\, NE
CATEGORIES:UTRGV Athletics
END:VEVENT
BEGIN:VEVENT
DTSTART;TZID=America/Chicago:20241105T130000
DTEND;TZID=America/Chicago:20241105T150000
DTSTAMP:20260425T221821
CREATED:20240621T120049Z
LAST-MODIFIED:20241101T171550Z
UID:10000647-1730811600-1730818800@stayinmcallen.com
SUMMARY:UTRGV Women's Soccer vs Quarterfinals
DESCRIPTION:UTRGV Women’s Soccer vs Quarterfinals\nTV: ESPN+ (USA) | Southland International\nStreaming Video: http://plus.espn.com/
URL:https://stayinmcallen.com/events/utrgv-womens-soccer-vs-slc-tournament-quarterfinals/
LOCATION:Corpus Christi\, TX
CATEGORIES:UTRGV Athletics
END:VEVENT
BEGIN:VEVENT
DTSTART;TZID=America/Chicago:20241105T190000
DTEND;TZID=America/Chicago:20241105T210000
DTSTAMP:20260425T221821
CREATED:20240802T131057Z
LAST-MODIFIED:20241101T171554Z
UID:10001000-1730833200-1730840400@stayinmcallen.com
SUMMARY:UTRGV Women's Basketball at Houston
DESCRIPTION:UTRGV Women’s Basketball at Houston\nTV: Big 12 Now on ESPN+\nStreaming Video: http://plus.espn.com/\nStreaming Audio: https://uhcougars.com/watch?Archive=3561&type=Live
URL:https://stayinmcallen.com/events/utrgv-womens-basketball-at-houston/
LOCATION:Houston\, TX
CATEGORIES:UTRGV Athletics
END:VEVENT
BEGIN:VEVENT
DTSTART;TZID=America/Chicago:20241106T200000
DTEND;TZID=America/Chicago:20241106T220000
DTSTAMP:20260425T221821
CREATED:20240906T142534Z
LAST-MODIFIED:20241101T171601Z
UID:10001174-1730923200-1730930400@stayinmcallen.com
SUMMARY:UTRGV Men's Basketball at Creighton
DESCRIPTION:UTRGV Men’s Basketball at Creighton\nTV: FS2\nStreaming Video: https://www.foxsports.com/live
URL:https://stayinmcallen.com/events/utrgv-mens-basketball-at-creighton/
LOCATION:Omaha\, NE
CATEGORIES:UTRGV Athletics
END:VEVENT
BEGIN:VEVENT
DTSTART;TZID=America/Chicago:20241107T160000
DTEND;TZID=America/Chicago:20241107T180000
DTSTAMP:20260425T221821
CREATED:20240621T120055Z
LAST-MODIFIED:20241101T171615Z
UID:10000648-1730995200-1731002400@stayinmcallen.com
SUMMARY:UTRGV Women's Soccer vs Semifinals
DESCRIPTION:UTRGV Women’s Soccer vs Semifinals\nTV: ESPN+ (USA) | Southland International\nStreaming Video: http://plus.espn.com/
URL:https://stayinmcallen.com/events/utrgv-womens-soccer-vs-slc-tournament-semifinals/
LOCATION:Corpus Christi\, TX
CATEGORIES:UTRGV Athletics
END:VEVENT
END:VCALENDAR