BEGIN:VCALENDAR
VERSION:2.0
PRODID:-//Stayinmcallen - ECPv6.15.20//NONSGML v1.0//EN
CALSCALE:GREGORIAN
METHOD:PUBLISH
X-ORIGINAL-URL:https://stayinmcallen.com
X-WR-CALDESC:Events for Stayinmcallen
REFRESH-INTERVAL;VALUE=DURATION:PT1H
X-Robots-Tag:noindex
X-PUBLISHED-TTL:PT1H
BEGIN:VTIMEZONE
TZID:America/Chicago
BEGIN:DAYLIGHT
TZOFFSETFROM:-0600
TZOFFSETTO:-0500
TZNAME:CDT
DTSTART:20240310T080000
END:DAYLIGHT
BEGIN:STANDARD
TZOFFSETFROM:-0500
TZOFFSETTO:-0600
TZNAME:CST
DTSTART:20241103T070000
END:STANDARD
BEGIN:DAYLIGHT
TZOFFSETFROM:-0600
TZOFFSETTO:-0500
TZNAME:CDT
DTSTART:20250309T080000
END:DAYLIGHT
BEGIN:STANDARD
TZOFFSETFROM:-0500
TZOFFSETTO:-0600
TZNAME:CST
DTSTART:20251102T070000
END:STANDARD
BEGIN:DAYLIGHT
TZOFFSETFROM:-0600
TZOFFSETTO:-0500
TZNAME:CDT
DTSTART:20260308T080000
END:DAYLIGHT
BEGIN:STANDARD
TZOFFSETFROM:-0500
TZOFFSETTO:-0600
TZNAME:CST
DTSTART:20261101T070000
END:STANDARD
END:VTIMEZONE
BEGIN:VEVENT
DTSTART;VALUE=DATE:20250201
DTEND;VALUE=DATE:20250204
DTSTAMP:20260425T063638
CREATED:20241220T191817Z
LAST-MODIFIED:20250131T214746Z
UID:10001654-1738432800-1738605599@stayinmcallen.com
SUMMARY:UTRGV Men's Golf  Vaqueros Intercollegiate
DESCRIPTION:UTRGV Men’s Golf  Vaqueros Intercollegiate
URL:https://stayinmcallen.com/events/utrgv-mens-golf-vaqueros-intercollegiate/
LOCATION:Playa Del Carmen\, Mexico
CATEGORIES:UTRGV Athletics
END:VEVENT
BEGIN:VEVENT
DTSTART;VALUE=DATE:20250201
DTEND;VALUE=DATE:20250204
DTSTAMP:20260425T063638
CREATED:20241220T191830Z
LAST-MODIFIED:20241220T191830Z
UID:10001656-1738432800-1738605599@stayinmcallen.com
SUMMARY:UTRGV Men's Golf  Vaqueros Intercollegiate
DESCRIPTION:UTRGV Men’s Golf  Vaqueros Intercollegiate
URL:https://stayinmcallen.com/events/utrgv-mens-golf-vaqueros-intercollegiate-2/
LOCATION:Playa Del Carmen\, Mexico
CATEGORIES:UTRGV Athletics
END:VEVENT
BEGIN:VEVENT
DTSTART;VALUE=DATE:20250202
DTEND;VALUE=DATE:20250204
DTSTAMP:20260425T063638
CREATED:20241220T191812Z
LAST-MODIFIED:20250131T214750Z
UID:10001653-1738519200-1738605599@stayinmcallen.com
SUMMARY:UTRGV Women's Golf  Texas State Invitational
DESCRIPTION:UTRGV Women’s Golf  Texas State Invitational
URL:https://stayinmcallen.com/events/utrgv-womens-golf-texas-state-invitational-2/
LOCATION:Blanco\, TX
CATEGORIES:UTRGV Athletics
END:VEVENT
BEGIN:VEVENT
DTSTART;VALUE=DATE:20250202
DTEND;VALUE=DATE:20250204
DTSTAMP:20260425T063638
CREATED:20241220T191826Z
LAST-MODIFIED:20241220T191826Z
UID:10001655-1738519200-1738605599@stayinmcallen.com
SUMMARY:UTRGV Women's Golf  Texas State Invitational
DESCRIPTION:UTRGV Women’s Golf  Texas State Invitational
URL:https://stayinmcallen.com/events/utrgv-womens-golf-texas-state-invitational-3/
LOCATION:Blanco\, TX
CATEGORIES:UTRGV Athletics
END:VEVENT
BEGIN:VEVENT
DTSTART;TZID=America/Chicago:20250203T183000
DTEND;TZID=America/Chicago:20250203T203000
DTSTAMP:20260425T063638
CREATED:20240719T124515Z
LAST-MODIFIED:20250131T214754Z
UID:10000883-1738607400-1738614600@stayinmcallen.com
SUMMARY:UTRGV Men's Basketball at Northwestern State
DESCRIPTION:UTRGV Men’s Basketball at Northwestern State\nTV: ESPN+ (USA) | Southland International\nStreaming Video: http://plus.espn.com/
URL:https://stayinmcallen.com/events/utrgv-mens-basketball-at-northwestern-state/
LOCATION:Natchitoches\, LA
CATEGORIES:UTRGV Athletics
END:VEVENT
BEGIN:VEVENT
DTSTART;TZID=America/Chicago:20250206T140000
DTEND;TZID=America/Chicago:20250206T170000
DTSTAMP:20260425T063638
CREATED:20241213T184905Z
LAST-MODIFIED:20250131T214807Z
UID:10001520-1738850400-1738861200@stayinmcallen.com
SUMMARY:UTRGV Women's Tennis at St. Mary's
DESCRIPTION:UTRGV Women’s Tennis at St. Mary’s
URL:https://stayinmcallen.com/events/utrgv-womens-tennis-at-st-marys-2/
LOCATION:San Antonio\, TX
CATEGORIES:UTRGV Athletics
END:VEVENT
BEGIN:VEVENT
DTSTART;TZID=America/Chicago:20250206T140000
DTEND;TZID=America/Chicago:20250206T170000
DTSTAMP:20260425T063638
CREATED:20241213T184935Z
LAST-MODIFIED:20241213T184935Z
UID:10001522-1738850400-1738861200@stayinmcallen.com
SUMMARY:UTRGV Women's Tennis at St. Mary's
DESCRIPTION:UTRGV Women’s Tennis at St. Mary’s
URL:https://stayinmcallen.com/events/utrgv-womens-tennis-at-st-marys-3/
LOCATION:San Antonio\, TX
CATEGORIES:UTRGV Athletics
END:VEVENT
BEGIN:VEVENT
DTSTART;TZID=America/Chicago:20250206T183000
DTEND;TZID=America/Chicago:20250206T203000
DTSTAMP:20260425T063638
CREATED:20240719T124521Z
LAST-MODIFIED:20250131T214811Z
UID:10000884-1738866600-1738873800@stayinmcallen.com
SUMMARY:UTRGV Women's Basketball at Stephen F. Austin
DESCRIPTION:UTRGV Women’s Basketball at Stephen F. Austin\nTV: ESPN+ (USA) | Southland International\nStreaming Video: http://plus.espn.com/
URL:https://stayinmcallen.com/events/utrgv-womens-basketball-at-stephen-f-austin-3/
LOCATION:Nacogdoches\, TX
CATEGORIES:UTRGV Athletics
END:VEVENT
BEGIN:VEVENT
DTSTART;VALUE=DATE:20250207
DTEND;VALUE=DATE:20250209
DTSTAMP:20260425T063638
CREATED:20240719T124556Z
LAST-MODIFIED:20240719T124556Z
UID:10000890-1738951200-1739037599@stayinmcallen.com
SUMMARY:UTRGV Women's Basketball at Lamar
DESCRIPTION:UTRGV Women’s Basketball at Lamar\nStreaming Video: http://plus.espn.com/\n https://goutrgv.com/calendar.aspx?game_id=27513&sport_id=8
URL:https://stayinmcallen.com/events/utrgv-womens-basketball-at-lamar-2/
LOCATION:Beaumont\, TX
CATEGORIES:UTRGV Athletics
END:VEVENT
BEGIN:VEVENT
DTSTART;VALUE=DATE:20250207
DTEND;VALUE=DATE:20250209
DTSTAMP:20260425T063638
CREATED:20240719T124601Z
LAST-MODIFIED:20240719T124601Z
UID:10000891-1738951200-1739037599@stayinmcallen.com
SUMMARY:UTRGV Men's Basketball at Lamar
DESCRIPTION:UTRGV Men’s Basketball at Lamar\nTV: ESPN+ (USA)\nStreaming Video: http://plus.espn.com/\n https://goutrgv.com/calendar.aspx?game_id=27541&sport_id=3
URL:https://stayinmcallen.com/events/utrgv-mens-basketball-at-lamar-2/
LOCATION:Beaumont\, TX
CATEGORIES:UTRGV Athletics
END:VEVENT
BEGIN:VEVENT
DTSTART;TZID=America/Chicago:20250208T120000
DTEND;TZID=America/Chicago:20250208T150000
DTSTAMP:20260425T063638
CREATED:20240816T134700Z
LAST-MODIFIED:20250207T220215Z
UID:10001086-1739016000-1739026800@stayinmcallen.com
SUMMARY:UTRGV Women's Swimming & Diving  Idaho
DESCRIPTION:UTRGV Women’s Swimming & Diving  Idaho
URL:https://stayinmcallen.com/events/utrgv-womens-swimming-diving-idaho-state/
LOCATION:Moscow\, ID
CATEGORIES:UTRGV Athletics
END:VEVENT
BEGIN:VEVENT
DTSTART;TZID=America/Chicago:20250208T150000
DTEND;TZID=America/Chicago:20250208T170000
DTSTAMP:20260425T063638
CREATED:20240719T124527Z
LAST-MODIFIED:20250207T220219Z
UID:10000885-1739026800-1739034000@stayinmcallen.com
SUMMARY:UTRGV Women's Basketball at Lamar
DESCRIPTION:UTRGV Women’s Basketball at Lamar\nTV: ESPN+ (USA)\nStreaming Video: https://www.espn.com/watch/catalog/01209caa-9a9a-4275-b784-c8cdff2fbd7c/southland-conference#bucketId=29784&sourceCollection=Browse_By_Top_Conferences
URL:https://stayinmcallen.com/events/utrgv-womens-basketball-at-lamar/
LOCATION:Beaumont\, TX
CATEGORIES:UTRGV Athletics
END:VEVENT
BEGIN:VEVENT
DTSTART;TZID=America/Chicago:20250208T180000
DTEND;TZID=America/Chicago:20250208T200000
DTSTAMP:20260425T063638
CREATED:20240719T124534Z
LAST-MODIFIED:20250207T220223Z
UID:10000886-1739037600-1739044800@stayinmcallen.com
SUMMARY:UTRGV Men's Basketball at Lamar
DESCRIPTION:UTRGV Men’s Basketball at Lamar\nTV: ESPN+ (USA) | Southland International\nStreaming Video: http://plus.espn.com/
URL:https://stayinmcallen.com/events/utrgv-mens-basketball-at-lamar/
LOCATION:Beaumont\, TX
CATEGORIES:UTRGV Athletics
END:VEVENT
BEGIN:VEVENT
DTSTART;TZID=America/Chicago:20250209T100000
DTEND;TZID=America/Chicago:20250209T130000
DTSTAMP:20260425T063638
CREATED:20241213T184920Z
LAST-MODIFIED:20250207T220228Z
UID:10001521-1739095200-1739106000@stayinmcallen.com
SUMMARY:UTRGV Women's Tennis vs Prairie View A&M
DESCRIPTION:UTRGV Women’s Tennis vs Prairie View A&M
URL:https://stayinmcallen.com/events/utrgv-womens-tennis-vs-prairie-view-am/
LOCATION:Edinburg\, TX\, Orville I. Cox Tennis Center
CATEGORIES:UTRGV Athletics
END:VEVENT
BEGIN:VEVENT
DTSTART;TZID=America/Chicago:20250209T130000
DTEND;TZID=America/Chicago:20250209T160000
DTSTAMP:20260425T063638
CREATED:20241213T184926Z
LAST-MODIFIED:20250207T220233Z
UID:10001523-1739106000-1739116800@stayinmcallen.com
SUMMARY:UTRGV Men's Tennis vs Prairie View A&M
DESCRIPTION:UTRGV Men’s Tennis vs Prairie View A&M
URL:https://stayinmcallen.com/events/utrgv-mens-tennis-vs-prairie-view-am/
LOCATION:Edinburg\, TX\, Orville I. Cox Tennis Center
CATEGORIES:UTRGV Athletics
END:VEVENT
BEGIN:VEVENT
DTSTART;VALUE=DATE:20250209
DTEND;VALUE=DATE:20250211
DTSTAMP:20260425T063638
CREATED:20240719T124607Z
LAST-MODIFIED:20240719T124607Z
UID:10000892-1739124000-1739210399@stayinmcallen.com
SUMMARY:UTRGV Men's Basketball at Stephen F. Austin
DESCRIPTION:UTRGV Men’s Basketball at Stephen F. Austin\nTV: ESPN+ (USA)\nStreaming Video: http://plus.espn.com/\n https://goutrgv.com/calendar.aspx?game_id=27542&sport_id=3
URL:https://stayinmcallen.com/events/utrgv-mens-basketball-at-stephen-f-austin-4/
LOCATION:Nacogdoches\, TX
CATEGORIES:UTRGV Athletics
END:VEVENT
BEGIN:VEVENT
DTSTART;TZID=America/Chicago:20250210T183000
DTEND;TZID=America/Chicago:20250210T203000
DTSTAMP:20260425T063638
CREATED:20240719T124539Z
LAST-MODIFIED:20250207T220238Z
UID:10000887-1739212200-1739219400@stayinmcallen.com
SUMMARY:UTRGV Men's Basketball at Stephen F. Austin
DESCRIPTION:UTRGV Men’s Basketball at Stephen F. Austin\nTV: ESPN+ (USA) | Southland International\nStreaming Video: http://plus.espn.com/
URL:https://stayinmcallen.com/events/utrgv-mens-basketball-at-stephen-f-austin-3/
LOCATION:Nacogdoches\, TX
CATEGORIES:UTRGV Athletics
END:VEVENT
BEGIN:VEVENT
DTSTART;TZID=America/Chicago:20250213T100000
DTEND;TZID=America/Chicago:20250213T130000
DTSTAMP:20260425T063638
CREATED:20241213T184944Z
LAST-MODIFIED:20250207T220242Z
UID:10001524-1739440800-1739451600@stayinmcallen.com
SUMMARY:UTRGV Women's Tennis vs Texas A&M-Corpus Christi
DESCRIPTION:UTRGV Women’s Tennis vs Texas A&M-Corpus Christi
URL:https://stayinmcallen.com/events/utrgv-womens-tennis-vs-texas-am-corpus-christi-4/
LOCATION:Edinburg\, TX\, Orville I. Cox Tennis Center
CATEGORIES:UTRGV Athletics
END:VEVENT
BEGIN:VEVENT
DTSTART;TZID=America/Chicago:20250213T133000
DTEND;TZID=America/Chicago:20250213T163000
DTSTAMP:20260425T063638
CREATED:20241213T184950Z
LAST-MODIFIED:20250207T220246Z
UID:10001525-1739453400-1739464200@stayinmcallen.com
SUMMARY:UTRGV Men's Tennis vs Texas A&M-Corpus Christi
DESCRIPTION:UTRGV Men’s Tennis vs Texas A&M-Corpus Christi
URL:https://stayinmcallen.com/events/utrgv-mens-tennis-vs-texas-am-corpus-christi-3/
LOCATION:Edinburg\, TX\, Orville I. Cox Tennis Center
CATEGORIES:UTRGV Athletics
END:VEVENT
BEGIN:VEVENT
DTSTART;VALUE=DATE:20250213
DTEND;VALUE=DATE:20250215
DTSTAMP:20260425T063638
CREATED:20241213T185044Z
LAST-MODIFIED:20241213T185044Z
UID:10001528-1739469600-1739555999@stayinmcallen.com
SUMMARY:UTRGV Men's Track & Field  Jarvis Scott Invitational
DESCRIPTION:UTRGV Men’s Track & Field  Jarvis Scott Invitational
URL:https://stayinmcallen.com/events/utrgv-mens-track-field-jarvis-scott-invitational-2/
LOCATION:Lubbock\, TX
CATEGORIES:UTRGV Athletics
END:VEVENT
BEGIN:VEVENT
DTSTART;VALUE=DATE:20250213
DTEND;VALUE=DATE:20250215
DTSTAMP:20260425T063638
CREATED:20241213T185050Z
LAST-MODIFIED:20241213T185050Z
UID:10001529-1739469600-1739555999@stayinmcallen.com
SUMMARY:UTRGV Women's Track & Field  Jarvis Scott Invitational
DESCRIPTION:UTRGV Women’s Track & Field  Jarvis Scott Invitational
URL:https://stayinmcallen.com/events/utrgv-womens-track-field-jarvis-scott-invitational-2/
LOCATION:Lubbock\, TX
CATEGORIES:UTRGV Athletics
END:VEVENT
BEGIN:VEVENT
DTSTART;TZID=America/Chicago:20250213T183000
DTEND;TZID=America/Chicago:20250213T203000
DTSTAMP:20260425T063638
CREATED:20240719T124545Z
LAST-MODIFIED:20250207T220251Z
UID:10000888-1739471400-1739478600@stayinmcallen.com
SUMMARY:UTRGV Women's Basketball vs Incarnate Word - Breast Cancer Awareness • Burning of UTRGV Letters • Food & Guest Tickets for UTRGV Students
DESCRIPTION:UTRGV Women’s Basketball vs Incarnate Word – Breast Cancer Awareness • Burning of UTRGV Letters • Food & Guest Tickets for UTRGV Students\nTV: ESPN+ (USA) | Southland International\nStreaming Video: http://plus.espn.com/\nTickets: https://www.showpass.com/o/university-of-texas-rio-grande-valley-utrgv/
URL:https://stayinmcallen.com/events/utrgv-womens-basketball-vs-incarnate-word/
LOCATION:Edinburg\, TX\, UTRGV Fieldhouse
CATEGORIES:UTRGV Athletics
END:VEVENT
BEGIN:VEVENT
DTSTART;TZID=America/Chicago:20250213T183000
DTEND;TZID=America/Chicago:20250213T203000
DTSTAMP:20260425T063638
CREATED:20240719T124613Z
LAST-MODIFIED:20240719T124613Z
UID:10000893-1739471400-1739478600@stayinmcallen.com
SUMMARY:UTRGV Women's Basketball vs Incarnate Word
DESCRIPTION:UTRGV Women’s Basketball vs Incarnate Word\nStreaming Video: http://plus.espn.com/\nTickets: https://www.showpass.com/2024-2025-basketball-season-tickets/\n https://goutrgv.com/calendar.aspx?game_id=27514&sport_id=8
URL:https://stayinmcallen.com/events/utrgv-womens-basketball-vs-incarnate-word-2/
LOCATION:Edinburg\, TX\, UTRGV Fieldhouse
CATEGORIES:UTRGV Athletics
END:VEVENT
BEGIN:VEVENT
DTSTART;TZID=America/Chicago:20250214T150000
DTEND;TZID=America/Chicago:20250214T235900
DTSTAMP:20260425T063638
CREATED:20241213T184958Z
LAST-MODIFIED:20250214T221717Z
UID:10001526-1739545200-1739577540@stayinmcallen.com
SUMMARY:UTRGV Men's Track & Field  Jarvis Scott Invitational
DESCRIPTION:UTRGV Men’s Track & Field  Jarvis Scott Invitational
URL:https://stayinmcallen.com/events/utrgv-mens-track-field-jarvis-scott-invitational/
LOCATION:Lubbock\, TX
CATEGORIES:UTRGV Athletics
END:VEVENT
BEGIN:VEVENT
DTSTART;TZID=America/Chicago:20250214T150000
DTEND;TZID=America/Chicago:20250214T235900
DTSTAMP:20260425T063638
CREATED:20241213T185003Z
LAST-MODIFIED:20250214T221713Z
UID:10001527-1739545200-1739577540@stayinmcallen.com
SUMMARY:UTRGV Women's Track & Field  Jarvis Scott Invitational
DESCRIPTION:UTRGV Women’s Track & Field  Jarvis Scott Invitational
URL:https://stayinmcallen.com/events/utrgv-womens-track-field-jarvis-scott-invitational/
LOCATION:Lubbock\, TX
CATEGORIES:UTRGV Athletics
END:VEVENT
BEGIN:VEVENT
DTSTART;TZID=America/Chicago:20250214T183000
DTEND;TZID=America/Chicago:20250214T213000
DTSTAMP:20260425T063638
CREATED:20241122T180506Z
LAST-MODIFIED:20250214T221721Z
UID:10001355-1739557800-1739568600@stayinmcallen.com
SUMMARY:UTRGV Baseball vs Southern Illinois - Free T-Shirts • Postgame Fireworks Show • Main Event Wristband Giveaway
DESCRIPTION:UTRGV Baseball vs Southern Illinois – Free T-Shirts • Postgame Fireworks Show • Main Event Wristband Giveaway\nTV: ESPN+ (USA) | Southland International\nStreaming Video: http://www.southland.org/espn\nTickets: http://utrgvtickets.com/
URL:https://stayinmcallen.com/events/utrgv-baseball-vs-southern-illinois/
LOCATION:Edinburg\, TX\, UTRGV Baseball Stadium
CATEGORIES:UTRGV Athletics
END:VEVENT
BEGIN:VEVENT
DTSTART;TZID=America/Chicago:20250214T183000
DTEND;TZID=America/Chicago:20250214T213000
DTSTAMP:20260425T063638
CREATED:20241122T180529Z
LAST-MODIFIED:20241122T180529Z
UID:10001359-1739557800-1739568600@stayinmcallen.com
SUMMARY:UTRGV Baseball vs Southern Illinois
DESCRIPTION:UTRGV Baseball vs Southern Illinois\nTV: ESPN+ (USA) | Southland International\nStreaming Video: http://www.southland.org/espn\nTickets: http://utrgvtickets.com/
URL:https://stayinmcallen.com/events/utrgv-baseball-vs-southern-illinois-4/
LOCATION:Edinburg\, TX\, UTRGV Baseball Stadium
CATEGORIES:UTRGV Athletics
END:VEVENT
BEGIN:VEVENT
DTSTART;TZID=America/Chicago:20250215T140000
DTEND;TZID=America/Chicago:20250215T160000
DTSTAMP:20260425T063638
CREATED:20240719T124551Z
LAST-MODIFIED:20250214T221725Z
UID:10000889-1739628000-1739635200@stayinmcallen.com
SUMMARY:UTRGV Women's Basketball vs Houston Christian - Homecoming • Battle of the Colleges • Free Food for UTRGV Students • UTRGV Student Guest Tickets
DESCRIPTION:UTRGV Women’s Basketball vs Houston Christian – Homecoming • Battle of the Colleges • Free Food for UTRGV Students • UTRGV Student Guest Tickets\nTV: ESPN+ (USA) | Southland International\nStreaming Video: http://plus.espn.com/\nTickets: https://www.showpass.com/o/university-of-texas-rio-grande-valley-utrgv/
URL:https://stayinmcallen.com/events/utrgv-womens-basketball-vs-houston-christian/
LOCATION:Edinburg\, TX\, UTRGV Fieldhouse
CATEGORIES:UTRGV Athletics
END:VEVENT
BEGIN:VEVENT
DTSTART;TZID=America/Chicago:20250215T163000
DTEND;TZID=America/Chicago:20250215T183000
DTSTAMP:20260425T063638
CREATED:20240719T124558Z
LAST-MODIFIED:20250214T221729Z
UID:10000894-1739637000-1739644200@stayinmcallen.com
SUMMARY:UTRGV Men's Basketball vs Houston Christian - Homecoming • Battle of the Colleges • Free Food for UTRGV Students • UTRGV Student Guest Tickets
DESCRIPTION:UTRGV Men’s Basketball vs Houston Christian – Homecoming • Battle of the Colleges • Free Food for UTRGV Students • UTRGV Student Guest Tickets\nTV: ESPN+ (USA) | Southland International\nStreaming Video: http://plus.espn.com/\nTickets: https://www.showpass.com/o/university-of-texas-rio-grande-valley-utrgv/
URL:https://stayinmcallen.com/events/utrgv-mens-basketball-vs-houston-christian/
LOCATION:Edinburg\, TX\, UTRGV Fieldhouse
CATEGORIES:UTRGV Athletics
END:VEVENT
BEGIN:VEVENT
DTSTART;TZID=America/Chicago:20250215T183000
DTEND;TZID=America/Chicago:20250215T213000
DTSTAMP:20260425T063638
CREATED:20241122T180520Z
LAST-MODIFIED:20250214T221735Z
UID:10001356-1739644200-1739655000@stayinmcallen.com
SUMMARY:UTRGV Baseball vs Southern Illinois  - Baseball/Basketball Bundle
DESCRIPTION:UTRGV Baseball vs Southern Illinois  – Baseball/Basketball Bundle\nTV: ESPN+ (USA) | Southland International\nStreaming Video: http://www.southland.org/espn\nTickets: http://utrgvtickets.com/
URL:https://stayinmcallen.com/events/utrgv-baseball-vs-southern-illinois-2/
LOCATION:Edinburg\, TX\, UTRGV Baseball Stadium
CATEGORIES:UTRGV Athletics
END:VEVENT
END:VCALENDAR