BEGIN:VCALENDAR
VERSION:2.0
PRODID:-//Stayinmcallen - ECPv6.15.20//NONSGML v1.0//EN
CALSCALE:GREGORIAN
METHOD:PUBLISH
X-ORIGINAL-URL:https://stayinmcallen.com
X-WR-CALDESC:Events for Stayinmcallen
REFRESH-INTERVAL;VALUE=DURATION:PT1H
X-Robots-Tag:noindex
X-PUBLISHED-TTL:PT1H
BEGIN:VTIMEZONE
TZID:America/Chicago
BEGIN:DAYLIGHT
TZOFFSETFROM:-0600
TZOFFSETTO:-0500
TZNAME:CDT
DTSTART:20230312T080000
END:DAYLIGHT
BEGIN:STANDARD
TZOFFSETFROM:-0500
TZOFFSETTO:-0600
TZNAME:CST
DTSTART:20231105T070000
END:STANDARD
BEGIN:DAYLIGHT
TZOFFSETFROM:-0600
TZOFFSETTO:-0500
TZNAME:CDT
DTSTART:20240310T080000
END:DAYLIGHT
BEGIN:STANDARD
TZOFFSETFROM:-0500
TZOFFSETTO:-0600
TZNAME:CST
DTSTART:20241103T070000
END:STANDARD
BEGIN:DAYLIGHT
TZOFFSETFROM:-0600
TZOFFSETTO:-0500
TZNAME:CDT
DTSTART:20250309T080000
END:DAYLIGHT
BEGIN:STANDARD
TZOFFSETFROM:-0500
TZOFFSETTO:-0600
TZNAME:CST
DTSTART:20251102T070000
END:STANDARD
END:VTIMEZONE
BEGIN:VEVENT
DTSTART;VALUE=DATE:20240914
DTEND;VALUE=DATE:20240917
DTSTAMP:20260425T221703
CREATED:20240802T130637Z
LAST-MODIFIED:20240913T143540Z
UID:10000988-1726340400-1726513199@stayinmcallen.com
SUMMARY:UTRGV Men's Golf  JT Poston Invitational
DESCRIPTION:UTRGV Men’s Golf  JT Poston Invitational
URL:https://stayinmcallen.com/events/utrgv-mens-golf-jt-poston-invitational/
LOCATION:Waynesville\, NC
CATEGORIES:UTRGV Athletics
END:VEVENT
BEGIN:VEVENT
DTSTART;TZID=America/Chicago:20240918T190000
DTEND;TZID=America/Chicago:20240918T210000
DTSTAMP:20260425T221703
CREATED:20240719T123656Z
LAST-MODIFIED:20240913T143601Z
UID:10000823-1726686000-1726693200@stayinmcallen.com
SUMMARY:UTRGV Men's Soccer at Houston Christian
DESCRIPTION:UTRGV Men’s Soccer at Houston Christian\nTV: ESPN+\nStreaming Video: https://plus.espn.com/
URL:https://stayinmcallen.com/events/utrgv-mens-soccer-at-houston-christian/
LOCATION:Houston\, TX
CATEGORIES:UTRGV Athletics
END:VEVENT
BEGIN:VEVENT
DTSTART;TZID=America/Chicago:20240918T190000
DTEND;TZID=America/Chicago:20240918T210000
DTSTAMP:20260425T221703
CREATED:20240719T123713Z
LAST-MODIFIED:20240719T123713Z
UID:10000825-1726686000-1726693200@stayinmcallen.com
SUMMARY:UTRGV Men's Soccer at Houston Christian
DESCRIPTION:UTRGV Men’s Soccer at Houston Christian\n https://goutrgv.com/calendar.aspx?game_id=27560&sport_id=16
URL:https://stayinmcallen.com/events/utrgv-mens-soccer-at-houston-christian-2/
LOCATION:Houston\, TX
CATEGORIES:UTRGV Athletics
END:VEVENT
BEGIN:VEVENT
DTSTART;TZID=America/Chicago:20240920T160000
DTEND;TZID=America/Chicago:20240920T180000
DTSTAMP:20260425T221703
CREATED:20240712T122123Z
LAST-MODIFIED:20240712T122123Z
UID:10000746-1726848000-1726855200@stayinmcallen.com
SUMMARY:UTRGV Volleyball at UTEP
DESCRIPTION:UTRGV Volleyball at UTEP\nStreaming Video: http://plus.espn.com/\n https://goutrgv.com/calendar.aspx?game_id=27490&sport_id=12
URL:https://stayinmcallen.com/events/utrgv-volleyball-at-utep-2/
LOCATION:El Paso\, TX
CATEGORIES:UTRGV Athletics
END:VEVENT
BEGIN:VEVENT
DTSTART;TZID=America/Chicago:20240920T183000
DTEND;TZID=America/Chicago:20240920T203000
DTSTAMP:20260425T221703
CREATED:20240712T122115Z
LAST-MODIFIED:20240920T150729Z
UID:10000741-1726857000-1726864200@stayinmcallen.com
SUMMARY:UTRGV Volleyball at UTEP
DESCRIPTION:UTRGV Volleyball at UTEP\nStreaming Video: https://www.espn.com/watch/player/_/id/90e4a80a-e0f6-4dc3-b6b2-21f14b112c23?om-navmethod=espn:globalsearch:results
URL:https://stayinmcallen.com/events/utrgv-volleyball-at-utep/
LOCATION:El Paso\, TX
CATEGORIES:UTRGV Athletics
END:VEVENT
BEGIN:VEVENT
DTSTART;TZID=America/Chicago:20240921T110000
DTEND;TZID=America/Chicago:20240921T130000
DTSTAMP:20260425T221703
CREATED:20240712T122122Z
LAST-MODIFIED:20240920T150733Z
UID:10000742-1726916400-1726923600@stayinmcallen.com
SUMMARY:UTRGV Volleyball vs Texas State
DESCRIPTION:UTRGV Volleyball vs Texas State
URL:https://stayinmcallen.com/events/utrgv-volleyball-vs-texas-state/
LOCATION:El Paso\, TX
CATEGORIES:UTRGV Athletics
END:VEVENT
BEGIN:VEVENT
DTSTART;TZID=America/Chicago:20240921T110000
DTEND;TZID=America/Chicago:20240921T130000
DTSTAMP:20260425T221703
CREATED:20240712T122129Z
LAST-MODIFIED:20240712T122129Z
UID:10000747-1726916400-1726923600@stayinmcallen.com
SUMMARY:UTRGV Volleyball vs Texas State
DESCRIPTION:UTRGV Volleyball vs Texas State\nStreaming Video: https://www.youtube.com/@UTEPVOLLEYBALL/videos\n https://goutrgv.com/calendar.aspx?game_id=27491&sport_id=12
URL:https://stayinmcallen.com/events/utrgv-volleyball-vs-texas-state-2/
LOCATION:El Paso\, TX
CATEGORIES:UTRGV Athletics
END:VEVENT
BEGIN:VEVENT
DTSTART;TZID=America/Chicago:20240921T190000
DTEND;TZID=America/Chicago:20240921T210000
DTSTAMP:20260425T221703
CREATED:20240719T123710Z
LAST-MODIFIED:20240920T150738Z
UID:10000824-1726945200-1726952400@stayinmcallen.com
SUMMARY:UTRGV Men's Soccer at Oral Roberts
DESCRIPTION:UTRGV Men’s Soccer at Oral Roberts
URL:https://stayinmcallen.com/events/utrgv-mens-soccer-at-oral-roberts/
LOCATION:Tulsa\, OK
CATEGORIES:UTRGV Athletics
END:VEVENT
BEGIN:VEVENT
DTSTART;TZID=America/Chicago:20240921T190000
DTEND;TZID=America/Chicago:20240921T210000
DTSTAMP:20260425T221703
CREATED:20240719T123727Z
LAST-MODIFIED:20240719T123727Z
UID:10000826-1726945200-1726952400@stayinmcallen.com
SUMMARY:UTRGV Men's Soccer at Oral Roberts
DESCRIPTION:UTRGV Men’s Soccer at Oral Roberts\n https://goutrgv.com/calendar.aspx?game_id=27561&sport_id=16
URL:https://stayinmcallen.com/events/utrgv-mens-soccer-at-oral-roberts-2/
LOCATION:Tulsa\, OK
CATEGORIES:UTRGV Athletics
END:VEVENT
BEGIN:VEVENT
DTSTART;TZID=America/Chicago:20240922T120000
DTEND;TZID=America/Chicago:20240922T140000
DTSTAMP:20260425T221703
CREATED:20240621T115940Z
LAST-MODIFIED:20240920T150744Z
UID:10000637-1727006400-1727013600@stayinmcallen.com
SUMMARY:UTRGV Women's Soccer vs Texas A&M-Commerce
DESCRIPTION:UTRGV Women’s Soccer vs Texas A&M-Commerce\nTV: ESPN+ (USA) | Southland International\nStreaming Video: http://plus.espn.com/\nTickets: https://www.showpass.com/2024-2025-soccer-season-pass/
URL:https://stayinmcallen.com/events/utrgv-womens-soccer-vs-texas-am-commerce/
LOCATION:Edinburg\, TX\, UTRGV Soccer and Track & Field Complex
CATEGORIES:UTRGV Athletics
END:VEVENT
END:VCALENDAR