BEGIN:VCALENDAR
VERSION:2.0
PRODID:-//Stayinmcallen - ECPv6.15.20//NONSGML v1.0//EN
CALSCALE:GREGORIAN
METHOD:PUBLISH
X-ORIGINAL-URL:https://stayinmcallen.com
X-WR-CALDESC:Events for Stayinmcallen
REFRESH-INTERVAL;VALUE=DURATION:PT1H
X-Robots-Tag:noindex
X-PUBLISHED-TTL:PT1H
BEGIN:VTIMEZONE
TZID:America/Chicago
BEGIN:DAYLIGHT
TZOFFSETFROM:-0600
TZOFFSETTO:-0500
TZNAME:CDT
DTSTART:20230312T080000
END:DAYLIGHT
BEGIN:STANDARD
TZOFFSETFROM:-0500
TZOFFSETTO:-0600
TZNAME:CST
DTSTART:20231105T070000
END:STANDARD
BEGIN:DAYLIGHT
TZOFFSETFROM:-0600
TZOFFSETTO:-0500
TZNAME:CDT
DTSTART:20240310T080000
END:DAYLIGHT
BEGIN:STANDARD
TZOFFSETFROM:-0500
TZOFFSETTO:-0600
TZNAME:CST
DTSTART:20241103T070000
END:STANDARD
BEGIN:DAYLIGHT
TZOFFSETFROM:-0600
TZOFFSETTO:-0500
TZNAME:CDT
DTSTART:20250309T080000
END:DAYLIGHT
BEGIN:STANDARD
TZOFFSETFROM:-0500
TZOFFSETTO:-0600
TZNAME:CST
DTSTART:20251102T070000
END:STANDARD
END:VTIMEZONE
BEGIN:VEVENT
DTSTART;VALUE=DATE:20241204
DTEND;VALUE=DATE:20241207
DTSTAMP:20260425T172721
CREATED:20240712T122523Z
LAST-MODIFIED:20241122T180118Z
UID:10000783-1733335200-1733507999@stayinmcallen.com
SUMMARY:UTRGV Volleyball vs NCAA First & Second Rounds
DESCRIPTION:UTRGV Volleyball vs NCAA First & Second Rounds
URL:https://stayinmcallen.com/events/utrgv-volleyball-vs-ncaa-first-second-rounds/
LOCATION:TBD
CATEGORIES:UTRGV Athletics
END:VEVENT
BEGIN:VEVENT
DTSTART;VALUE=DATE:20241204
DTEND;VALUE=DATE:20241207
DTSTAMP:20260425T172721
CREATED:20240712T122536Z
LAST-MODIFIED:20240712T122536Z
UID:10000785-1733335200-1733507999@stayinmcallen.com
SUMMARY:UTRGV Volleyball vs NCAA First & Second Rounds
DESCRIPTION:UTRGV Volleyball vs NCAA First & Second Rounds\n https://goutrgv.com/calendar.aspx?game_id=27492&sport_id=12
URL:https://stayinmcallen.com/events/utrgv-volleyball-vs-ncaa-first-second-rounds-2/
LOCATION:TBD
CATEGORIES:UTRGV Athletics
END:VEVENT
BEGIN:VEVENT
DTSTART;TZID=America/Chicago:20241204T183000
DTEND;TZID=America/Chicago:20241204T203000
DTSTAMP:20260425T172721
CREATED:20240802T131333Z
LAST-MODIFIED:20241129T181519Z
UID:10001010-1733337000-1733344200@stayinmcallen.com
SUMMARY:UTRGV Women's Basketball vs Abilene Christian
DESCRIPTION:UTRGV Women’s Basketball vs Abilene Christian\nTV: ESPN+ (USA) | Southland International\nStreaming Video: http://plus.espn.com/\nTickets: https://www.showpass.com/o/university-of-texas-rio-grande-valley-utrgv/
URL:https://stayinmcallen.com/events/utrgv-womens-basketball-vs-abilene-christian-3/
LOCATION:Edinburg\, TX\, UTRGV Fieldhouse
CATEGORIES:UTRGV Athletics
END:VEVENT
BEGIN:VEVENT
DTSTART;TZID=America/Chicago:20241204T183000
DTEND;TZID=America/Chicago:20241204T203000
DTSTAMP:20260425T172721
CREATED:20240802T131356Z
LAST-MODIFIED:20240802T131356Z
UID:10001011-1733337000-1733344200@stayinmcallen.com
SUMMARY:UTRGV Women's Basketball vs Abilene Christian
DESCRIPTION:UTRGV Women’s Basketball vs Abilene Christian\nStreaming Video: http://plus.espn.com/\nTickets: https://www.showpass.com/2024-2025-basketball-season-tickets/\n https://goutrgv.com/calendar.aspx?game_id=27605&sport_id=8
URL:https://stayinmcallen.com/events/utrgv-womens-basketball-vs-abilene-christian-4/
LOCATION:Edinburg\, TX\, UTRGV Fieldhouse
CATEGORIES:UTRGV Athletics
END:VEVENT
BEGIN:VEVENT
DTSTART;TZID=America/Chicago:20241205T183000
DTEND;TZID=America/Chicago:20241205T203000
DTSTAMP:20260425T172721
CREATED:20240719T124220Z
LAST-MODIFIED:20241129T181523Z
UID:10000850-1733423400-1733430600@stayinmcallen.com
SUMMARY:UTRGV Men's Basketball vs Stephen F. Austin - Driscoll Teddy Bear Toss • Food & Guest Tickets for UTRGV Students • Cane’s Challenge
DESCRIPTION:UTRGV Men’s Basketball vs Stephen F. Austin – Driscoll Teddy Bear Toss • Food & Guest Tickets for UTRGV Students • Cane’s Challenge\nTV: ESPN+ (USA) | Southland International\nStreaming Video: http://plus.espn.com/\nTickets: https://www.showpass.com/o/university-of-texas-rio-grande-valley-utrgv/
URL:https://stayinmcallen.com/events/utrgv-mens-basketball-vs-stephen-f-austin-3/
LOCATION:Edinburg\, TX\, UTRGV Fieldhouse
CATEGORIES:UTRGV Athletics
END:VEVENT
BEGIN:VEVENT
DTSTART;TZID=America/Chicago:20241206T170000
DTEND;TZID=America/Chicago:20241206T190000
DTSTAMP:20260425T172721
CREATED:20240621T120133Z
LAST-MODIFIED:20241101T172020Z
UID:10000654-1733504400-1733511600@stayinmcallen.com
SUMMARY:UTRGV Women's Soccer vs College Cup Semifinals
DESCRIPTION:UTRGV Women’s Soccer vs College Cup Semifinals
URL:https://stayinmcallen.com/events/utrgv-womens-soccer-vs-college-cup-semifinals-2/
LOCATION:Cary\, NC
CATEGORIES:UTRGV Athletics
END:VEVENT
BEGIN:VEVENT
DTSTART;TZID=America/Chicago:20241207T140000
DTEND;TZID=America/Chicago:20241207T160000
DTSTAMP:20260425T172721
CREATED:20240719T124227Z
LAST-MODIFIED:20241206T183016Z
UID:10000851-1733580000-1733587200@stayinmcallen.com
SUMMARY:UTRGV Women's Basketball vs Stephen F. Austin
DESCRIPTION:UTRGV Women’s Basketball vs Stephen F. Austin\nTV: ESPN+ (USA) | Southland International\nStreaming Video: http://plus.espn.com/\nTickets: https://www.showpass.com/o/university-of-texas-rio-grande-valley-utrgv/
URL:https://stayinmcallen.com/events/utrgv-womens-basketball-vs-stephen-f-austin-3/
LOCATION:Edinburg\, TX\, UTRGV Fieldhouse
CATEGORIES:UTRGV Athletics
END:VEVENT
BEGIN:VEVENT
DTSTART;TZID=America/Chicago:20241207T163000
DTEND;TZID=America/Chicago:20241207T183000
DTSTAMP:20260425T172721
CREATED:20240719T124233Z
LAST-MODIFIED:20241206T183020Z
UID:10000852-1733589000-1733596200@stayinmcallen.com
SUMMARY:UTRGV Men's Basketball vs Lamar
DESCRIPTION:UTRGV Men’s Basketball vs Lamar\nTV: ESPN+ (USA) | Southland International\nStreaming Video: http://plus.espn.com/\nTickets: https://www.showpass.com/o/university-of-texas-rio-grande-valley-utrgv/
URL:https://stayinmcallen.com/events/utrgv-mens-basketball-vs-lamar/
LOCATION:Edinburg\, TX\, UTRGV Fieldhouse
CATEGORIES:UTRGV Athletics
END:VEVENT
BEGIN:VEVENT
DTSTART;TZID=America/Chicago:20241207T163000
DTEND;TZID=America/Chicago:20241207T183000
DTSTAMP:20260425T172721
CREATED:20240719T124306Z
LAST-MODIFIED:20240719T124306Z
UID:10000856-1733589000-1733596200@stayinmcallen.com
SUMMARY:UTRGV Men's Basketball vs Lamar
DESCRIPTION:UTRGV Men’s Basketball vs Lamar\nTV: ESPN+ (USA)\nStreaming Video: http://plus.espn.com/\nTickets: https://www.showpass.com/o/university-of-texas-rio-grande-valley-utrgv/\n https://goutrgv.com/calendar.aspx?game_id=27530&sport_id=3
URL:https://stayinmcallen.com/events/utrgv-mens-basketball-vs-lamar-2/
LOCATION:Edinburg\, TX\, UTRGV Fieldhouse
CATEGORIES:UTRGV Athletics
END:VEVENT
END:VCALENDAR