BEGIN:VCALENDAR
VERSION:2.0
PRODID:-//Stayinmcallen - ECPv6.15.20//NONSGML v1.0//EN
CALSCALE:GREGORIAN
METHOD:PUBLISH
X-ORIGINAL-URL:https://stayinmcallen.com
X-WR-CALDESC:Events for Stayinmcallen
REFRESH-INTERVAL;VALUE=DURATION:PT1H
X-Robots-Tag:noindex
X-PUBLISHED-TTL:PT1H
BEGIN:VTIMEZONE
TZID:America/Chicago
BEGIN:DAYLIGHT
TZOFFSETFROM:-0600
TZOFFSETTO:-0500
TZNAME:CDT
DTSTART:20230312T080000
END:DAYLIGHT
BEGIN:STANDARD
TZOFFSETFROM:-0500
TZOFFSETTO:-0600
TZNAME:CST
DTSTART:20231105T070000
END:STANDARD
BEGIN:DAYLIGHT
TZOFFSETFROM:-0600
TZOFFSETTO:-0500
TZNAME:CDT
DTSTART:20240310T080000
END:DAYLIGHT
BEGIN:STANDARD
TZOFFSETFROM:-0500
TZOFFSETTO:-0600
TZNAME:CST
DTSTART:20241103T070000
END:STANDARD
BEGIN:DAYLIGHT
TZOFFSETFROM:-0600
TZOFFSETTO:-0500
TZNAME:CDT
DTSTART:20250309T080000
END:DAYLIGHT
BEGIN:STANDARD
TZOFFSETFROM:-0500
TZOFFSETTO:-0600
TZNAME:CST
DTSTART:20251102T070000
END:STANDARD
BEGIN:DAYLIGHT
TZOFFSETFROM:-0600
TZOFFSETTO:-0500
TZNAME:CDT
DTSTART:20260308T080000
END:DAYLIGHT
BEGIN:STANDARD
TZOFFSETFROM:-0500
TZOFFSETTO:-0600
TZNAME:CST
DTSTART:20261101T070000
END:STANDARD
END:VTIMEZONE
BEGIN:VEVENT
DTSTART;TZID=America/Chicago:20241230T183000
DTEND;TZID=America/Chicago:20241230T203000
DTSTAMP:20260425T172813
CREATED:20240906T143027Z
LAST-MODIFIED:20241227T194522Z
UID:10001181-1735583400-1735590600@stayinmcallen.com
SUMMARY:UTRGV Men's Basketball vs Dallas Christian
DESCRIPTION:UTRGV Men’s Basketball vs Dallas Christian\nTV: ESPN+ (USA) | Southland International\nStreaming Video: http://plus.espn.com/\nTickets: https://www.showpass.com/o/university-of-texas-rio-grande-valley-utrgv/
URL:https://stayinmcallen.com/events/utrgv-mens-basketball-vs-dallas-christian/
LOCATION:Edinburg\, TX\, UTRGV Fieldhouse
CATEGORIES:UTRGV Athletics
END:VEVENT
BEGIN:VEVENT
DTSTART;TZID=America/Chicago:20250102T180000
DTEND;TZID=America/Chicago:20250102T200000
DTSTAMP:20260425T172813
CREATED:20240719T124316Z
LAST-MODIFIED:20241227T194526Z
UID:10000857-1735840800-1735848000@stayinmcallen.com
SUMMARY:UTRGV Women's Basketball at Southeastern
DESCRIPTION:UTRGV Women’s Basketball at Southeastern\nTV: ESPN+ (USA) | Southland International\nStreaming Video: http://plus.espn.com/
URL:https://stayinmcallen.com/events/utrgv-womens-basketball-at-southeastern/
LOCATION:Hammond\, LA
CATEGORIES:UTRGV Athletics
END:VEVENT
BEGIN:VEVENT
DTSTART;VALUE=DATE:20250103
DTEND;VALUE=DATE:20250105
DTSTAMP:20260425T172813
CREATED:20240719T124401Z
LAST-MODIFIED:20240719T124401Z
UID:10000863-1735927200-1736013599@stayinmcallen.com
SUMMARY:UTRGV Men's Basketball at New Orleans
DESCRIPTION:UTRGV Men’s Basketball at New Orleans\nTV: ESPN+ (USA)\nStreaming Video: http://plus.espn.com/\n https://goutrgv.com/calendar.aspx?game_id=27531&sport_id=3
URL:https://stayinmcallen.com/events/utrgv-mens-basketball-at-new-orleans-2/
LOCATION:New Orleans\, LA
CATEGORIES:UTRGV Athletics
END:VEVENT
BEGIN:VEVENT
DTSTART;TZID=America/Chicago:20250104T140000
DTEND;TZID=America/Chicago:20250104T160000
DTSTAMP:20260425T172813
CREATED:20240719T124322Z
LAST-MODIFIED:20250103T201517Z
UID:10000858-1735999200-1736006400@stayinmcallen.com
SUMMARY:UTRGV Women's Basketball at New Orleans
DESCRIPTION:UTRGV Women’s Basketball at New Orleans\nTV: ESPN+ (USA) | Southland International\nStreaming Video: http://plus.espn.com/
URL:https://stayinmcallen.com/events/utrgv-womens-basketball-at-new-orleans/
LOCATION:New Orleans\, LA
CATEGORIES:UTRGV Athletics
END:VEVENT
BEGIN:VEVENT
DTSTART;TZID=America/Chicago:20250104T170000
DTEND;TZID=America/Chicago:20250104T190000
DTSTAMP:20260425T172813
CREATED:20240719T124329Z
LAST-MODIFIED:20250103T201521Z
UID:10000859-1736010000-1736017200@stayinmcallen.com
SUMMARY:UTRGV Men's Basketball at New Orleans
DESCRIPTION:UTRGV Men’s Basketball at New Orleans\nTV: ESPN+ (USA) | Southland International\nStreaming Video: http://plus.espn.com/\nStreaming Audio: https://unoprivateers.com/watch/?Live=2274&type=Live
URL:https://stayinmcallen.com/events/utrgv-mens-basketball-at-new-orleans/
LOCATION:New Orleans\, LA
CATEGORIES:UTRGV Athletics
END:VEVENT
BEGIN:VEVENT
DTSTART;VALUE=DATE:20250105
DTEND;VALUE=DATE:20250107
DTSTAMP:20260425T172813
CREATED:20240719T124406Z
LAST-MODIFIED:20240719T124406Z
UID:10000864-1736100000-1736186399@stayinmcallen.com
SUMMARY:UTRGV Men's Basketball at Southeastern
DESCRIPTION:UTRGV Men’s Basketball at Southeastern\n https://goutrgv.com/calendar.aspx?game_id=27532&sport_id=3
URL:https://stayinmcallen.com/events/utrgv-mens-basketball-at-southeastern-2/
LOCATION:Hammond\, LA
CATEGORIES:UTRGV Athletics
END:VEVENT
END:VCALENDAR