BEGIN:VCALENDAR
VERSION:2.0
PRODID:-//Stayinmcallen - ECPv6.15.20//NONSGML v1.0//EN
CALSCALE:GREGORIAN
METHOD:PUBLISH
X-ORIGINAL-URL:https://stayinmcallen.com
X-WR-CALDESC:Events for Stayinmcallen
REFRESH-INTERVAL;VALUE=DURATION:PT1H
X-Robots-Tag:noindex
X-PUBLISHED-TTL:PT1H
BEGIN:VTIMEZONE
TZID:America/Chicago
BEGIN:DAYLIGHT
TZOFFSETFROM:-0600
TZOFFSETTO:-0500
TZNAME:CDT
DTSTART:20240310T080000
END:DAYLIGHT
BEGIN:STANDARD
TZOFFSETFROM:-0500
TZOFFSETTO:-0600
TZNAME:CST
DTSTART:20241103T070000
END:STANDARD
BEGIN:DAYLIGHT
TZOFFSETFROM:-0600
TZOFFSETTO:-0500
TZNAME:CDT
DTSTART:20250309T080000
END:DAYLIGHT
BEGIN:STANDARD
TZOFFSETFROM:-0500
TZOFFSETTO:-0600
TZNAME:CST
DTSTART:20251102T070000
END:STANDARD
BEGIN:DAYLIGHT
TZOFFSETFROM:-0600
TZOFFSETTO:-0500
TZNAME:CDT
DTSTART:20260308T080000
END:DAYLIGHT
BEGIN:STANDARD
TZOFFSETFROM:-0500
TZOFFSETTO:-0600
TZNAME:CST
DTSTART:20261101T070000
END:STANDARD
END:VTIMEZONE
BEGIN:VEVENT
DTSTART;TZID=America/Chicago:20250127T160000
DTEND;TZID=America/Chicago:20250127T180000
DTSTAMP:20260425T063428
CREATED:20240719T124430Z
LAST-MODIFIED:20250124T213040Z
UID:10000872-1737993600-1738000800@stayinmcallen.com
SUMMARY:UTRGV Women's Basketball vs Nicholls - Academic Recognition Night
DESCRIPTION:UTRGV Women’s Basketball vs Nicholls – Academic Recognition Night\nTV: ESPN+ (USA) | Southland International\nStreaming Video: http://plus.espn.com/\nTickets: https://www.showpass.com/o/university-of-texas-rio-grande-valley-utrgv/
URL:https://stayinmcallen.com/events/utrgv-womens-basketball-vs-nicholls/
LOCATION:Edinburg\, TX\, UTRGV Fieldhouse
CATEGORIES:UTRGV Athletics
END:VEVENT
BEGIN:VEVENT
DTSTART;TZID=America/Chicago:20250127T183000
DTEND;TZID=America/Chicago:20250127T203000
DTSTAMP:20260425T063429
CREATED:20240719T124448Z
LAST-MODIFIED:20250124T213045Z
UID:10000875-1738002600-1738009800@stayinmcallen.com
SUMMARY:UTRGV Men's Basketball vs Nicholls - Monday Madness
DESCRIPTION:UTRGV Men’s Basketball vs Nicholls – Monday Madness\nTV: ESPN+ (USA) | Southland International\nStreaming Video: http://plus.espn.com/\nTickets: https://www.showpass.com/o/university-of-texas-rio-grande-valley-utrgv/
URL:https://stayinmcallen.com/events/utrgv-mens-basketball-vs-nicholls/
LOCATION:Edinburg\, TX\, UTRGV Fieldhouse
CATEGORIES:UTRGV Athletics
END:VEVENT
BEGIN:VEVENT
DTSTART;VALUE=DATE:20250129
DTEND;VALUE=DATE:20250201
DTSTAMP:20260425T063429
CREATED:20241213T184849Z
LAST-MODIFIED:20241213T184849Z
UID:10001517-1738173600-1738346399@stayinmcallen.com
SUMMARY:UTRGV Men's Track & Field  Stan Scott Invite & Multi
DESCRIPTION:UTRGV Men’s Track & Field  Stan Scott Invite & Multi
URL:https://stayinmcallen.com/events/utrgv-mens-track-field-stan-scott-invite-multi-2/
LOCATION:Lubbock\, TX
CATEGORIES:UTRGV Athletics
END:VEVENT
BEGIN:VEVENT
DTSTART;TZID=America/Chicago:20250130T120000
DTEND;TZID=America/Chicago:20250130T150000
DTSTAMP:20260425T063429
CREATED:20241213T184831Z
LAST-MODIFIED:20250124T213049Z
UID:10001513-1738238400-1738249200@stayinmcallen.com
SUMMARY:UTRGV Men's Tennis at Abilene Christian
DESCRIPTION:UTRGV Men’s Tennis at Abilene Christian
URL:https://stayinmcallen.com/events/utrgv-mens-tennis-at-abilene-christian-2/
LOCATION:Abilene\, TX
CATEGORIES:UTRGV Athletics
END:VEVENT
BEGIN:VEVENT
DTSTART;VALUE=DATE:20250130
DTEND;VALUE=DATE:20250201
DTSTAMP:20260425T063429
CREATED:20241213T184835Z
LAST-MODIFIED:20241213T184835Z
UID:10001514-1738260000-1738346399@stayinmcallen.com
SUMMARY:UTRGV Men's Tennis at Texas Tech
DESCRIPTION:UTRGV Men’s Tennis at Texas Tech
URL:https://stayinmcallen.com/events/utrgv-mens-tennis-at-texas-tech-4/
LOCATION:Lubbock\, TX
CATEGORIES:UTRGV Athletics
END:VEVENT
BEGIN:VEVENT
DTSTART;TZID=America/Chicago:20250130T183000
DTEND;TZID=America/Chicago:20250130T203000
DTSTAMP:20260425T063429
CREATED:20240719T124454Z
LAST-MODIFIED:20250124T213054Z
UID:10000876-1738261800-1738269000@stayinmcallen.com
SUMMARY:UTRGV Women's Basketball at Northwestern State
DESCRIPTION:UTRGV Women’s Basketball at Northwestern State\nTV: ESPN+ (USA) | Southland International\nStreaming Video: http://plus.espn.com/
URL:https://stayinmcallen.com/events/utrgv-womens-basketball-at-northwestern-state/
LOCATION:Natchitoches\, LA
CATEGORIES:UTRGV Athletics
END:VEVENT
BEGIN:VEVENT
DTSTART;TZID=America/Chicago:20250131T110000
DTEND;TZID=America/Chicago:20250131T140000
DTSTAMP:20260425T063429
CREATED:20241213T184811Z
LAST-MODIFIED:20250124T213100Z
UID:10001509-1738321200-1738332000@stayinmcallen.com
SUMMARY:UTRGV Men's Tennis at Texas Tech
DESCRIPTION:UTRGV Men’s Tennis at Texas Tech
URL:https://stayinmcallen.com/events/utrgv-mens-tennis-at-texas-tech-3/
LOCATION:Lubbock\, TX
CATEGORIES:UTRGV Athletics
END:VEVENT
BEGIN:VEVENT
DTSTART;TZID=America/Chicago:20250131T150000
DTEND;TZID=America/Chicago:20250131T235900
DTSTAMP:20260425T063429
CREATED:20241213T184826Z
LAST-MODIFIED:20250131T214719Z
UID:10001512-1738335600-1738367940@stayinmcallen.com
SUMMARY:UTRGV Men's Track & Field  Stan Scott Invite & Multi
DESCRIPTION:UTRGV Men’s Track & Field  Stan Scott Invite & Multi\nTV: ESPN+ (USA)
URL:https://stayinmcallen.com/events/utrgv-mens-track-field-stan-scott-invite-multi/
LOCATION:Lubbock\, TX
CATEGORIES:UTRGV Athletics
END:VEVENT
BEGIN:VEVENT
DTSTART;TZID=America/Chicago:20250131T150000
DTEND;TZID=America/Chicago:20250131T235900
DTSTAMP:20260425T063429
CREATED:20241213T184841Z
LAST-MODIFIED:20250131T214715Z
UID:10001518-1738335600-1738367940@stayinmcallen.com
SUMMARY:UTRGV Women's Track & Field  Stan Scott Invite & Multi
DESCRIPTION:UTRGV Women’s Track & Field  Stan Scott Invite & Multi\nTV: ESPN+ (USA)
URL:https://stayinmcallen.com/events/utrgv-womens-track-field-stan-scott-invite-multi/
LOCATION:Lubbock\, TX
CATEGORIES:UTRGV Athletics
END:VEVENT
BEGIN:VEVENT
DTSTART;VALUE=DATE:20250131
DTEND;VALUE=DATE:20250202
DTSTAMP:20260425T063429
CREATED:20241213T184840Z
LAST-MODIFIED:20241213T184840Z
UID:10001515-1738346400-1738432799@stayinmcallen.com
SUMMARY:UTRGV Men's Tennis vs Lubbock Christian
DESCRIPTION:UTRGV Men’s Tennis vs Lubbock Christian
URL:https://stayinmcallen.com/events/utrgv-mens-tennis-vs-lubbock-christian-2/
LOCATION:Lubbock\, TX
CATEGORIES:UTRGV Athletics
END:VEVENT
BEGIN:VEVENT
DTSTART;VALUE=DATE:20250131
DTEND;VALUE=DATE:20250202
DTSTAMP:20260425T063429
CREATED:20241213T184845Z
LAST-MODIFIED:20241213T184845Z
UID:10001516-1738346400-1738432799@stayinmcallen.com
SUMMARY:UTRGV Men's Tennis vs New Mexico State
DESCRIPTION:UTRGV Men’s Tennis vs New Mexico State
URL:https://stayinmcallen.com/events/utrgv-mens-tennis-vs-new-mexico-state-4/
LOCATION:Lubbock\, TX
CATEGORIES:UTRGV Athletics
END:VEVENT
BEGIN:VEVENT
DTSTART;TZID=America/Chicago:20250201T100000
DTEND;TZID=America/Chicago:20250201T130000
DTSTAMP:20260425T063429
CREATED:20241213T184822Z
LAST-MODIFIED:20250131T214723Z
UID:10001511-1738404000-1738414800@stayinmcallen.com
SUMMARY:UTRGV Men's Tennis vs New Mexico State
DESCRIPTION:UTRGV Men’s Tennis vs New Mexico State
URL:https://stayinmcallen.com/events/utrgv-mens-tennis-vs-new-mexico-state-3/
LOCATION:Lubbock\, TX
CATEGORIES:UTRGV Athletics
END:VEVENT
BEGIN:VEVENT
DTSTART;TZID=America/Chicago:20250201T130000
DTEND;TZID=America/Chicago:20250201T160000
DTSTAMP:20260425T063429
CREATED:20241213T184846Z
LAST-MODIFIED:20250131T214727Z
UID:10001519-1738414800-1738425600@stayinmcallen.com
SUMMARY:UTRGV Women's Tennis vs Texas A&M University-Kingsville
DESCRIPTION:UTRGV Women’s Tennis vs Texas A&M University-Kingsville
URL:https://stayinmcallen.com/events/utrgv-womens-tennis-vs-texas-am-university-kingsville/
LOCATION:Edinburg\, TX\, Orville I. Cox Tennis Center
CATEGORIES:UTRGV Athletics
END:VEVENT
BEGIN:VEVENT
DTSTART;TZID=America/Chicago:20250201T140000
DTEND;TZID=America/Chicago:20250201T160000
DTSTAMP:20260425T063429
CREATED:20240719T124501Z
LAST-MODIFIED:20250131T214731Z
UID:10000877-1738418400-1738425600@stayinmcallen.com
SUMMARY:UTRGV Women's Basketball vs Texas A&M-Corpus Christi - 956 Day • Free Food for UTRGV Students • UTRGV Student Guest Tickets
DESCRIPTION:UTRGV Women’s Basketball vs Texas A&M-Corpus Christi – 956 Day • Free Food for UTRGV Students • UTRGV Student Guest Tickets\nTV: ESPN+ (USA) | Southland International\nStreaming Video: http://plus.espn.com/\nTickets: https://www.showpass.com/o/university-of-texas-rio-grande-valley-utrgv/
URL:https://stayinmcallen.com/events/utrgv-womens-basketball-vs-texas-am-corpus-christi-2/
LOCATION:Edinburg\, TX\, UTRGV Fieldhouse
CATEGORIES:UTRGV Athletics
END:VEVENT
BEGIN:VEVENT
DTSTART;TZID=America/Chicago:20250201T160000
DTEND;TZID=America/Chicago:20250201T190000
DTSTAMP:20260425T063429
CREATED:20241213T184817Z
LAST-MODIFIED:20250131T214737Z
UID:10001510-1738425600-1738436400@stayinmcallen.com
SUMMARY:UTRGV Men's Tennis vs Lubbock Christian
DESCRIPTION:UTRGV Men’s Tennis vs Lubbock Christian
URL:https://stayinmcallen.com/events/utrgv-mens-tennis-vs-lubbock-christian/
LOCATION:Lubbock\, TX
CATEGORIES:UTRGV Athletics
END:VEVENT
BEGIN:VEVENT
DTSTART;TZID=America/Chicago:20250201T163000
DTEND;TZID=America/Chicago:20250201T183000
DTSTAMP:20260425T063429
CREATED:20240719T124509Z
LAST-MODIFIED:20250131T214741Z
UID:10000882-1738427400-1738434600@stayinmcallen.com
SUMMARY:UTRGV Men's Basketball vs Texas A&M-Corpus Christi - 956 Day • Free Food for UTRGV Students • UTRGV Student Guest Tickets
DESCRIPTION:UTRGV Men’s Basketball vs Texas A&M-Corpus Christi – 956 Day • Free Food for UTRGV Students • UTRGV Student Guest Tickets\nTV: ESPN+ (USA) | Southland International\nStreaming Video: http://plus.espn.com/\nTickets: https://www.showpass.com/o/university-of-texas-rio-grande-valley-utrgv/
URL:https://stayinmcallen.com/events/utrgv-mens-basketball-vs-texas-am-corpus-christi-3/
LOCATION:Edinburg\, TX\, UTRGV Fieldhouse
CATEGORIES:UTRGV Athletics
END:VEVENT
BEGIN:VEVENT
DTSTART;VALUE=DATE:20250201
DTEND;VALUE=DATE:20250204
DTSTAMP:20260425T063429
CREATED:20241220T191817Z
LAST-MODIFIED:20250131T214746Z
UID:10001654-1738432800-1738605599@stayinmcallen.com
SUMMARY:UTRGV Men's Golf  Vaqueros Intercollegiate
DESCRIPTION:UTRGV Men’s Golf  Vaqueros Intercollegiate
URL:https://stayinmcallen.com/events/utrgv-mens-golf-vaqueros-intercollegiate/
LOCATION:Playa Del Carmen\, Mexico
CATEGORIES:UTRGV Athletics
END:VEVENT
BEGIN:VEVENT
DTSTART;VALUE=DATE:20250201
DTEND;VALUE=DATE:20250204
DTSTAMP:20260425T063429
CREATED:20241220T191830Z
LAST-MODIFIED:20241220T191830Z
UID:10001656-1738432800-1738605599@stayinmcallen.com
SUMMARY:UTRGV Men's Golf  Vaqueros Intercollegiate
DESCRIPTION:UTRGV Men’s Golf  Vaqueros Intercollegiate
URL:https://stayinmcallen.com/events/utrgv-mens-golf-vaqueros-intercollegiate-2/
LOCATION:Playa Del Carmen\, Mexico
CATEGORIES:UTRGV Athletics
END:VEVENT
BEGIN:VEVENT
DTSTART;VALUE=DATE:20250202
DTEND;VALUE=DATE:20250204
DTSTAMP:20260425T063429
CREATED:20241220T191812Z
LAST-MODIFIED:20250131T214750Z
UID:10001653-1738519200-1738605599@stayinmcallen.com
SUMMARY:UTRGV Women's Golf  Texas State Invitational
DESCRIPTION:UTRGV Women’s Golf  Texas State Invitational
URL:https://stayinmcallen.com/events/utrgv-womens-golf-texas-state-invitational-2/
LOCATION:Blanco\, TX
CATEGORIES:UTRGV Athletics
END:VEVENT
BEGIN:VEVENT
DTSTART;VALUE=DATE:20250202
DTEND;VALUE=DATE:20250204
DTSTAMP:20260425T063429
CREATED:20241220T191826Z
LAST-MODIFIED:20241220T191826Z
UID:10001655-1738519200-1738605599@stayinmcallen.com
SUMMARY:UTRGV Women's Golf  Texas State Invitational
DESCRIPTION:UTRGV Women’s Golf  Texas State Invitational
URL:https://stayinmcallen.com/events/utrgv-womens-golf-texas-state-invitational-3/
LOCATION:Blanco\, TX
CATEGORIES:UTRGV Athletics
END:VEVENT
END:VCALENDAR