BEGIN:VCALENDAR
VERSION:2.0
PRODID:-//Stayinmcallen - ECPv6.15.20//NONSGML v1.0//EN
CALSCALE:GREGORIAN
METHOD:PUBLISH
X-ORIGINAL-URL:https://stayinmcallen.com
X-WR-CALDESC:Events for Stayinmcallen
REFRESH-INTERVAL;VALUE=DURATION:PT1H
X-Robots-Tag:noindex
X-PUBLISHED-TTL:PT1H
BEGIN:VTIMEZONE
TZID:America/Chicago
BEGIN:DAYLIGHT
TZOFFSETFROM:-0600
TZOFFSETTO:-0500
TZNAME:CDT
DTSTART:20240310T080000
END:DAYLIGHT
BEGIN:STANDARD
TZOFFSETFROM:-0500
TZOFFSETTO:-0600
TZNAME:CST
DTSTART:20241103T070000
END:STANDARD
BEGIN:DAYLIGHT
TZOFFSETFROM:-0600
TZOFFSETTO:-0500
TZNAME:CDT
DTSTART:20250309T080000
END:DAYLIGHT
BEGIN:STANDARD
TZOFFSETFROM:-0500
TZOFFSETTO:-0600
TZNAME:CST
DTSTART:20251102T070000
END:STANDARD
BEGIN:DAYLIGHT
TZOFFSETFROM:-0600
TZOFFSETTO:-0500
TZNAME:CDT
DTSTART:20260308T080000
END:DAYLIGHT
BEGIN:STANDARD
TZOFFSETFROM:-0500
TZOFFSETTO:-0600
TZNAME:CST
DTSTART:20261101T070000
END:STANDARD
END:VTIMEZONE
BEGIN:VEVENT
DTSTART;VALUE=DATE:20250201
DTEND;VALUE=DATE:20250204
DTSTAMP:20260425T063325
CREATED:20241220T191817Z
LAST-MODIFIED:20250131T214746Z
UID:10001654-1738432800-1738605599@stayinmcallen.com
SUMMARY:UTRGV Men's Golf  Vaqueros Intercollegiate
DESCRIPTION:UTRGV Men’s Golf  Vaqueros Intercollegiate
URL:https://stayinmcallen.com/events/utrgv-mens-golf-vaqueros-intercollegiate/
LOCATION:Playa Del Carmen\, Mexico
CATEGORIES:UTRGV Athletics
END:VEVENT
BEGIN:VEVENT
DTSTART;VALUE=DATE:20250201
DTEND;VALUE=DATE:20250204
DTSTAMP:20260425T063325
CREATED:20241220T191830Z
LAST-MODIFIED:20241220T191830Z
UID:10001656-1738432800-1738605599@stayinmcallen.com
SUMMARY:UTRGV Men's Golf  Vaqueros Intercollegiate
DESCRIPTION:UTRGV Men’s Golf  Vaqueros Intercollegiate
URL:https://stayinmcallen.com/events/utrgv-mens-golf-vaqueros-intercollegiate-2/
LOCATION:Playa Del Carmen\, Mexico
CATEGORIES:UTRGV Athletics
END:VEVENT
BEGIN:VEVENT
DTSTART;VALUE=DATE:20250202
DTEND;VALUE=DATE:20250204
DTSTAMP:20260425T063325
CREATED:20241220T191812Z
LAST-MODIFIED:20250131T214750Z
UID:10001653-1738519200-1738605599@stayinmcallen.com
SUMMARY:UTRGV Women's Golf  Texas State Invitational
DESCRIPTION:UTRGV Women’s Golf  Texas State Invitational
URL:https://stayinmcallen.com/events/utrgv-womens-golf-texas-state-invitational-2/
LOCATION:Blanco\, TX
CATEGORIES:UTRGV Athletics
END:VEVENT
BEGIN:VEVENT
DTSTART;VALUE=DATE:20250202
DTEND;VALUE=DATE:20250204
DTSTAMP:20260425T063325
CREATED:20241220T191826Z
LAST-MODIFIED:20241220T191826Z
UID:10001655-1738519200-1738605599@stayinmcallen.com
SUMMARY:UTRGV Women's Golf  Texas State Invitational
DESCRIPTION:UTRGV Women’s Golf  Texas State Invitational
URL:https://stayinmcallen.com/events/utrgv-womens-golf-texas-state-invitational-3/
LOCATION:Blanco\, TX
CATEGORIES:UTRGV Athletics
END:VEVENT
BEGIN:VEVENT
DTSTART;TZID=America/Chicago:20250203T183000
DTEND;TZID=America/Chicago:20250203T203000
DTSTAMP:20260425T063325
CREATED:20240719T124515Z
LAST-MODIFIED:20250131T214754Z
UID:10000883-1738607400-1738614600@stayinmcallen.com
SUMMARY:UTRGV Men's Basketball at Northwestern State
DESCRIPTION:UTRGV Men’s Basketball at Northwestern State\nTV: ESPN+ (USA) | Southland International\nStreaming Video: http://plus.espn.com/
URL:https://stayinmcallen.com/events/utrgv-mens-basketball-at-northwestern-state/
LOCATION:Natchitoches\, LA
CATEGORIES:UTRGV Athletics
END:VEVENT
BEGIN:VEVENT
DTSTART;TZID=America/Chicago:20250206T140000
DTEND;TZID=America/Chicago:20250206T170000
DTSTAMP:20260425T063325
CREATED:20241213T184905Z
LAST-MODIFIED:20250131T214807Z
UID:10001520-1738850400-1738861200@stayinmcallen.com
SUMMARY:UTRGV Women's Tennis at St. Mary's
DESCRIPTION:UTRGV Women’s Tennis at St. Mary’s
URL:https://stayinmcallen.com/events/utrgv-womens-tennis-at-st-marys-2/
LOCATION:San Antonio\, TX
CATEGORIES:UTRGV Athletics
END:VEVENT
BEGIN:VEVENT
DTSTART;TZID=America/Chicago:20250206T140000
DTEND;TZID=America/Chicago:20250206T170000
DTSTAMP:20260425T063325
CREATED:20241213T184935Z
LAST-MODIFIED:20241213T184935Z
UID:10001522-1738850400-1738861200@stayinmcallen.com
SUMMARY:UTRGV Women's Tennis at St. Mary's
DESCRIPTION:UTRGV Women’s Tennis at St. Mary’s
URL:https://stayinmcallen.com/events/utrgv-womens-tennis-at-st-marys-3/
LOCATION:San Antonio\, TX
CATEGORIES:UTRGV Athletics
END:VEVENT
BEGIN:VEVENT
DTSTART;TZID=America/Chicago:20250206T183000
DTEND;TZID=America/Chicago:20250206T203000
DTSTAMP:20260425T063325
CREATED:20240719T124521Z
LAST-MODIFIED:20250131T214811Z
UID:10000884-1738866600-1738873800@stayinmcallen.com
SUMMARY:UTRGV Women's Basketball at Stephen F. Austin
DESCRIPTION:UTRGV Women’s Basketball at Stephen F. Austin\nTV: ESPN+ (USA) | Southland International\nStreaming Video: http://plus.espn.com/
URL:https://stayinmcallen.com/events/utrgv-womens-basketball-at-stephen-f-austin-3/
LOCATION:Nacogdoches\, TX
CATEGORIES:UTRGV Athletics
END:VEVENT
BEGIN:VEVENT
DTSTART;VALUE=DATE:20250207
DTEND;VALUE=DATE:20250209
DTSTAMP:20260425T063325
CREATED:20240719T124556Z
LAST-MODIFIED:20240719T124556Z
UID:10000890-1738951200-1739037599@stayinmcallen.com
SUMMARY:UTRGV Women's Basketball at Lamar
DESCRIPTION:UTRGV Women’s Basketball at Lamar\nStreaming Video: http://plus.espn.com/\n https://goutrgv.com/calendar.aspx?game_id=27513&sport_id=8
URL:https://stayinmcallen.com/events/utrgv-womens-basketball-at-lamar-2/
LOCATION:Beaumont\, TX
CATEGORIES:UTRGV Athletics
END:VEVENT
BEGIN:VEVENT
DTSTART;VALUE=DATE:20250207
DTEND;VALUE=DATE:20250209
DTSTAMP:20260425T063325
CREATED:20240719T124601Z
LAST-MODIFIED:20240719T124601Z
UID:10000891-1738951200-1739037599@stayinmcallen.com
SUMMARY:UTRGV Men's Basketball at Lamar
DESCRIPTION:UTRGV Men’s Basketball at Lamar\nTV: ESPN+ (USA)\nStreaming Video: http://plus.espn.com/\n https://goutrgv.com/calendar.aspx?game_id=27541&sport_id=3
URL:https://stayinmcallen.com/events/utrgv-mens-basketball-at-lamar-2/
LOCATION:Beaumont\, TX
CATEGORIES:UTRGV Athletics
END:VEVENT
BEGIN:VEVENT
DTSTART;TZID=America/Chicago:20250208T120000
DTEND;TZID=America/Chicago:20250208T150000
DTSTAMP:20260425T063325
CREATED:20240816T134700Z
LAST-MODIFIED:20250207T220215Z
UID:10001086-1739016000-1739026800@stayinmcallen.com
SUMMARY:UTRGV Women's Swimming & Diving  Idaho
DESCRIPTION:UTRGV Women’s Swimming & Diving  Idaho
URL:https://stayinmcallen.com/events/utrgv-womens-swimming-diving-idaho-state/
LOCATION:Moscow\, ID
CATEGORIES:UTRGV Athletics
END:VEVENT
BEGIN:VEVENT
DTSTART;TZID=America/Chicago:20250208T150000
DTEND;TZID=America/Chicago:20250208T170000
DTSTAMP:20260425T063325
CREATED:20240719T124527Z
LAST-MODIFIED:20250207T220219Z
UID:10000885-1739026800-1739034000@stayinmcallen.com
SUMMARY:UTRGV Women's Basketball at Lamar
DESCRIPTION:UTRGV Women’s Basketball at Lamar\nTV: ESPN+ (USA)\nStreaming Video: https://www.espn.com/watch/catalog/01209caa-9a9a-4275-b784-c8cdff2fbd7c/southland-conference#bucketId=29784&sourceCollection=Browse_By_Top_Conferences
URL:https://stayinmcallen.com/events/utrgv-womens-basketball-at-lamar/
LOCATION:Beaumont\, TX
CATEGORIES:UTRGV Athletics
END:VEVENT
BEGIN:VEVENT
DTSTART;TZID=America/Chicago:20250208T180000
DTEND;TZID=America/Chicago:20250208T200000
DTSTAMP:20260425T063325
CREATED:20240719T124534Z
LAST-MODIFIED:20250207T220223Z
UID:10000886-1739037600-1739044800@stayinmcallen.com
SUMMARY:UTRGV Men's Basketball at Lamar
DESCRIPTION:UTRGV Men’s Basketball at Lamar\nTV: ESPN+ (USA) | Southland International\nStreaming Video: http://plus.espn.com/
URL:https://stayinmcallen.com/events/utrgv-mens-basketball-at-lamar/
LOCATION:Beaumont\, TX
CATEGORIES:UTRGV Athletics
END:VEVENT
BEGIN:VEVENT
DTSTART;TZID=America/Chicago:20250209T100000
DTEND;TZID=America/Chicago:20250209T130000
DTSTAMP:20260425T063325
CREATED:20241213T184920Z
LAST-MODIFIED:20250207T220228Z
UID:10001521-1739095200-1739106000@stayinmcallen.com
SUMMARY:UTRGV Women's Tennis vs Prairie View A&M
DESCRIPTION:UTRGV Women’s Tennis vs Prairie View A&M
URL:https://stayinmcallen.com/events/utrgv-womens-tennis-vs-prairie-view-am/
LOCATION:Edinburg\, TX\, Orville I. Cox Tennis Center
CATEGORIES:UTRGV Athletics
END:VEVENT
BEGIN:VEVENT
DTSTART;TZID=America/Chicago:20250209T130000
DTEND;TZID=America/Chicago:20250209T160000
DTSTAMP:20260425T063325
CREATED:20241213T184926Z
LAST-MODIFIED:20250207T220233Z
UID:10001523-1739106000-1739116800@stayinmcallen.com
SUMMARY:UTRGV Men's Tennis vs Prairie View A&M
DESCRIPTION:UTRGV Men’s Tennis vs Prairie View A&M
URL:https://stayinmcallen.com/events/utrgv-mens-tennis-vs-prairie-view-am/
LOCATION:Edinburg\, TX\, Orville I. Cox Tennis Center
CATEGORIES:UTRGV Athletics
END:VEVENT
BEGIN:VEVENT
DTSTART;VALUE=DATE:20250209
DTEND;VALUE=DATE:20250211
DTSTAMP:20260425T063325
CREATED:20240719T124607Z
LAST-MODIFIED:20240719T124607Z
UID:10000892-1739124000-1739210399@stayinmcallen.com
SUMMARY:UTRGV Men's Basketball at Stephen F. Austin
DESCRIPTION:UTRGV Men’s Basketball at Stephen F. Austin\nTV: ESPN+ (USA)\nStreaming Video: http://plus.espn.com/\n https://goutrgv.com/calendar.aspx?game_id=27542&sport_id=3
URL:https://stayinmcallen.com/events/utrgv-mens-basketball-at-stephen-f-austin-4/
LOCATION:Nacogdoches\, TX
CATEGORIES:UTRGV Athletics
END:VEVENT
END:VCALENDAR