BEGIN:VCALENDAR
VERSION:2.0
PRODID:-//Stayinmcallen - ECPv6.15.20//NONSGML v1.0//EN
CALSCALE:GREGORIAN
METHOD:PUBLISH
X-ORIGINAL-URL:https://stayinmcallen.com
X-WR-CALDESC:Events for Stayinmcallen
REFRESH-INTERVAL;VALUE=DURATION:PT1H
X-Robots-Tag:noindex
X-PUBLISHED-TTL:PT1H
BEGIN:VTIMEZONE
TZID:America/Chicago
BEGIN:DAYLIGHT
TZOFFSETFROM:-0600
TZOFFSETTO:-0500
TZNAME:CDT
DTSTART:20240310T080000
END:DAYLIGHT
BEGIN:STANDARD
TZOFFSETFROM:-0500
TZOFFSETTO:-0600
TZNAME:CST
DTSTART:20241103T070000
END:STANDARD
BEGIN:DAYLIGHT
TZOFFSETFROM:-0600
TZOFFSETTO:-0500
TZNAME:CDT
DTSTART:20250309T080000
END:DAYLIGHT
BEGIN:STANDARD
TZOFFSETFROM:-0500
TZOFFSETTO:-0600
TZNAME:CST
DTSTART:20251102T070000
END:STANDARD
BEGIN:DAYLIGHT
TZOFFSETFROM:-0600
TZOFFSETTO:-0500
TZNAME:CDT
DTSTART:20260308T080000
END:DAYLIGHT
BEGIN:STANDARD
TZOFFSETFROM:-0500
TZOFFSETTO:-0600
TZNAME:CST
DTSTART:20261101T070000
END:STANDARD
END:VTIMEZONE
BEGIN:VEVENT
DTSTART;TZID=America/Chicago:20250814T183000
DTEND;TZID=America/Chicago:20250814T203000
DTSTAMP:20260424T203401
CREATED:20250726T034906Z
LAST-MODIFIED:20250809T041904Z
UID:10002755-1755196200-1755203400@stayinmcallen.com
SUMMARY:UTRGV Women's Soccer vs Tarleton State
DESCRIPTION:UTRGV Women’s Soccer vs Tarleton State\nTV: ESPN+ (USA) | Southland International\nStreaming Video: https://www.southland.org/espn
URL:https://stayinmcallen.com/events/utrgv-womens-soccer-vs-tarleton-state/
LOCATION:Edinburg\, Texas\, UTRGV Soccer and Track & Field Complex
CATEGORIES:UTRGV Athletics
END:VEVENT
BEGIN:VEVENT
DTSTART;TZID=America/Chicago:20250814T183000
DTEND;TZID=America/Chicago:20250814T203000
DTSTAMP:20260424T203401
CREATED:20250726T034908Z
LAST-MODIFIED:20250726T034908Z
UID:10002759-1755196200-1755203400@stayinmcallen.com
SUMMARY:UTRGV Women's Soccer vs Tarleton State
DESCRIPTION:UTRGV Women’s Soccer vs Tarleton State\nTV: TV: ESPN+ (USA) | Southland International\nStreaming Video: https://www.southland.org/espn
URL:https://stayinmcallen.com/events/utrgv-womens-soccer-vs-tarleton-state-2/
LOCATION:Edinburg\, Texas\, UTRGV Soccer and Track & Field Complex
CATEGORIES:UTRGV Athletics
END:VEVENT
BEGIN:VEVENT
DTSTART;TZID=America/Chicago:20250815T130000
DTEND;TZID=America/Chicago:20250815T150000
DTSTAMP:20260424T203401
CREATED:20250726T034911Z
LAST-MODIFIED:20250726T034911Z
UID:10002760-1755262800-1755270000@stayinmcallen.com
SUMMARY:UTRGV Men's Soccer vs Coastal Bend (Exhibition)
DESCRIPTION:UTRGV Men’s Soccer vs Coastal Bend (Exhibition)
URL:https://stayinmcallen.com/events/utrgv-mens-soccer-vs-coastal-bend-exhibition-6/
LOCATION:Edinburg\, Texas\, UTRGV Soccer and Track & Field Complex
CATEGORIES:UTRGV Athletics
END:VEVENT
BEGIN:VEVENT
DTSTART;TZID=America/Chicago:20250816T093000
DTEND;TZID=America/Chicago:20250816T123000
DTSTAMP:20260424T203401
CREATED:20250719T033518Z
LAST-MODIFIED:20250816T044852Z
UID:10002701-1755336600-1755347400@stayinmcallen.com
SUMMARY:UTRGV Camps  Baseball Evaluation Camp II (Ages 14+)
DESCRIPTION:UTRGV Camps  Baseball Evaluation Camp II (Ages 14+)
URL:https://stayinmcallen.com/events/utrgv-camps-baseball-evaluation-camp-ii-ages-14/
LOCATION:Edinburg\, TX\, UTRGV Baseball Stadium
CATEGORIES:UTRGV Athletics
END:VEVENT
BEGIN:VEVENT
DTSTART;TZID=America/Chicago:20250816T093000
DTEND;TZID=America/Chicago:20250816T123000
DTSTAMP:20260424T203401
CREATED:20250719T033519Z
LAST-MODIFIED:20250719T033519Z
UID:10002703-1755336600-1755347400@stayinmcallen.com
SUMMARY:UTRGV Camps  Baseball Evaluation Camp II (Ages 14+)
DESCRIPTION:UTRGV Camps  Baseball Evaluation Camp II (Ages 14+)
URL:https://stayinmcallen.com/events/utrgv-camps-baseball-evaluation-camp-ii-ages-14-2/
LOCATION:Edinburg\, TX\, UTRGV Baseball Stadium
CATEGORIES:UTRGV Athletics
END:VEVENT
BEGIN:VEVENT
DTSTART;TZID=America/Chicago:20250816T130000
DTEND;TZID=America/Chicago:20250816T150000
DTSTAMP:20260424T203401
CREATED:20250726T034909Z
LAST-MODIFIED:20250816T044857Z
UID:10002756-1755349200-1755356400@stayinmcallen.com
SUMMARY:UTRGV Men's Soccer vs Coastal Bend (Exhibition)
DESCRIPTION:UTRGV Men’s Soccer vs Coastal Bend (Exhibition)
URL:https://stayinmcallen.com/events/utrgv-mens-soccer-vs-coastal-bend-exhibition-5/
LOCATION:Edinburg\, Texas\, UTRGV Soccer and Track & Field Complex
CATEGORIES:UTRGV Athletics
END:VEVENT
BEGIN:VEVENT
DTSTART;TZID=America/Chicago:20250817T110000
DTEND;TZID=America/Chicago:20250817T130000
DTSTAMP:20260424T203401
CREATED:20250726T034920Z
LAST-MODIFIED:20250816T044901Z
UID:10002761-1755428400-1755435600@stayinmcallen.com
SUMMARY:UTRGV Women's Soccer vs Rice
DESCRIPTION:UTRGV Women’s Soccer vs Rice\nTV: ESPN+ (USA) | Southland International\nStreaming Video: https://www.southland.org/espn
URL:https://stayinmcallen.com/events/utrgv-womens-soccer-vs-rice/
LOCATION:Edinburg\, Texas\, UTRGV Soccer and Track & Field Complex
CATEGORIES:UTRGV Athletics
END:VEVENT
END:VCALENDAR