BEGIN:VCALENDAR
VERSION:2.0
PRODID:-//Stayinmcallen - ECPv6.15.20//NONSGML v1.0//EN
CALSCALE:GREGORIAN
METHOD:PUBLISH
X-ORIGINAL-URL:https://stayinmcallen.com
X-WR-CALDESC:Events for Stayinmcallen
REFRESH-INTERVAL;VALUE=DURATION:PT1H
X-Robots-Tag:noindex
X-PUBLISHED-TTL:PT1H
BEGIN:VTIMEZONE
TZID:America/Chicago
BEGIN:DAYLIGHT
TZOFFSETFROM:-0600
TZOFFSETTO:-0500
TZNAME:CDT
DTSTART:20240310T080000
END:DAYLIGHT
BEGIN:STANDARD
TZOFFSETFROM:-0500
TZOFFSETTO:-0600
TZNAME:CST
DTSTART:20241103T070000
END:STANDARD
BEGIN:DAYLIGHT
TZOFFSETFROM:-0600
TZOFFSETTO:-0500
TZNAME:CDT
DTSTART:20250309T080000
END:DAYLIGHT
BEGIN:STANDARD
TZOFFSETFROM:-0500
TZOFFSETTO:-0600
TZNAME:CST
DTSTART:20251102T070000
END:STANDARD
BEGIN:DAYLIGHT
TZOFFSETFROM:-0600
TZOFFSETTO:-0500
TZNAME:CDT
DTSTART:20260308T080000
END:DAYLIGHT
BEGIN:STANDARD
TZOFFSETFROM:-0500
TZOFFSETTO:-0600
TZNAME:CST
DTSTART:20261101T070000
END:STANDARD
END:VTIMEZONE
BEGIN:VEVENT
DTSTART;TZID=America/Chicago:20250827T180000
DTEND;TZID=America/Chicago:20250827T200000
DTSTAMP:20260424T173357
CREATED:20250726T034935Z
LAST-MODIFIED:20250726T034935Z
UID:10002765-1756317600-1756324800@stayinmcallen.com
SUMMARY:UTRGV Men's Soccer at Central Florida
DESCRIPTION:UTRGV Men’s Soccer at Central Florida
URL:https://stayinmcallen.com/events/utrgv-mens-soccer-at-central-florida/
LOCATION:Orlando\, Fla.
CATEGORIES:UTRGV Athletics
END:VEVENT
BEGIN:VEVENT
DTSTART;TZID=America/Chicago:20250827T180000
DTEND;TZID=America/Chicago:20250827T200000
DTSTAMP:20260424T173357
CREATED:20250726T034944Z
LAST-MODIFIED:20250823T051857Z
UID:10002769-1756317600-1756324800@stayinmcallen.com
SUMMARY:UTRGV Men's Soccer at Central Florida
DESCRIPTION:UTRGV Men’s Soccer at Central Florida\nTV: ESPN+\nStreaming Video: https://www.espn.com/watch/player/_/id/c06efb16-0fcc-47f2-a42d-5d0b3d782f87
URL:https://stayinmcallen.com/events/utrgv-mens-soccer-at-central-florida-2/
LOCATION:Orlando\, Fla.
CATEGORIES:UTRGV Athletics
END:VEVENT
BEGIN:VEVENT
DTSTART;TZID=America/Chicago:20250828T183000
DTEND;TZID=America/Chicago:20250828T203000
DTSTAMP:20260424T173357
CREATED:20250726T034947Z
LAST-MODIFIED:20250823T051902Z
UID:10002770-1756405800-1756413000@stayinmcallen.com
SUMMARY:UTRGV Women's Soccer vs Louisiana
DESCRIPTION:UTRGV Women’s Soccer vs Louisiana\nTV: ESPN+ (USA) | Southland International\nStreaming Video: https://www.southland.org/espn
URL:https://stayinmcallen.com/events/utrgv-womens-soccer-vs-louisiana/
LOCATION:Edinburg\, Texas\, UTRGV Soccer and Track & Field Complex
CATEGORIES:UTRGV Athletics
END:VEVENT
BEGIN:VEVENT
DTSTART;TZID=America/Chicago:20250828T183000
DTEND;TZID=America/Chicago:20250828T203000
DTSTAMP:20260424T173357
CREATED:20250726T034951Z
LAST-MODIFIED:20250726T034951Z
UID:10002773-1756405800-1756413000@stayinmcallen.com
SUMMARY:UTRGV Women's Soccer vs Louisiana
DESCRIPTION:UTRGV Women’s Soccer vs Louisiana\nTV: TV: ESPN+ (USA) | Southland International\nStreaming Video: https://www.southland.org/espn
URL:https://stayinmcallen.com/events/utrgv-womens-soccer-vs-louisiana-2/
LOCATION:Edinburg\, Texas\, UTRGV Soccer and Track & Field Complex
CATEGORIES:UTRGV Athletics
END:VEVENT
BEGIN:VEVENT
DTSTART;TZID=America/Chicago:20250829T170000
DTEND;TZID=America/Chicago:20250829T190000
DTSTAMP:20260424T173357
CREATED:20250726T034951Z
LAST-MODIFIED:20250823T051908Z
UID:10002771-1756486800-1756494000@stayinmcallen.com
SUMMARY:UTRGV Volleyball vs Gonzaga
DESCRIPTION:UTRGV Volleyball vs Gonzaga
URL:https://stayinmcallen.com/events/utrgv-volleyball-vs-gonzaga/
LOCATION:Phoenix\, AZ
CATEGORIES:UTRGV Athletics
END:VEVENT
BEGIN:VEVENT
DTSTART;TZID=America/Chicago:20250830T200000
DTEND;TZID=America/Chicago:20250830T220000
DTSTAMP:20260424T173357
CREATED:20250726T034954Z
LAST-MODIFIED:20250830T054857Z
UID:10002772-1756584000-1756591200@stayinmcallen.com
SUMMARY:UTRGV Volleyball at GCU
DESCRIPTION:UTRGV Volleyball at GCU\nTV: Mountain West Network\nStreaming Video: https://themw.com/watch/?fbclid=IwY2xjawMdggFleHRuA2FlbQIxMQABHmqQum8OA_Ibb5H_iKVvNx_xa9tnmfuxiLzzqF3cZtu5vNH-v3e0PQlXOzVD_aem_RbslwxDfF_ZwHt_NbpzIBQ
URL:https://stayinmcallen.com/events/utrgv-volleyball-at-gcu/
LOCATION:Phoenix\, Ariz.
CATEGORIES:UTRGV Athletics
END:VEVENT
BEGIN:VEVENT
DTSTART;TZID=America/Chicago:20250831T130000
DTEND;TZID=America/Chicago:20250831T150000
DTSTAMP:20260424T173357
CREATED:20250726T035009Z
LAST-MODIFIED:20250830T054901Z
UID:10002774-1756645200-1756652400@stayinmcallen.com
SUMMARY:UTRGV Volleyball vs LIU
DESCRIPTION:UTRGV Volleyball vs LIU\nStreaming Video: https://gculopes.com/watch/?Live=699&type=Live
URL:https://stayinmcallen.com/events/utrgv-volleyball-vs-liu/
LOCATION:Phoenix\, Ariz.
CATEGORIES:UTRGV Athletics
END:VEVENT
BEGIN:VEVENT
DTSTART;TZID=America/Chicago:20250831T170000
DTEND;TZID=America/Chicago:20250831T190000
DTSTAMP:20260424T173357
CREATED:20250726T035018Z
LAST-MODIFIED:20250726T035018Z
UID:10002777-1756659600-1756666800@stayinmcallen.com
SUMMARY:UTRGV Men's Soccer at Jacksonville
DESCRIPTION:UTRGV Men’s Soccer at Jacksonville
URL:https://stayinmcallen.com/events/utrgv-mens-soccer-at-jacksonville-2/
LOCATION:Jacksonville\, Fla.
CATEGORIES:UTRGV Athletics
END:VEVENT
BEGIN:VEVENT
DTSTART;TZID=America/Chicago:20250831T180000
DTEND;TZID=America/Chicago:20250831T200000
DTSTAMP:20260424T173357
CREATED:20250726T035014Z
LAST-MODIFIED:20250830T054905Z
UID:10002775-1756663200-1756670400@stayinmcallen.com
SUMMARY:UTRGV Men's Soccer at Jacksonville
DESCRIPTION:UTRGV Men’s Soccer at Jacksonville
URL:https://stayinmcallen.com/events/utrgv-mens-soccer-at-jacksonville/
LOCATION:Jacksonville\, Fla.
CATEGORIES:UTRGV Athletics
END:VEVENT
END:VCALENDAR