BEGIN:VCALENDAR
VERSION:2.0
PRODID:-//Stayinmcallen - ECPv6.15.20//NONSGML v1.0//EN
CALSCALE:GREGORIAN
METHOD:PUBLISH
X-ORIGINAL-URL:https://stayinmcallen.com
X-WR-CALDESC:Events for Stayinmcallen
REFRESH-INTERVAL;VALUE=DURATION:PT1H
X-Robots-Tag:noindex
X-PUBLISHED-TTL:PT1H
BEGIN:VTIMEZONE
TZID:America/Chicago
BEGIN:DAYLIGHT
TZOFFSETFROM:-0600
TZOFFSETTO:-0500
TZNAME:CDT
DTSTART:20240310T080000
END:DAYLIGHT
BEGIN:STANDARD
TZOFFSETFROM:-0500
TZOFFSETTO:-0600
TZNAME:CST
DTSTART:20241103T070000
END:STANDARD
BEGIN:DAYLIGHT
TZOFFSETFROM:-0600
TZOFFSETTO:-0500
TZNAME:CDT
DTSTART:20250309T080000
END:DAYLIGHT
BEGIN:STANDARD
TZOFFSETFROM:-0500
TZOFFSETTO:-0600
TZNAME:CST
DTSTART:20251102T070000
END:STANDARD
BEGIN:DAYLIGHT
TZOFFSETFROM:-0600
TZOFFSETTO:-0500
TZNAME:CDT
DTSTART:20260308T080000
END:DAYLIGHT
BEGIN:STANDARD
TZOFFSETFROM:-0500
TZOFFSETTO:-0600
TZNAME:CST
DTSTART:20261101T070000
END:STANDARD
END:VTIMEZONE
BEGIN:VEVENT
DTSTART;VALUE=DATE:20251214
DTEND;VALUE=DATE:20251216
DTSTAMP:20260424T095646
CREATED:20250726T035654Z
LAST-MODIFIED:20251029T185536Z
UID:10002833-1765735200-1765821599@stayinmcallen.com
SUMMARY:UTRGV Men's Soccer vs College Cup Finals
DESCRIPTION:UTRGV Men’s Soccer vs College Cup Finals
URL:https://stayinmcallen.com/events/utrgv-mens-soccer-vs-college-cup-finals-2/
LOCATION:Kansas City\, Mo.
CATEGORIES:UTRGV Athletics
END:VEVENT
BEGIN:VEVENT
DTSTART;TZID=America/Chicago:20251215T180000
DTEND;TZID=America/Chicago:20251215T200000
DTSTAMP:20260424T095646
CREATED:20250809T043106Z
LAST-MODIFIED:20251210T023747Z
UID:10002856-1765821600-1765828800@stayinmcallen.com
SUMMARY:UTRGV Women's Basketball at Stephen F. Austin
DESCRIPTION:UTRGV Women’s Basketball at Stephen F. Austin\nStreaming Video: https://www.southland.org/espn
URL:https://stayinmcallen.com/events/utrgv-womens-basketball-at-stephen-f-austin-4/
LOCATION:Nacogdoches\, Texas\, William R. Johnson Coliseum
CATEGORIES:UTRGV Athletics
END:VEVENT
BEGIN:VEVENT
DTSTART;TZID=America/Chicago:20251216T180000
DTEND;TZID=America/Chicago:20251216T200000
DTSTAMP:20260424T095646
CREATED:20250809T043114Z
LAST-MODIFIED:20251210T023750Z
UID:10002857-1765908000-1765915200@stayinmcallen.com
SUMMARY:UTRGV Men's Basketball at Lamar
DESCRIPTION:UTRGV Men’s Basketball at Lamar\nStreaming Video: https://www.southland.org/espn
URL:https://stayinmcallen.com/events/utrgv-mens-basketball-at-lamar-3/
LOCATION:Beaumont\, Texas\, Neches Federal Credit Union Arena at the Montagne Center
CATEGORIES:UTRGV Athletics
END:VEVENT
BEGIN:VEVENT
DTSTART;TZID=America/Chicago:20251217T160000
DTEND;TZID=America/Chicago:20251217T180000
DTSTAMP:20260424T095646
CREATED:20250830T060125Z
LAST-MODIFIED:20251217T031849Z
UID:10003045-1765987200-1765994400@stayinmcallen.com
SUMMARY:UTRGV Women's Basketball vs North Dakota State
DESCRIPTION:UTRGV Women’s Basketball vs North Dakota State\nStreaming Audio: https://gobison.com/watch/?Live=4795&type=Live
URL:https://stayinmcallen.com/events/utrgv-womens-basketball-vs-north-dakota-state/
LOCATION:Malibu\, Calif.\, Firestone Fieldhouse
CATEGORIES:UTRGV Athletics
END:VEVENT
BEGIN:VEVENT
DTSTART;VALUE=DATE:20251217
DTEND;VALUE=DATE:20251219
DTSTAMP:20260424T095646
CREATED:20250726T035659Z
LAST-MODIFIED:20251126T003059Z
UID:10002839-1765994400-1766080799@stayinmcallen.com
SUMMARY:UTRGV Volleyball vs Semifinals
DESCRIPTION:UTRGV Volleyball vs Semifinals
URL:https://stayinmcallen.com/events/utrgv-volleyball-vs-semifinals-4/
LOCATION:Kansas City\, Mo.
CATEGORIES:UTRGV Athletics
END:VEVENT
BEGIN:VEVENT
DTSTART;TZID=America/Chicago:20251218T180000
DTEND;TZID=America/Chicago:20251218T200000
DTSTAMP:20260424T095646
CREATED:20250830T060129Z
LAST-MODIFIED:20251218T112539Z
UID:10003046-1766080800-1766088000@stayinmcallen.com
SUMMARY:UTRGV Women's Basketball vs South Dakota
DESCRIPTION:UTRGV Women’s Basketball vs South Dakota\nStreaming Audio: https://thevarsitynetwork.com/feed/source/oas-1036?audioPlayer=usd:allaccess-Live-1960
URL:https://stayinmcallen.com/events/utrgv-womens-basketball-vs-south-dakota/
LOCATION:Malibu\, Calif.\, Firestone Fieldhouse
CATEGORIES:UTRGV Athletics
END:VEVENT
BEGIN:VEVENT
DTSTART;TZID=America/Chicago:20251220T140000
DTEND;TZID=America/Chicago:20251220T160000
DTSTAMP:20260424T095646
CREATED:20251015T165100Z
LAST-MODIFIED:20251218T112543Z
UID:10003180-1766239200-1766246400@stayinmcallen.com
SUMMARY:UTRGV Men's Basketball vs College of Biblical Studies - Ugly Sweater Day
DESCRIPTION:UTRGV Men’s Basketball vs College of Biblical Studies – Ugly Sweater Day\nStreaming Video: https://www.southland.org/espn\nStreaming Audio: https://www.southland.org/watch\nTickets: http://utrgvtickets.com/
URL:https://stayinmcallen.com/events/utrgv-mens-basketball-vs-college-of-biblical-studies-2/
LOCATION:Edinburg\, TX\, UTRGV Fieldhouse
CATEGORIES:UTRGV Athletics
END:VEVENT
BEGIN:VEVENT
DTSTART;VALUE=DATE:20251220
DTEND;VALUE=DATE:20251222
DTSTAMP:20260424T095646
CREATED:20250726T035703Z
LAST-MODIFIED:20251126T003107Z
UID:10002840-1766253600-1766339999@stayinmcallen.com
SUMMARY:UTRGV Volleyball vs National Championship
DESCRIPTION:UTRGV Volleyball vs National Championship
URL:https://stayinmcallen.com/events/utrgv-volleyball-vs-national-championship/
LOCATION:Kansas City\, Mo.
CATEGORIES:UTRGV Athletics
END:VEVENT
END:VCALENDAR