BEGIN:VCALENDAR
VERSION:2.0
PRODID:-//Stayinmcallen - ECPv6.15.20//NONSGML v1.0//EN
CALSCALE:GREGORIAN
METHOD:PUBLISH
X-ORIGINAL-URL:https://stayinmcallen.com
X-WR-CALDESC:Events for Stayinmcallen
REFRESH-INTERVAL;VALUE=DURATION:PT1H
X-Robots-Tag:noindex
X-PUBLISHED-TTL:PT1H
BEGIN:VTIMEZONE
TZID:America/Chicago
BEGIN:DAYLIGHT
TZOFFSETFROM:-0600
TZOFFSETTO:-0500
TZNAME:CDT
DTSTART:20250309T080000
END:DAYLIGHT
BEGIN:STANDARD
TZOFFSETFROM:-0500
TZOFFSETTO:-0600
TZNAME:CST
DTSTART:20251102T070000
END:STANDARD
BEGIN:DAYLIGHT
TZOFFSETFROM:-0600
TZOFFSETTO:-0500
TZNAME:CDT
DTSTART:20260308T080000
END:DAYLIGHT
BEGIN:STANDARD
TZOFFSETFROM:-0500
TZOFFSETTO:-0600
TZNAME:CST
DTSTART:20261101T070000
END:STANDARD
BEGIN:DAYLIGHT
TZOFFSETFROM:-0600
TZOFFSETTO:-0500
TZNAME:CDT
DTSTART:20270314T080000
END:DAYLIGHT
BEGIN:STANDARD
TZOFFSETFROM:-0500
TZOFFSETTO:-0600
TZNAME:CST
DTSTART:20271107T070000
END:STANDARD
END:VTIMEZONE
BEGIN:VEVENT
DTSTART;TZID=America/Chicago:20260105T183000
DTEND;TZID=America/Chicago:20260105T203000
DTSTAMP:20260424T113435
CREATED:20250809T043207Z
LAST-MODIFIED:20260105T113614Z
UID:10002864-1767637800-1767645000@stayinmcallen.com
SUMMARY:UTRGV Men's Basketball vs UIW - Monday Madness • Military Appreciation
DESCRIPTION:UTRGV Men’s Basketball vs UIW – Monday Madness • Military Appreciation\nStreaming Video: https://www.southland.org/espn\nStreaming Audio: https://www.southland.org/watch\nTickets: http://utrgvtickets.com/
URL:https://stayinmcallen.com/events/utrgv-mens-basketball-vs-incarnate-word-3/
LOCATION:Edinburg\, Texas\, UTRGV Fieldhouse
CATEGORIES:UTRGV Athletics
END:VEVENT
BEGIN:VEVENT
DTSTART;TZID=America/Chicago:20260108T183000
DTEND;TZID=America/Chicago:20260108T203000
DTSTAMP:20260424T113435
CREATED:20250809T043213Z
LAST-MODIFIED:20260105T113619Z
UID:10002865-1767897000-1767904200@stayinmcallen.com
SUMMARY:UTRGV Women's Basketball at Northwestern State
DESCRIPTION:UTRGV Women’s Basketball at Northwestern State\nStreaming Video: https://www.southland.org/espn\nStreaming Audio: https://www.southland.org/watch
URL:https://stayinmcallen.com/events/utrgv-womens-basketball-at-northwestern-state-2/
LOCATION:Natchitoches\, La.\, Prather Coliseum
CATEGORIES:UTRGV Athletics
END:VEVENT
BEGIN:VEVENT
DTSTART;VALUE=DATE:20260109
DTEND;VALUE=DATE:20260111
DTSTAMP:20260424T113435
CREATED:20250719T033940Z
LAST-MODIFIED:20250719T033940Z
UID:10002722-1767981600-1768067999@stayinmcallen.com
SUMMARY:UTRGV Women's Swimming & Diving  New Mexico State
DESCRIPTION:UTRGV Women’s Swimming & Diving  New Mexico State
URL:https://stayinmcallen.com/events/utrgv-womens-swimming-diving-new-mexico-state-2/
LOCATION:Pharr\, TX\, City of Pharr-PSJA Natatorium
CATEGORIES:UTRGV Athletics
END:VEVENT
BEGIN:VEVENT
DTSTART;TZID=America/Chicago:20260110T100000
DTEND;TZID=America/Chicago:20260110T130000
DTSTAMP:20260424T113435
CREATED:20251210T023853Z
LAST-MODIFIED:20260105T113623Z
UID:10003322-1768039200-1768050000@stayinmcallen.com
SUMMARY:UTRGV Camps  Baseball Kids Camp (Ages 5-13)
DESCRIPTION:UTRGV Camps  Baseball Kids Camp (Ages 5-13)
URL:https://stayinmcallen.com/events/utrgv-camps-baseball-kids-camp-ages-5-13-9/
LOCATION:Edinburg\, TX\, UTRGV Baseball Stadium
CATEGORIES:UTRGV Athletics
END:VEVENT
BEGIN:VEVENT
DTSTART;TZID=America/Chicago:20260110T100000
DTEND;TZID=America/Chicago:20260110T130000
DTSTAMP:20260424T113435
CREATED:20251217T031955Z
LAST-MODIFIED:20260105T113627Z
UID:10003335-1768039200-1768050000@stayinmcallen.com
SUMMARY:UTRGV Men's Tennis vs Arkansas vs. Rice
DESCRIPTION:UTRGV Men’s Tennis vs Arkansas vs. Rice
URL:https://stayinmcallen.com/events/utrgv-mens-tennis-vs-arkansas-vs-rice/
LOCATION:Harlingen\, Texas\, H-E-B Tennis Center
CATEGORIES:UTRGV Athletics
END:VEVENT
BEGIN:VEVENT
DTSTART;TZID=America/Chicago:20260110T110000
DTEND;TZID=America/Chicago:20260110T140000
DTSTAMP:20260424T113435
CREATED:20250719T033929Z
LAST-MODIFIED:20260105T113643Z
UID:10002723-1768042800-1768053600@stayinmcallen.com
SUMMARY:UTRGV Women's Swimming & Diving  New Mexico State
DESCRIPTION:UTRGV Women’s Swimming & Diving  New Mexico State
URL:https://stayinmcallen.com/events/utrgv-womens-swimming-diving-new-mexico-state/
LOCATION:Pharr\, Texas\, City of Pharr-PSJA Natatorium
CATEGORIES:UTRGV Athletics
END:VEVENT
BEGIN:VEVENT
DTSTART;TZID=America/Chicago:20260110T110000
DTEND;TZID=America/Chicago:20260110T140000
DTSTAMP:20260424T113435
CREATED:20251225T125318Z
LAST-MODIFIED:20260105T113637Z
UID:10003380-1768042800-1768053600@stayinmcallen.com
SUMMARY:UTRGV Men's Track & Field  Leonard Hilton Memorial
DESCRIPTION:UTRGV Men’s Track & Field  Leonard Hilton Memorial
URL:https://stayinmcallen.com/events/utrgv-mens-track-field-leonard-hilton-memorial/
LOCATION:Houston\, Texas
CATEGORIES:UTRGV Athletics
END:VEVENT
BEGIN:VEVENT
DTSTART;TZID=America/Chicago:20260110T110000
DTEND;TZID=America/Chicago:20260110T140000
DTSTAMP:20260424T113435
CREATED:20251225T125321Z
LAST-MODIFIED:20260105T113632Z
UID:10003381-1768042800-1768053600@stayinmcallen.com
SUMMARY:UTRGV Women's Track & Field  Leonard Hilton Memorial
DESCRIPTION:UTRGV Women’s Track & Field  Leonard Hilton Memorial
URL:https://stayinmcallen.com/events/utrgv-womens-track-field-leonard-hilton-memorial/
LOCATION:Houston\, Texas
CATEGORIES:UTRGV Athletics
END:VEVENT
BEGIN:VEVENT
DTSTART;TZID=America/Chicago:20260110T143000
DTEND;TZID=America/Chicago:20260110T163000
DTSTAMP:20260424T113435
CREATED:20250809T043219Z
LAST-MODIFIED:20260105T113648Z
UID:10002866-1768055400-1768062600@stayinmcallen.com
SUMMARY:UTRGV Women's Basketball at East Texas A&M
DESCRIPTION:UTRGV Women’s Basketball at East Texas A&M\nStreaming Video: https://www.southland.org/espn\nStreaming Audio: https://www.southland.org/watch
URL:https://stayinmcallen.com/events/utrgv-womens-basketball-at-east-texas-am/
LOCATION:Commerce\, Texas\, The Field House
CATEGORIES:UTRGV Athletics
END:VEVENT
BEGIN:VEVENT
DTSTART;TZID=America/Chicago:20260110T153000
DTEND;TZID=America/Chicago:20260110T183000
DTSTAMP:20260424T113435
CREATED:20251225T125336Z
LAST-MODIFIED:20260105T113652Z
UID:10003382-1768059000-1768069800@stayinmcallen.com
SUMMARY:UTRGV Camps  Free Junior Tennis Clinic – Harlingen (Grades 5-10)
DESCRIPTION:UTRGV Camps  Free Junior Tennis Clinic – Harlingen (Grades 5-10)
URL:https://stayinmcallen.com/events/utrgv-camps-free-junior-tennis-clinic-harlingen-grades-5-10/
LOCATION:Harlingen\, Texas\, H-E-B Tennis Center
CATEGORIES:UTRGV Athletics
END:VEVENT
BEGIN:VEVENT
DTSTART;TZID=America/Chicago:20260110T170000
DTEND;TZID=America/Chicago:20260110T190000
DTSTAMP:20260424T113435
CREATED:20250809T043228Z
LAST-MODIFIED:20260105T113657Z
UID:10002867-1768064400-1768071600@stayinmcallen.com
SUMMARY:UTRGV Men's Basketball at East Texas A&M
DESCRIPTION:UTRGV Men’s Basketball at East Texas A&M\nStreaming Video: https://www.southland.org/espn\nStreaming Audio: https://www.southland.org/watch
URL:https://stayinmcallen.com/events/utrgv-mens-basketball-at-texas-am-commerce/
LOCATION:Commerce\, Texas\, The Field House
CATEGORIES:UTRGV Athletics
END:VEVENT
BEGIN:VEVENT
DTSTART;TZID=America/Chicago:20260110T170000
DTEND;TZID=America/Chicago:20260110T200000
DTSTAMP:20260424T113435
CREATED:20251217T031940Z
LAST-MODIFIED:20260105T113701Z
UID:10003334-1768064400-1768075200@stayinmcallen.com
SUMMARY:UTRGV Men's Tennis vs Arkansas
DESCRIPTION:UTRGV Men’s Tennis vs Arkansas
URL:https://stayinmcallen.com/events/utrgv-mens-tennis-vs-arkansas/
LOCATION:Harlingen\, Texas\, H-E-B Tennis Center
CATEGORIES:UTRGV Athletics
END:VEVENT
BEGIN:VEVENT
DTSTART;TZID=America/Chicago:20260111T100000
DTEND;TZID=America/Chicago:20260111T130000
DTSTAMP:20260424T113435
CREATED:20251217T032007Z
LAST-MODIFIED:20260105T113705Z
UID:10003336-1768125600-1768136400@stayinmcallen.com
SUMMARY:UTRGV Men's Tennis vs Rice
DESCRIPTION:UTRGV Men’s Tennis vs Rice
URL:https://stayinmcallen.com/events/utrgv-mens-tennis-vs-rice/
LOCATION:Harlingen\, Texas\, H-E-B Tennis Center
CATEGORIES:UTRGV Athletics
END:VEVENT
END:VCALENDAR