BEGIN:VCALENDAR
VERSION:2.0
PRODID:-//Stayinmcallen - ECPv6.15.20//NONSGML v1.0//EN
CALSCALE:GREGORIAN
METHOD:PUBLISH
X-WR-CALNAME:Stayinmcallen
X-ORIGINAL-URL:https://stayinmcallen.com
X-WR-CALDESC:Events for Stayinmcallen
REFRESH-INTERVAL;VALUE=DURATION:PT1H
X-Robots-Tag:noindex
X-PUBLISHED-TTL:PT1H
BEGIN:VTIMEZONE
TZID:America/Chicago
BEGIN:DAYLIGHT
TZOFFSETFROM:-0600
TZOFFSETTO:-0500
TZNAME:CDT
DTSTART:20250309T080000
END:DAYLIGHT
BEGIN:STANDARD
TZOFFSETFROM:-0500
TZOFFSETTO:-0600
TZNAME:CST
DTSTART:20251102T070000
END:STANDARD
BEGIN:DAYLIGHT
TZOFFSETFROM:-0600
TZOFFSETTO:-0500
TZNAME:CDT
DTSTART:20260308T080000
END:DAYLIGHT
BEGIN:STANDARD
TZOFFSETFROM:-0500
TZOFFSETTO:-0600
TZNAME:CST
DTSTART:20261101T070000
END:STANDARD
BEGIN:DAYLIGHT
TZOFFSETFROM:-0600
TZOFFSETTO:-0500
TZNAME:CDT
DTSTART:20270314T080000
END:DAYLIGHT
BEGIN:STANDARD
TZOFFSETFROM:-0500
TZOFFSETTO:-0600
TZNAME:CST
DTSTART:20271107T070000
END:STANDARD
END:VTIMEZONE
BEGIN:VEVENT
DTSTART;VALUE=DATE:20260419
DTEND;VALUE=DATE:20260422
DTSTAMP:20260424T063321
CREATED:20250816T050943Z
LAST-MODIFIED:20260417T151937Z
UID:10002971-1776625200-1776797999@stayinmcallen.com
SUMMARY:UTRGV Men's Golf  SLC Championships
DESCRIPTION:UTRGV Men’s Golf  SLC Championships
URL:https://stayinmcallen.com/events/utrgv-mens-golf-slc-championships/
LOCATION:Kerrville\, Texas
CATEGORIES:UTRGV Athletics
END:VEVENT
BEGIN:VEVENT
DTSTART;TZID=America/Chicago:20260420T100000
DTEND;TZID=America/Chicago:20260420T130000
DTSTAMP:20260424T063321
CREATED:20251217T033137Z
LAST-MODIFIED:20260417T151923Z
UID:10003360-1776679200-1776690000@stayinmcallen.com
SUMMARY:UTRGV Men's Tennis vs Texas A&M-Corpus Christi
DESCRIPTION:UTRGV Men’s Tennis vs Texas A&M-Corpus Christi
URL:https://stayinmcallen.com/events/utrgv-mens-tennis-vs-semifinals-2/
LOCATION:Beaumont\, Texas\, Beaumont Municipal Tennis Center
CATEGORIES:UTRGV Athletics
END:VEVENT
BEGIN:VEVENT
DTSTART;TZID=America/Chicago:20260420T140000
DTEND;TZID=America/Chicago:20260420T170000
DTSTAMP:20260424T063321
CREATED:20251228T151335Z
LAST-MODIFIED:20260417T151927Z
UID:10003422-1776693600-1776704400@stayinmcallen.com
SUMMARY:UTRGV Women's Tennis vs #3 Texas A&M-Corpus Christi/#6 Southeastern
DESCRIPTION:UTRGV Women’s Tennis vs #3 Texas A&M-Corpus Christi/#6 Southeastern
URL:https://stayinmcallen.com/events/utrgv-womens-tennis-vs-semifinals-2/
LOCATION:Beaumont\, Texas\, Beaumont Municipal Tennis Center
CATEGORIES:UTRGV Athletics
END:VEVENT
BEGIN:VEVENT
DTSTART;TZID=America/Chicago:20260421T100000
DTEND;TZID=America/Chicago:20260421T130000
DTSTAMP:20260424T063321
CREATED:20251217T033116Z
LAST-MODIFIED:20260417T151930Z
UID:10003359-1776765600-1776776400@stayinmcallen.com
SUMMARY:UTRGV Men's Tennis vs #1 UIW/#4 Lamar
DESCRIPTION:UTRGV Men’s Tennis vs #1 UIW/#4 Lamar\nStreaming Video: https://www.espn.com/watch/player/_/id/22a64cb6-d5e7-4a3e-90e1-758857ac8833?om-navmethod=espn:globalsearch:results
URL:https://stayinmcallen.com/events/utrgv-mens-tennis-vs-finals/
LOCATION:Beaumont\, Texas\, Beaumont Municipal Tennis Center
CATEGORIES:UTRGV Athletics
END:VEVENT
BEGIN:VEVENT
DTSTART;TZID=America/Chicago:20260421T140000
DTEND;TZID=America/Chicago:20260421T170000
DTSTAMP:20260424T063321
CREATED:20251228T151317Z
LAST-MODIFIED:20260417T151933Z
UID:10003420-1776780000-1776790800@stayinmcallen.com
SUMMARY:UTRGV Women's Tennis vs Championship
DESCRIPTION:UTRGV Women’s Tennis vs Championship\nStreaming Video: https://www.espn.com/watch/player/_/id/2b87f15f-dd8e-489f-ac66-1785caddda74?om-navmethod=espn:globalsearch:results
URL:https://stayinmcallen.com/events/utrgv-womens-tennis-vs-finals/
LOCATION:Beaumont\, Texas\, Beaumont Municipal Tennis Center
CATEGORIES:UTRGV Athletics
END:VEVENT
BEGIN:VEVENT
DTSTART;TZID=America/Chicago:20260421T180000
DTEND;TZID=America/Chicago:20260421T210000
DTSTAMP:20260424T063321
CREATED:20251105T202053Z
LAST-MODIFIED:20260417T151941Z
UID:10003246-1776794400-1776805200@stayinmcallen.com
SUMMARY:UTRGV Baseball at Little Rock
DESCRIPTION:UTRGV Baseball at Little Rock\nStreaming Video: https://plus.espn.com/
URL:https://stayinmcallen.com/events/utrgv-baseball-at-little-rock/
LOCATION:Little Rock\, Ark.\, Gary Hogan Field
CATEGORIES:UTRGV Athletics
END:VEVENT
BEGIN:VEVENT
DTSTART;TZID=America/Chicago:20260422T130000
DTEND;TZID=America/Chicago:20260422T160000
DTSTAMP:20260424T063321
CREATED:20251105T202058Z
LAST-MODIFIED:20260417T151944Z
UID:10003247-1776862800-1776873600@stayinmcallen.com
SUMMARY:UTRGV Baseball at Little Rock
DESCRIPTION:UTRGV Baseball at Little Rock\nStreaming Video: https://plus.espn.com/
URL:https://stayinmcallen.com/events/utrgv-baseball-at-little-rock-2/
LOCATION:Little Rock\, Ark.\, Gary Hogan Field
CATEGORIES:UTRGV Athletics
END:VEVENT
BEGIN:VEVENT
DTSTART;TZID=America/Chicago:20260424T110000
DTEND;TZID=America/Chicago:20260424T235900
DTSTAMP:20260424T063321
CREATED:20251228T151358Z
LAST-MODIFIED:20260417T151947Z
UID:10003423-1777028400-1777075140@stayinmcallen.com
SUMMARY:UTRGV Women's Track & Field  Michael Johnson Invitational
DESCRIPTION:UTRGV Women’s Track & Field  Michael Johnson Invitational
URL:https://stayinmcallen.com/events/utrgv-womens-track-field-michael-johnson-invitational-2/
LOCATION:Waco\, Texas
CATEGORIES:UTRGV Athletics
END:VEVENT
BEGIN:VEVENT
DTSTART;TZID=America/Chicago:20260424T110000
DTEND;TZID=America/Chicago:20260424T235900
DTSTAMP:20260424T063321
CREATED:20251228T151402Z
LAST-MODIFIED:20260417T151950Z
UID:10003424-1777028400-1777075140@stayinmcallen.com
SUMMARY:UTRGV Men's Track & Field  Michael Johnson Invitational
DESCRIPTION:UTRGV Men’s Track & Field  Michael Johnson Invitational
URL:https://stayinmcallen.com/events/utrgv-mens-track-field-michael-johnson-invitational-2/
LOCATION:Waco\, Texas
CATEGORIES:UTRGV Athletics
END:VEVENT
BEGIN:VEVENT
DTSTART;TZID=America/Chicago:20260424T180000
DTEND;TZID=America/Chicago:20260424T210000
DTSTAMP:20260424T063321
CREATED:20250830T061033Z
LAST-MODIFIED:20260417T151954Z
UID:10003078-1777053600-1777064400@stayinmcallen.com
SUMMARY:UTRGV Baseball at McNeese
DESCRIPTION:UTRGV Baseball at McNeese\nStreaming Video: https://www.southland.org/espn\nStreaming Audio: https://www.southland.org/watch
URL:https://stayinmcallen.com/events/utrgv-baseball-at-mcneese/
LOCATION:Lake Charles\, La.\, Joe Miller Ballpark
CATEGORIES:UTRGV Athletics
END:VEVENT
BEGIN:VEVENT
DTSTART;TZID=America/Chicago:20260425T140000
DTEND;TZID=America/Chicago:20260425T170000
DTSTAMP:20260424T063321
CREATED:20250830T061040Z
LAST-MODIFIED:20260417T151958Z
UID:10003079-1777125600-1777136400@stayinmcallen.com
SUMMARY:UTRGV Baseball at McNeese
DESCRIPTION:UTRGV Baseball at McNeese\nStreaming Video: https://www.southland.org/espn\nStreaming Audio: https://www.southland.org/watch
URL:https://stayinmcallen.com/events/utrgv-baseball-at-mcneese-2/
LOCATION:Lake Charles\, La.\, Joe Miller Ballpark
CATEGORIES:UTRGV Athletics
END:VEVENT
BEGIN:VEVENT
DTSTART;TZID=America/Chicago:20260426T130000
DTEND;TZID=America/Chicago:20260426T160000
DTSTAMP:20260424T063321
CREATED:20250830T061045Z
LAST-MODIFIED:20260417T152003Z
UID:10003080-1777208400-1777219200@stayinmcallen.com
SUMMARY:UTRGV Baseball at McNeese
DESCRIPTION:UTRGV Baseball at McNeese\nStreaming Video: https://www.southland.org/espn\nStreaming Audio: https://www.southland.org/watch
URL:https://stayinmcallen.com/events/utrgv-baseball-at-mcneese-3/
LOCATION:Lake Charles\, La.\, Joe Miller Ballpark
CATEGORIES:UTRGV Athletics
END:VEVENT
END:VCALENDAR