BEGIN:VCALENDAR
VERSION:2.0
PRODID:-//Stayinmcallen - ECPv6.15.20//NONSGML v1.0//EN
CALSCALE:GREGORIAN
METHOD:PUBLISH
X-ORIGINAL-URL:https://stayinmcallen.com
X-WR-CALDESC:Events for Stayinmcallen
REFRESH-INTERVAL;VALUE=DURATION:PT1H
X-Robots-Tag:noindex
X-PUBLISHED-TTL:PT1H
BEGIN:VTIMEZONE
TZID:America/Chicago
BEGIN:DAYLIGHT
TZOFFSETFROM:-0600
TZOFFSETTO:-0500
TZNAME:CDT
DTSTART:20250309T080000
END:DAYLIGHT
BEGIN:STANDARD
TZOFFSETFROM:-0500
TZOFFSETTO:-0600
TZNAME:CST
DTSTART:20251102T070000
END:STANDARD
BEGIN:DAYLIGHT
TZOFFSETFROM:-0600
TZOFFSETTO:-0500
TZNAME:CDT
DTSTART:20260308T080000
END:DAYLIGHT
BEGIN:STANDARD
TZOFFSETFROM:-0500
TZOFFSETTO:-0600
TZNAME:CST
DTSTART:20261101T070000
END:STANDARD
BEGIN:DAYLIGHT
TZOFFSETFROM:-0600
TZOFFSETTO:-0500
TZNAME:CDT
DTSTART:20270314T080000
END:DAYLIGHT
BEGIN:STANDARD
TZOFFSETFROM:-0500
TZOFFSETTO:-0600
TZNAME:CST
DTSTART:20271107T070000
END:STANDARD
END:VTIMEZONE
BEGIN:VEVENT
DTSTART;VALUE=DATE:20260521
DTEND;VALUE=DATE:20260527
DTSTAMP:20260424T052133
CREATED:20250816T050956Z
LAST-MODIFIED:20260417T152148Z
UID:10002973-1779390000-1779821999@stayinmcallen.com
SUMMARY:UTRGV Women's Golf  NCAA Championships
DESCRIPTION:UTRGV Women’s Golf  NCAA Championships
URL:https://stayinmcallen.com/events/utrgv-womens-golf-ncaa-championships-3/
LOCATION:Carlsbad\, Calif.
CATEGORIES:UTRGV Athletics
END:VEVENT
BEGIN:VEVENT
DTSTART;VALUE=DATE:20260526
DTEND;VALUE=DATE:20260530
DTSTAMP:20260424T052133
CREATED:20251228T151619Z
LAST-MODIFIED:20260417T152156Z
UID:10003430-1779822000-1780081199@stayinmcallen.com
SUMMARY:UTRGV Men's Track & Field  NCAA West First Round
DESCRIPTION:UTRGV Men’s Track & Field  NCAA West First Round
URL:https://stayinmcallen.com/events/utrgv-mens-track-field-ncaa-west-first-round-2/
LOCATION:Fayetteville\, Ark.
CATEGORIES:UTRGV Athletics
END:VEVENT
BEGIN:VEVENT
DTSTART;VALUE=DATE:20260526
DTEND;VALUE=DATE:20260530
DTSTAMP:20260424T052133
CREATED:20251228T151623Z
LAST-MODIFIED:20260417T152145Z
UID:10003431-1779822000-1780081199@stayinmcallen.com
SUMMARY:UTRGV Women's Track & Field  NCAA West First Round
DESCRIPTION:UTRGV Women’s Track & Field  NCAA West First Round
URL:https://stayinmcallen.com/events/utrgv-womens-track-field-ncaa-west-first-round-2/
LOCATION:Fayetteville\, Ark.
CATEGORIES:UTRGV Athletics
END:VEVENT
BEGIN:VEVENT
DTSTART;VALUE=DATE:20260528
DTEND;VALUE=DATE:20260530
DTSTAMP:20260424T052133
CREATED:20250830T061209Z
LAST-MODIFIED:20260417T152153Z
UID:10003093-1779994800-1780081199@stayinmcallen.com
SUMMARY:UTRGV Baseball vs First Round
DESCRIPTION:UTRGV Baseball vs First Round\nTV: ESPN Family of Networks\nStreaming Video: https://plus.espn.com/
URL:https://stayinmcallen.com/events/utrgv-baseball-vs-first-round-2/
LOCATION:Campus Sites
CATEGORIES:UTRGV Athletics
END:VEVENT
BEGIN:VEVENT
DTSTART;VALUE=DATE:20260528
DTEND;VALUE=DATE:20260603
DTSTAMP:20260424T052133
CREATED:20250816T051011Z
LAST-MODIFIED:20260417T152141Z
UID:10002975-1779994800-1780426799@stayinmcallen.com
SUMMARY:UTRGV Men's Golf  NCAA Championships
DESCRIPTION:UTRGV Men’s Golf  NCAA Championships
URL:https://stayinmcallen.com/events/utrgv-mens-golf-ncaa-championships-4/
LOCATION:Carlsbad\, Calif.
CATEGORIES:UTRGV Athletics
END:VEVENT
BEGIN:VEVENT
DTSTART;VALUE=DATE:20260529
DTEND;VALUE=DATE:20260531
DTSTAMP:20260424T052133
CREATED:20250830T061205Z
LAST-MODIFIED:20260417T152138Z
UID:10003092-1780081200-1780167599@stayinmcallen.com
SUMMARY:UTRGV Baseball vs Second Round
DESCRIPTION:UTRGV Baseball vs Second Round\nTV: ESPN Family of Networks\nStreaming Video: https://plus.espn.com/
URL:https://stayinmcallen.com/events/utrgv-baseball-vs-second-round-2/
LOCATION:Campus Sites
CATEGORIES:UTRGV Athletics
END:VEVENT
BEGIN:VEVENT
DTSTART;VALUE=DATE:20260530
DTEND;VALUE=DATE:20260601
DTSTAMP:20260424T052133
CREATED:20250830T061219Z
LAST-MODIFIED:20260417T152159Z
UID:10003094-1780167600-1780253999@stayinmcallen.com
SUMMARY:UTRGV Baseball vs Elimination Game (If Necessary)
DESCRIPTION:UTRGV Baseball vs Elimination Game (If Necessary)\nTV: ESPN Family of Networks\nStreaming Video: https://plus.espn.com/
URL:https://stayinmcallen.com/events/utrgv-baseball-vs-elimination-game-if-necessary-5/
LOCATION:Campus Sites
CATEGORIES:UTRGV Athletics
END:VEVENT
BEGIN:VEVENT
DTSTART;VALUE=DATE:20260530
DTEND;VALUE=DATE:20260601
DTSTAMP:20260424T052133
CREATED:20250830T061226Z
LAST-MODIFIED:20260417T152202Z
UID:10003095-1780167600-1780253999@stayinmcallen.com
SUMMARY:UTRGV Baseball vs Championship Game
DESCRIPTION:UTRGV Baseball vs Championship Game\nTV: ESPN Family of Networks\nStreaming Video: https://plus.espn.com/
URL:https://stayinmcallen.com/events/utrgv-baseball-vs-championship-game/
LOCATION:Campus Sites
CATEGORIES:UTRGV Athletics
END:VEVENT
BEGIN:VEVENT
DTSTART;VALUE=DATE:20260531
DTEND;VALUE=DATE:20260602
DTSTAMP:20260424T052133
CREATED:20250830T061231Z
LAST-MODIFIED:20260417T152205Z
UID:10003096-1780254000-1780340399@stayinmcallen.com
SUMMARY:UTRGV Baseball vs Championship Game (If Necessary)
DESCRIPTION:UTRGV Baseball vs Championship Game (If Necessary)\nTV: ESPN Family of Networks\nStreaming Video: https://plus.espn.com/
URL:https://stayinmcallen.com/events/utrgv-baseball-vs-championship-game-if-necessary/
LOCATION:Campus Sites
CATEGORIES:UTRGV Athletics
END:VEVENT
END:VCALENDAR