BEGIN:VCALENDAR
VERSION:2.0
PRODID:-//Stayinmcallen - ECPv6.15.20//NONSGML v1.0//EN
CALSCALE:GREGORIAN
METHOD:PUBLISH
X-ORIGINAL-URL:https://stayinmcallen.com
X-WR-CALDESC:Events for Stayinmcallen
REFRESH-INTERVAL;VALUE=DURATION:PT1H
X-Robots-Tag:noindex
X-PUBLISHED-TTL:PT1H
BEGIN:VTIMEZONE
TZID:America/Chicago
BEGIN:DAYLIGHT
TZOFFSETFROM:-0600
TZOFFSETTO:-0500
TZNAME:CDT
DTSTART:20240310T080000
END:DAYLIGHT
BEGIN:STANDARD
TZOFFSETFROM:-0500
TZOFFSETTO:-0600
TZNAME:CST
DTSTART:20241103T070000
END:STANDARD
BEGIN:DAYLIGHT
TZOFFSETFROM:-0600
TZOFFSETTO:-0500
TZNAME:CDT
DTSTART:20250309T080000
END:DAYLIGHT
BEGIN:STANDARD
TZOFFSETFROM:-0500
TZOFFSETTO:-0600
TZNAME:CST
DTSTART:20251102T070000
END:STANDARD
BEGIN:DAYLIGHT
TZOFFSETFROM:-0600
TZOFFSETTO:-0500
TZNAME:CDT
DTSTART:20260308T080000
END:DAYLIGHT
BEGIN:STANDARD
TZOFFSETFROM:-0500
TZOFFSETTO:-0600
TZNAME:CST
DTSTART:20261101T070000
END:STANDARD
END:VTIMEZONE
BEGIN:VEVENT
DTSTART;TZID=America/Chicago:20250728T090000
DTEND;TZID=America/Chicago:20250801T150000
DTSTAMP:20260425T151154
CREATED:20250707T193507Z
LAST-MODIFIED:20250731T220329Z
UID:10002677-1753693200-1754060400@stayinmcallen.com
SUMMARY:The Power Lab: Forces\, Light & Sound - Operation Imagination Summer Camp
DESCRIPTION:The Power Lab: Forces\, Light & Sound\nFor incoming 6th-8th graders. \nCreate in the power lab as you learn all about forces\, light and sound.Work as a team to construct DIY instruments through reflection\, vibration and more while playing with forces and frequencies. This camp includes Chladni plate experimentation and fun with centripetal force. Dive deep into the IMAS permanent interactive exhibit\, El Estudio.
URL:https://stayinmcallen.com/events/the-power-lab-forces-light-sound-operation-imagination-summer-camp/
LOCATION:IMAS\, 101 W Nolana Ave\, McAllen\, TX\, United States
CATEGORIES:Special Event,IMAS - International Museum of Art & Science,Youth Program
ATTACH;FMTTYPE=image/webp:https://stayinmcallen.com/wp-content/uploads/2025/07/IMAS-OI-Summer-Camp-2025-2-scaled-ak06Sa.webp
GEO:26.238021;-98.212333
X-APPLE-STRUCTURED-LOCATION;VALUE=URI;X-ADDRESS=IMAS 101 W Nolana Ave McAllen TX United States;X-APPLE-RADIUS=500;X-TITLE=101 W Nolana Ave:geo:-98.212333,26.238021
END:VEVENT
BEGIN:VEVENT
DTSTART;TZID=America/Chicago:20250728T090000
DTEND;TZID=America/Chicago:20250801T150000
DTSTAMP:20260425T151154
CREATED:20250707T193518Z
LAST-MODIFIED:20250731T220333Z
UID:10002678-1753693200-1754060400@stayinmcallen.com
SUMMARY:Movie Makers - Operation Imagination Summer Camp
DESCRIPTION:Movie Makers\nFor incoming 6th-8th graders. \nLearn about storyboards\, scripts\, and set design as you create your own cinematic work of art with a team. Work together to act\, voice\, and direct as you explore special movie effects through editing\, make-up\, and costume design.\nReception will be held August 1.
URL:https://stayinmcallen.com/events/movie-makers-operation-imagination-summer-camp-2/
LOCATION:IMAS\, 101 W Nolana Ave\, McAllen\, TX\, United States
CATEGORIES:Special Event,IMAS - International Museum of Art & Science,Youth Program
ATTACH;FMTTYPE=image/jpeg:https://stayinmcallen.com/wp-content/uploads/2024/05/MG_6587-2-scaled-TWaTgm.tmp_.jpg
GEO:26.238021;-98.212333
X-APPLE-STRUCTURED-LOCATION;VALUE=URI;X-ADDRESS=IMAS 101 W Nolana Ave McAllen TX United States;X-APPLE-RADIUS=500;X-TITLE=101 W Nolana Ave:geo:-98.212333,26.238021
END:VEVENT
BEGIN:VEVENT
DTSTART;TZID=America/Chicago:20250810T140000
DTEND;TZID=America/Chicago:20250810T150000
DTSTAMP:20260425T151154
CREATED:20250723T210434Z
LAST-MODIFIED:20250809T224848Z
UID:10002748-1754834400-1754838000@stayinmcallen.com
SUMMARY:Visions of the West: Stories Behind the Art
DESCRIPTION:Join collectors Byron Jay and Keely Lewis for “Visions of the West: Stories Behind the Art” a guided tour through the new IMAS exhibition “Visions of the West: Highlights from the Lewis Collection.” Guests will explore the rich narratives behind selected works from the Lewis Collection\, learning about the artists\, inspirations\, and personal stories that bring each piece to life. From bold landscapes to iconic figures of the American West\, this tour offers a personal\, behind-the-scenes look into the Lewis collection.
URL:https://stayinmcallen.com/events/visions-of-the-west-stories-behind-the-art/
LOCATION:IMAS\, 101 W Nolana Ave\, McAllen\, TX\, United States
CATEGORIES:Special Event,IMAS - International Museum of Art & Science,Youth Program,Adult Program
ATTACH;FMTTYPE=image/webp:https://stayinmcallen.com/wp-content/uploads/2025/07/Visions-of-the-West_Stories-Behind-the-Art_social-square-LnZNhz.webp
GEO:26.238021;-98.212333
X-APPLE-STRUCTURED-LOCATION;VALUE=URI;X-ADDRESS=IMAS 101 W Nolana Ave McAllen TX United States;X-APPLE-RADIUS=500;X-TITLE=101 W Nolana Ave:geo:-98.212333,26.238021
END:VEVENT
BEGIN:VEVENT
DTSTART;TZID=America/Chicago:20250816T100000
DTEND;TZID=America/Chicago:20250816T170000
DTSTAMP:20260425T151154
CREATED:20250409T133549Z
LAST-MODIFIED:20250815T233357Z
UID:10002325-1755338400-1755363600@stayinmcallen.com
SUMMARY:Back to School Bash
DESCRIPTION:SAVE THE DATE\nfor the annual\nBack to School Bash\nat the IMAS\nSaturday\, August 16\, 2025\nPresented by H-E-B Helping Here\, McAllen Public Utility
URL:https://stayinmcallen.com/events/back-to-school-bash-4/
LOCATION:IMAS\, 101 W Nolana Ave\, McAllen\, TX\, United States
CATEGORIES:Special Event,IMAS - International Museum of Art & Science,Youth Program
ATTACH;FMTTYPE=image/webp:https://stayinmcallen.com/wp-content/uploads/2025/06/Back-to-School-2025-1920x1080-1-dTViHt.webp
GEO:26.238021;-98.212333
X-APPLE-STRUCTURED-LOCATION;VALUE=URI;X-ADDRESS=IMAS 101 W Nolana Ave McAllen TX United States;X-APPLE-RADIUS=500;X-TITLE=101 W Nolana Ave:geo:-98.212333,26.238021
END:VEVENT
BEGIN:VEVENT
DTSTART;TZID=America/Chicago:20250831T140000
DTEND;TZID=America/Chicago:20250831T150000
DTSTAMP:20260425T151154
CREATED:20250723T210501Z
LAST-MODIFIED:20250831T004850Z
UID:10002749-1756648800-1756652400@stayinmcallen.com
SUMMARY:Visions of the West: Stories Behind the Art
DESCRIPTION:Join collectors Byron Jay and Keely Lewis for “Visions of the West: Stories Behind the Art” a guided tour through the new IMAS exhibition “Visions of the West: Highlights from the Lewis Collection.” Guests will explore the rich narratives behind selected works from the Lewis Collection\, learning about the artists\, inspirations\, and personal stories that bring each piece to life. From bold landscapes to iconic figures of the American West\, this tour offers a personal\, behind-the-scenes look into the Lewis collection.
URL:https://stayinmcallen.com/events/visions-of-the-west-stories-behind-the-art-2/
LOCATION:IMAS\, 101 W Nolana Ave\, McAllen\, TX\, United States
CATEGORIES:Special Event,IMAS - International Museum of Art & Science,Youth Program,Adult Program
ATTACH;FMTTYPE=image/webp:https://stayinmcallen.com/wp-content/uploads/2025/07/Visions-of-the-West_Stories-Behind-the-Art_social-square-LnZNhz.webp
GEO:26.238021;-98.212333
X-APPLE-STRUCTURED-LOCATION;VALUE=URI;X-ADDRESS=IMAS 101 W Nolana Ave McAllen TX United States;X-APPLE-RADIUS=500;X-TITLE=101 W Nolana Ave:geo:-98.212333,26.238021
END:VEVENT
END:VCALENDAR