BEGIN:VCALENDAR
VERSION:2.0
PRODID:-//Stayinmcallen - ECPv6.15.20//NONSGML v1.0//EN
CALSCALE:GREGORIAN
METHOD:PUBLISH
X-ORIGINAL-URL:https://stayinmcallen.com
X-WR-CALDESC:Events for Stayinmcallen
REFRESH-INTERVAL;VALUE=DURATION:PT1H
X-Robots-Tag:noindex
X-PUBLISHED-TTL:PT1H
BEGIN:VTIMEZONE
TZID:America/Chicago
BEGIN:DAYLIGHT
TZOFFSETFROM:-0600
TZOFFSETTO:-0500
TZNAME:CDT
DTSTART:20240310T080000
END:DAYLIGHT
BEGIN:STANDARD
TZOFFSETFROM:-0500
TZOFFSETTO:-0600
TZNAME:CST
DTSTART:20241103T070000
END:STANDARD
BEGIN:DAYLIGHT
TZOFFSETFROM:-0600
TZOFFSETTO:-0500
TZNAME:CDT
DTSTART:20250309T080000
END:DAYLIGHT
BEGIN:STANDARD
TZOFFSETFROM:-0500
TZOFFSETTO:-0600
TZNAME:CST
DTSTART:20251102T070000
END:STANDARD
BEGIN:DAYLIGHT
TZOFFSETFROM:-0600
TZOFFSETTO:-0500
TZNAME:CDT
DTSTART:20260308T080000
END:DAYLIGHT
BEGIN:STANDARD
TZOFFSETFROM:-0500
TZOFFSETTO:-0600
TZNAME:CST
DTSTART:20261101T070000
END:STANDARD
END:VTIMEZONE
BEGIN:VEVENT
DTSTART;TZID=America/Chicago:20251005T140000
DTEND;TZID=America/Chicago:20251005T150000
DTSTAMP:20260425T120520
CREATED:20250723T210537Z
LAST-MODIFIED:20250929T191844Z
UID:10002750-1759672800-1759676400@stayinmcallen.com
SUMMARY:Visions of the West: Stories Behind the Art
DESCRIPTION:Join collectors Byron Jay and Keely Lewis for “Visions of the West: Stories Behind the Art” a guided tour through the new IMAS exhibition “Visions of the West: Highlights from the Lewis Collection.” Guests will explore the rich narratives behind selected works from the Lewis Collection\, learning about the artists\, inspirations\, and personal stories that bring each piece to life. From bold landscapes to iconic figures of the American West\, this tour offers a personal\, behind-the-scenes look into the Lewis collection.
URL:https://stayinmcallen.com/events/visions-of-the-west-stories-behind-the-art-3/
LOCATION:IMAS\, 101 W Nolana Ave\, McAllen\, TX\, United States
CATEGORIES:Special Event,IMAS - International Museum of Art & Science,Youth Program,Adult Program
ATTACH;FMTTYPE=image/webp:https://stayinmcallen.com/wp-content/uploads/2025/07/Visions-of-the-West_Stories-Behind-the-Art_social-square-LnZNhz.webp
GEO:26.238021;-98.212333
X-APPLE-STRUCTURED-LOCATION;VALUE=URI;X-ADDRESS=IMAS 101 W Nolana Ave McAllen TX United States;X-APPLE-RADIUS=500;X-TITLE=101 W Nolana Ave:geo:-98.212333,26.238021
END:VEVENT
BEGIN:VEVENT
DTSTART;TZID=America/Chicago:20251011T100000
DTEND;TZID=America/Chicago:20251011T170000
DTSTAMP:20260425T120520
CREATED:20250410T133546Z
LAST-MODIFIED:20251009T143754Z
UID:10002336-1760176800-1760202000@stayinmcallen.com
SUMMARY:Dia de los Muertos Festival 2025
DESCRIPTION:SAVE THE DATE\nfor the annual\nDia de los Muertos Festival at the IMAS\nOctober 11\, 2025\n10:00 AM – 5:00 PM\nPresented by H-E-B Helping Here\nEmail vc*****@***********ne.com to participate as a community or education partner.\nEmail jr********@***********ne.com for more information about being a vendor.\nGeneral Admission rates apply\nFree for IMAS Members
URL:https://stayinmcallen.com/events/dia-de-los-muertos-festival-2025/
LOCATION:IMAS\, 101 W Nolana Ave\, McAllen\, TX\, United States
CATEGORIES:Special Event,IMAS - International Museum of Art & Science,Youth Program,Adult Program
ATTACH;FMTTYPE=image/webp:https://stayinmcallen.com/wp-content/uploads/2025/04/DDLM-ballet-folklorico-dHSwED.tmp_.webp
GEO:26.238021;-98.212333
X-APPLE-STRUCTURED-LOCATION;VALUE=URI;X-ADDRESS=IMAS 101 W Nolana Ave McAllen TX United States;X-APPLE-RADIUS=500;X-TITLE=101 W Nolana Ave:geo:-98.212333,26.238021
END:VEVENT
BEGIN:VEVENT
DTSTART;TZID=America/Chicago:20251016T133000
DTEND;TZID=America/Chicago:20251016T144500
DTSTAMP:20260425T120520
CREATED:20250913T021903Z
LAST-MODIFIED:20251016T170753Z
UID:10003137-1760621400-1760625900@stayinmcallen.com
SUMMARY:Homeschool Days - Constellations and Cosmos - Primary
DESCRIPTION:
URL:https://stayinmcallen.com/events/homeschool-days-constellations-and-cosmos-primary/
LOCATION:IMAS\, 101 W Nolana Ave\, McAllen\, TX\, United States
CATEGORIES:Special Event,IMAS - International Museum of Art & Science,Youth Program
ATTACH;FMTTYPE=image/jpeg:https://stayinmcallen.com/wp-content/uploads/2024/08/Homeschool-group-PxlD3Y.tmp_.jpg
GEO:26.238021;-98.212333
X-APPLE-STRUCTURED-LOCATION;VALUE=URI;X-ADDRESS=IMAS 101 W Nolana Ave McAllen TX United States;X-APPLE-RADIUS=500;X-TITLE=101 W Nolana Ave:geo:-98.212333,26.238021
END:VEVENT
BEGIN:VEVENT
DTSTART;TZID=America/Chicago:20251016T151500
DTEND;TZID=America/Chicago:20251016T163000
DTSTAMP:20260425T120520
CREATED:20250913T021907Z
LAST-MODIFIED:20251016T170759Z
UID:10003138-1760627700-1760632200@stayinmcallen.com
SUMMARY:Homeschool Days - Constellations and Cosmos - Secondary
DESCRIPTION:
URL:https://stayinmcallen.com/events/homeschool-days-constellations-and-cosmos-secondary/
LOCATION:IMAS\, 101 W Nolana Ave\, McAllen\, TX\, United States
CATEGORIES:Special Event,IMAS - International Museum of Art & Science,Youth Program
ATTACH;FMTTYPE=image/jpeg:https://stayinmcallen.com/wp-content/uploads/2024/08/Homeschool-group-PxlD3Y.tmp_.jpg
GEO:26.238021;-98.212333
X-APPLE-STRUCTURED-LOCATION;VALUE=URI;X-ADDRESS=IMAS 101 W Nolana Ave McAllen TX United States;X-APPLE-RADIUS=500;X-TITLE=101 W Nolana Ave:geo:-98.212333,26.238021
END:VEVENT
BEGIN:VEVENT
DTSTART;TZID=America/Chicago:20251025T100000
DTEND;TZID=America/Chicago:20251025T120000
DTSTAMP:20260425T120520
CREATED:20250816T233424Z
LAST-MODIFIED:20251025T052441Z
UID:10002976-1761386400-1761393600@stayinmcallen.com
SUMMARY:Girl Scouts Workshop | Cadette - Space Science Researcher
DESCRIPTION:Saturday\,\nOctober 25\n10:00 a.m. – 12:00 p.m.\nCadette – Space Science Researcher: The stars are shining bright! Learn about\nthe science behind light and classify the stars. Create a Newton Disk\, experiment with\nSun Prints\, learn about light pollution and how to conserve the night sky. This workshop\nexcludes Step 4. Attend an IMAS Mysterious Cosmos Family Fun Night to complete all\nsteps!
URL:https://stayinmcallen.com/events/girl-scouts-workshop-cadette-space-science-researcher/
LOCATION:IMAS\, 101 W Nolana Ave\, McAllen\, TX\, United States
CATEGORIES:Special Event,IMAS - International Museum of Art & Science,Youth Program
ATTACH;FMTTYPE=image/webp:https://stayinmcallen.com/wp-content/uploads/2025/08/MG_6833-scaled-A18eYB.webp
GEO:26.238021;-98.212333
X-APPLE-STRUCTURED-LOCATION;VALUE=URI;X-ADDRESS=IMAS 101 W Nolana Ave McAllen TX United States;X-APPLE-RADIUS=500;X-TITLE=101 W Nolana Ave:geo:-98.212333,26.238021
END:VEVENT
END:VCALENDAR